BEGIN:VCALENDAR
VERSION:2.0
PRODID:-//Alki Masonic Lodge #152 - ECPv6.15.20//NONSGML v1.0//EN
CALSCALE:GREGORIAN
METHOD:PUBLISH
X-ORIGINAL-URL:https://alki152.org
X-WR-CALDESC:Events for Alki Masonic Lodge #152
REFRESH-INTERVAL;VALUE=DURATION:PT1H
X-Robots-Tag:noindex
X-PUBLISHED-TTL:PT1H
BEGIN:VTIMEZONE
TZID:America/Los_Angeles
BEGIN:DAYLIGHT
TZOFFSETFROM:-0800
TZOFFSETTO:-0700
TZNAME:PDT
DTSTART:20250309T100000
END:DAYLIGHT
BEGIN:STANDARD
TZOFFSETFROM:-0700
TZOFFSETTO:-0800
TZNAME:PST
DTSTART:20251102T090000
END:STANDARD
BEGIN:DAYLIGHT
TZOFFSETFROM:-0800
TZOFFSETTO:-0700
TZNAME:PDT
DTSTART:20260308T100000
END:DAYLIGHT
BEGIN:STANDARD
TZOFFSETFROM:-0700
TZOFFSETTO:-0800
TZNAME:PST
DTSTART:20261101T090000
END:STANDARD
BEGIN:DAYLIGHT
TZOFFSETFROM:-0800
TZOFFSETTO:-0700
TZNAME:PDT
DTSTART:20270314T100000
END:DAYLIGHT
BEGIN:STANDARD
TZOFFSETFROM:-0700
TZOFFSETTO:-0800
TZNAME:PST
DTSTART:20271107T090000
END:STANDARD
END:VTIMEZONE
BEGIN:VEVENT
DTSTART;TZID=America/Los_Angeles:20261011T120000
DTEND;TZID=America/Los_Angeles:20261011T160000
DTSTAMP:20260423T213052
CREATED:20250923T151416Z
LAST-MODIFIED:20250923T151416Z
UID:13124-1791720000-1791734400@alki152.org
SUMMARY:District 6 Chili Cook off
DESCRIPTION:
URL:https://alki152.org/event/district-6-chili-cook-off-2/
CATEGORIES:Masonic Family
END:VEVENT
BEGIN:VEVENT
DTSTART;TZID=America/Los_Angeles:20261014T073000
DTEND;TZID=America/Los_Angeles:20261014T083000
DTSTAMP:20260423T213052
CREATED:20250801T191519Z
LAST-MODIFIED:20250801T191519Z
UID:13569-1791963000-1791966600@alki152.org
SUMMARY:BNI Professionals
DESCRIPTION:
URL:https://alki152.org/event/bni-professionals-2/2026-10-14/
CATEGORIES:Private Event
END:VEVENT
BEGIN:VEVENT
DTSTART;TZID=America/Los_Angeles:20261015T073000
DTEND;TZID=America/Los_Angeles:20261015T093000
DTSTAMP:20260423T213052
CREATED:20250713T031856Z
LAST-MODIFIED:20250713T031856Z
UID:13607-1792049400-1792056600@alki152.org
SUMMARY:BNI Champions
DESCRIPTION:
URL:https://alki152.org/event/bni-champions-2/2026-10-15/
CATEGORIES:Private Event
END:VEVENT
BEGIN:VEVENT
DTSTART;TZID=America/Los_Angeles:20261015T100000
DTEND;TZID=America/Los_Angeles:20261015T120000
DTSTAMP:20260423T213052
CREATED:20251002T213843Z
LAST-MODIFIED:20251002T213843Z
UID:13196-1792058400-1792065600@alki152.org
SUMMARY:Alki Lodge Social Gathering
DESCRIPTION:Time set aside for members (all Lodges) and friends to gather for social interaction. No set agenda\, no pressure. Chess available. Bring a guitar if you want. Provide a fishing story or two if you must.
URL:https://alki152.org/event/alki-lodge-social-gathering/2026-10-15/
END:VEVENT
BEGIN:VEVENT
DTSTART;TZID=America/Los_Angeles:20261016T170000
DTEND;TZID=America/Los_Angeles:20261016T200000
DTSTAMP:20260423T213052
CREATED:20230123T215034Z
LAST-MODIFIED:20230123T215034Z
UID:12822-1792170000-1792180800@alki152.org
SUMMARY:West Seattle Yacht Club
DESCRIPTION:Contact: Dori Schnelz 206-851-8067\, dmschnelz@gmail.com
URL:https://alki152.org/event/west-seattle-yacht-club-19/2026-10-16/
END:VEVENT
BEGIN:VEVENT
DTSTART;VALUE=DATE:20261017
DTEND;VALUE=DATE:20261018
DTSTAMP:20260423T213052
CREATED:20250807T042140Z
LAST-MODIFIED:20250807T042140Z
UID:13044-1792195200-1792281599@alki152.org
SUMMARY:Grand Court of WA Diabetes Research Benefit
DESCRIPTION:
URL:https://alki152.org/event/grand-court-of-wa-diabetes-research-benefit/
CATEGORIES:Masonic Family
END:VEVENT
END:VCALENDAR