BEGIN:VCALENDAR
VERSION:2.0
PRODID:-//Alki Masonic Lodge #152 - ECPv6.15.20//NONSGML v1.0//EN
CALSCALE:GREGORIAN
METHOD:PUBLISH
X-ORIGINAL-URL:https://alki152.org
X-WR-CALDESC:Events for Alki Masonic Lodge #152
REFRESH-INTERVAL;VALUE=DURATION:PT1H
X-Robots-Tag:noindex
X-PUBLISHED-TTL:PT1H
BEGIN:VTIMEZONE
TZID:America/Los_Angeles
BEGIN:DAYLIGHT
TZOFFSETFROM:-0800
TZOFFSETTO:-0700
TZNAME:PDT
DTSTART:20250309T100000
END:DAYLIGHT
BEGIN:STANDARD
TZOFFSETFROM:-0700
TZOFFSETTO:-0800
TZNAME:PST
DTSTART:20251102T090000
END:STANDARD
BEGIN:DAYLIGHT
TZOFFSETFROM:-0800
TZOFFSETTO:-0700
TZNAME:PDT
DTSTART:20260308T100000
END:DAYLIGHT
BEGIN:STANDARD
TZOFFSETFROM:-0700
TZOFFSETTO:-0800
TZNAME:PST
DTSTART:20261101T090000
END:STANDARD
BEGIN:DAYLIGHT
TZOFFSETFROM:-0800
TZOFFSETTO:-0700
TZNAME:PDT
DTSTART:20270314T100000
END:DAYLIGHT
BEGIN:STANDARD
TZOFFSETFROM:-0700
TZOFFSETTO:-0800
TZNAME:PST
DTSTART:20271107T090000
END:STANDARD
END:VTIMEZONE
BEGIN:VEVENT
DTSTART;VALUE=DATE:20260830
DTEND;VALUE=DATE:20260831
DTSTAMP:20260423T184515
CREATED:20260222T190928Z
LAST-MODIFIED:20260223T034037Z
UID:13481-1788048000-1788134399@alki152.org
SUMMARY:Grand Royal Matron and Patron Reception
DESCRIPTION:
URL:https://alki152.org/event/grand-royal-matt-grand-royal-patrick-reception/
END:VEVENT
BEGIN:VEVENT
DTSTART;TZID=America/Los_Angeles:20260902T073000
DTEND;TZID=America/Los_Angeles:20260902T083000
DTSTAMP:20260423T184515
CREATED:20250801T191519Z
LAST-MODIFIED:20250801T191519Z
UID:13563-1788334200-1788337800@alki152.org
SUMMARY:BNI Professionals
DESCRIPTION:
URL:https://alki152.org/event/bni-professionals-2/2026-09-02/
CATEGORIES:Private Event
END:VEVENT
BEGIN:VEVENT
DTSTART;TZID=America/Los_Angeles:20260903T073000
DTEND;TZID=America/Los_Angeles:20260903T093000
DTSTAMP:20260423T184515
CREATED:20250713T031856Z
LAST-MODIFIED:20250713T031856Z
UID:13601-1788420600-1788427800@alki152.org
SUMMARY:BNI Champions
DESCRIPTION:
URL:https://alki152.org/event/bni-champions-2/2026-09-03/
CATEGORIES:Private Event
END:VEVENT
BEGIN:VEVENT
DTSTART;TZID=America/Los_Angeles:20260903T100000
DTEND;TZID=America/Los_Angeles:20260903T120000
DTSTAMP:20260423T184515
CREATED:20251002T213843Z
LAST-MODIFIED:20251002T213843Z
UID:13190-1788429600-1788436800@alki152.org
SUMMARY:Alki Lodge Social Gathering
DESCRIPTION:Time set aside for members (all Lodges) and friends to gather for social interaction. No set agenda\, no pressure. Chess available. Bring a guitar if you want. Provide a fishing story or two if you must.
URL:https://alki152.org/event/alki-lodge-social-gathering/2026-09-03/
END:VEVENT
BEGIN:VEVENT
DTSTART;TZID=America/Los_Angeles:20260904T160000
DTEND;TZID=America/Los_Angeles:20260904T230000
DTSTAMP:20260423T184515
CREATED:20130628T211109Z
LAST-MODIFIED:20130628T211109Z
UID:12158-1788537600-1788562800@alki152.org
SUMMARY:Amaranth - Alki Court
DESCRIPTION:
URL:https://alki152.org/event/amaranth-westgate-court-2015-12-04-2016-12-02-2017-12-01/2026-09-04/
LOCATION:Alki Masonic Center\, 4736 40th Ave. SW\, Seattle\, WA\, 98116\, United States
CATEGORIES:Masonic Family,Westgate
ORGANIZER;CN="Sue Gibbs":MAILTO:westgateevents21@gmail.com
GEO:47.5600056;-122.3825589
X-APPLE-STRUCTURED-LOCATION;VALUE=URI;X-ADDRESS=Alki Masonic Center 4736 40th Ave. SW Seattle WA 98116 United States;X-APPLE-RADIUS=500;X-TITLE=4736 40th Ave. SW:geo:-122.3825589,47.5600056
END:VEVENT
END:VCALENDAR