BEGIN:VCALENDAR
VERSION:2.0
PRODID:-//Alki Masonic Lodge #152 - ECPv6.15.20//NONSGML v1.0//EN
CALSCALE:GREGORIAN
METHOD:PUBLISH
X-ORIGINAL-URL:https://alki152.org
X-WR-CALDESC:Events for Alki Masonic Lodge #152
REFRESH-INTERVAL;VALUE=DURATION:PT1H
X-Robots-Tag:noindex
X-PUBLISHED-TTL:PT1H
BEGIN:VTIMEZONE
TZID:America/Los_Angeles
BEGIN:DAYLIGHT
TZOFFSETFROM:-0800
TZOFFSETTO:-0700
TZNAME:PDT
DTSTART:20250309T100000
END:DAYLIGHT
BEGIN:STANDARD
TZOFFSETFROM:-0700
TZOFFSETTO:-0800
TZNAME:PST
DTSTART:20251102T090000
END:STANDARD
BEGIN:DAYLIGHT
TZOFFSETFROM:-0800
TZOFFSETTO:-0700
TZNAME:PDT
DTSTART:20260308T100000
END:DAYLIGHT
BEGIN:STANDARD
TZOFFSETFROM:-0700
TZOFFSETTO:-0800
TZNAME:PST
DTSTART:20261101T090000
END:STANDARD
BEGIN:DAYLIGHT
TZOFFSETFROM:-0800
TZOFFSETTO:-0700
TZNAME:PDT
DTSTART:20270314T100000
END:DAYLIGHT
BEGIN:STANDARD
TZOFFSETFROM:-0700
TZOFFSETTO:-0800
TZNAME:PST
DTSTART:20271107T090000
END:STANDARD
END:VTIMEZONE
BEGIN:VEVENT
DTSTART;TZID=America/Los_Angeles:20260816T140000
DTEND;TZID=America/Los_Angeles:20260816T220000
DTSTAMP:20260423T200343
CREATED:20190319T034811Z
LAST-MODIFIED:20190319T034811Z
UID:12136-1786888800-1786917600@alki152.org
SUMMARY:Seattle Swing Dance
DESCRIPTION:
URL:https://alki152.org/event/seattle-swing-dance/2026-08-16/
LOCATION:Alki Masonic Center\, 4736 40th Ave. SW\, Seattle\, WA\, 98116\, United States
CATEGORIES:Private Event
GEO:47.5600056;-122.3825589
X-APPLE-STRUCTURED-LOCATION;VALUE=URI;X-ADDRESS=Alki Masonic Center 4736 40th Ave. SW Seattle WA 98116 United States;X-APPLE-RADIUS=500;X-TITLE=4736 40th Ave. SW:geo:-122.3825589,47.5600056
END:VEVENT
BEGIN:VEVENT
DTSTART;TZID=America/Los_Angeles:20260819T073000
DTEND;TZID=America/Los_Angeles:20260819T083000
DTSTAMP:20260423T200343
CREATED:20250801T191519Z
LAST-MODIFIED:20250801T191519Z
UID:13561-1787124600-1787128200@alki152.org
SUMMARY:BNI Professionals
DESCRIPTION:
URL:https://alki152.org/event/bni-professionals-2/2026-08-19/
CATEGORIES:Private Event
END:VEVENT
BEGIN:VEVENT
DTSTART;TZID=America/Los_Angeles:20260820T073000
DTEND;TZID=America/Los_Angeles:20260820T093000
DTSTAMP:20260423T200343
CREATED:20250713T031856Z
LAST-MODIFIED:20250713T031856Z
UID:13599-1787211000-1787218200@alki152.org
SUMMARY:BNI Champions
DESCRIPTION:
URL:https://alki152.org/event/bni-champions-2/2026-08-20/
CATEGORIES:Private Event
END:VEVENT
BEGIN:VEVENT
DTSTART;TZID=America/Los_Angeles:20260820T100000
DTEND;TZID=America/Los_Angeles:20260820T120000
DTSTAMP:20260423T200343
CREATED:20251002T213843Z
LAST-MODIFIED:20251002T213843Z
UID:13188-1787220000-1787227200@alki152.org
SUMMARY:Alki Lodge Social Gathering
DESCRIPTION:Time set aside for members (all Lodges) and friends to gather for social interaction. No set agenda\, no pressure. Chess available. Bring a guitar if you want. Provide a fishing story or two if you must.
URL:https://alki152.org/event/alki-lodge-social-gathering/2026-08-20/
END:VEVENT
BEGIN:VEVENT
DTSTART;TZID=America/Los_Angeles:20260822T100000
DTEND;TZID=America/Los_Angeles:20260822T180000
DTSTAMP:20260423T200343
CREATED:20251121T160835Z
LAST-MODIFIED:20260222T190754Z
UID:13387-1787392800-1787421600@alki152.org
SUMMARY:Grand Worthy Matron Reception
DESCRIPTION:
URL:https://alki152.org/event/grand-worthy-matron-reception/
CATEGORIES:Masonic Family
END:VEVENT
END:VCALENDAR