BEGIN:VCALENDAR
VERSION:2.0
PRODID:-//Alki Masonic Lodge #152 - ECPv6.15.20//NONSGML v1.0//EN
CALSCALE:GREGORIAN
METHOD:PUBLISH
X-WR-CALNAME:Alki Masonic Lodge #152
X-ORIGINAL-URL:https://alki152.org
X-WR-CALDESC:Events for Alki Masonic Lodge #152
REFRESH-INTERVAL;VALUE=DURATION:PT1H
X-Robots-Tag:noindex
X-PUBLISHED-TTL:PT1H
BEGIN:VTIMEZONE
TZID:America/Los_Angeles
BEGIN:DAYLIGHT
TZOFFSETFROM:-0800
TZOFFSETTO:-0700
TZNAME:PDT
DTSTART:20250309T100000
END:DAYLIGHT
BEGIN:STANDARD
TZOFFSETFROM:-0700
TZOFFSETTO:-0800
TZNAME:PST
DTSTART:20251102T090000
END:STANDARD
BEGIN:DAYLIGHT
TZOFFSETFROM:-0800
TZOFFSETTO:-0700
TZNAME:PDT
DTSTART:20260308T100000
END:DAYLIGHT
BEGIN:STANDARD
TZOFFSETFROM:-0700
TZOFFSETTO:-0800
TZNAME:PST
DTSTART:20261101T090000
END:STANDARD
BEGIN:DAYLIGHT
TZOFFSETFROM:-0800
TZOFFSETTO:-0700
TZNAME:PDT
DTSTART:20270314T100000
END:DAYLIGHT
BEGIN:STANDARD
TZOFFSETFROM:-0700
TZOFFSETTO:-0800
TZNAME:PST
DTSTART:20271107T090000
END:STANDARD
END:VTIMEZONE
BEGIN:VEVENT
DTSTART;TZID=America/Los_Angeles:20260705T080000
DTEND;TZID=America/Los_Angeles:20260705T100000
DTSTAMP:20260423T154609
CREATED:20250921T160251Z
LAST-MODIFIED:20250921T160251Z
UID:13107-1783238400-1783245600@alki152.org
SUMMARY:Alki Lodge #152 First Sunday Breakfast
DESCRIPTION:
URL:https://alki152.org/event/alki-lodge-152-first-sunday-breakfast-4/
CATEGORIES:Masonic Family,Public Event
END:VEVENT
BEGIN:VEVENT
DTSTART;TZID=America/Los_Angeles:20260705T140000
DTEND;TZID=America/Los_Angeles:20260705T220000
DTSTAMP:20260423T154609
CREATED:20190319T034811Z
LAST-MODIFIED:20190319T034811Z
UID:12125-1783260000-1783288800@alki152.org
SUMMARY:Seattle Swing Dance
DESCRIPTION:
URL:https://alki152.org/event/seattle-swing-dance/2026-07-05/
LOCATION:Alki Masonic Center\, 4736 40th Ave. SW\, Seattle\, WA\, 98116\, United States
CATEGORIES:Private Event
GEO:47.5600056;-122.3825589
X-APPLE-STRUCTURED-LOCATION;VALUE=URI;X-ADDRESS=Alki Masonic Center 4736 40th Ave. SW Seattle WA 98116 United States;X-APPLE-RADIUS=500;X-TITLE=4736 40th Ave. SW:geo:-122.3825589,47.5600056
END:VEVENT
BEGIN:VEVENT
DTSTART;TZID=America/Los_Angeles:20260706T183000
DTEND;TZID=America/Los_Angeles:20260706T213000
DTSTAMP:20260423T154609
CREATED:20241118T202924Z
LAST-MODIFIED:20241118T202924Z
UID:12073-1783362600-1783373400@alki152.org
SUMMARY:Alki Lodge #152
DESCRIPTION:
URL:https://alki152.org/event/alki-lodge-152/2026-07-06/
CATEGORIES:Alki Lodge
END:VEVENT
BEGIN:VEVENT
DTSTART;TZID=America/Los_Angeles:20260708T073000
DTEND;TZID=America/Los_Angeles:20260708T083000
DTSTAMP:20260423T154609
CREATED:20250801T191519Z
LAST-MODIFIED:20250801T191519Z
UID:13556-1783495800-1783499400@alki152.org
SUMMARY:BNI Professionals
DESCRIPTION:
URL:https://alki152.org/event/bni-professionals-2/2026-07-08/
CATEGORIES:Private Event
END:VEVENT
BEGIN:VEVENT
DTSTART;TZID=America/Los_Angeles:20260709T073000
DTEND;TZID=America/Los_Angeles:20260709T093000
DTSTAMP:20260423T154609
CREATED:20250713T031856Z
LAST-MODIFIED:20260329T213321Z
UID:13000-1783582200-1783589400@alki152.org
SUMMARY:BNI Champions
DESCRIPTION:
URL:https://alki152.org/event/bni-champions-2/2026-07-09/
CATEGORIES:Private Event
END:VEVENT
BEGIN:VEVENT
DTSTART;TZID=America/Los_Angeles:20260709T100000
DTEND;TZID=America/Los_Angeles:20260709T120000
DTSTAMP:20260423T154609
CREATED:20251002T213843Z
LAST-MODIFIED:20251002T213843Z
UID:13182-1783591200-1783598400@alki152.org
SUMMARY:Alki Lodge Social Gathering
DESCRIPTION:Time set aside for members (all Lodges) and friends to gather for social interaction. No set agenda\, no pressure. Chess available. Bring a guitar if you want. Provide a fishing story or two if you must.
URL:https://alki152.org/event/alki-lodge-social-gathering/2026-07-09/
END:VEVENT
BEGIN:VEVENT
DTSTART;TZID=America/Los_Angeles:20260710T170000
DTEND;TZID=America/Los_Angeles:20260710T220000
DTSTAMP:20260423T154609
CREATED:20230328T145554Z
LAST-MODIFIED:20230328T145554Z
UID:12174-1783702800-1783720800@alki152.org
SUMMARY:Rainbow Girls
DESCRIPTION:
URL:https://alki152.org/event/rainbow-girls-34/2026-07-10/
CATEGORIES:Masonic Family
END:VEVENT
BEGIN:VEVENT
DTSTART;TZID=America/Los_Angeles:20260711T140000
DTEND;TZID=America/Los_Angeles:20260711T220000
DTSTAMP:20260423T154609
CREATED:20260326T223257Z
LAST-MODIFIED:20260326T223257Z
UID:13514-1783778400-1783807200@alki152.org
SUMMARY:Family Reunion
DESCRIPTION:Johnston
URL:https://alki152.org/event/family-reunion/
CATEGORIES:Private Event
END:VEVENT
END:VCALENDAR