BEGIN:VCALENDAR
VERSION:2.0
PRODID:-//Alki Masonic Lodge #152 - ECPv6.15.20//NONSGML v1.0//EN
CALSCALE:GREGORIAN
METHOD:PUBLISH
X-WR-CALNAME:Alki Masonic Lodge #152
X-ORIGINAL-URL:https://alki152.org
X-WR-CALDESC:Events for Alki Masonic Lodge #152
REFRESH-INTERVAL;VALUE=DURATION:PT1H
X-Robots-Tag:noindex
X-PUBLISHED-TTL:PT1H
BEGIN:VTIMEZONE
TZID:America/Los_Angeles
BEGIN:DAYLIGHT
TZOFFSETFROM:-0800
TZOFFSETTO:-0700
TZNAME:PDT
DTSTART:20250309T100000
END:DAYLIGHT
BEGIN:STANDARD
TZOFFSETFROM:-0700
TZOFFSETTO:-0800
TZNAME:PST
DTSTART:20251102T090000
END:STANDARD
BEGIN:DAYLIGHT
TZOFFSETFROM:-0800
TZOFFSETTO:-0700
TZNAME:PDT
DTSTART:20260308T100000
END:DAYLIGHT
BEGIN:STANDARD
TZOFFSETFROM:-0700
TZOFFSETTO:-0800
TZNAME:PST
DTSTART:20261101T090000
END:STANDARD
BEGIN:DAYLIGHT
TZOFFSETFROM:-0800
TZOFFSETTO:-0700
TZNAME:PDT
DTSTART:20270314T100000
END:DAYLIGHT
BEGIN:STANDARD
TZOFFSETFROM:-0700
TZOFFSETTO:-0800
TZNAME:PST
DTSTART:20271107T090000
END:STANDARD
END:VTIMEZONE
BEGIN:VEVENT
DTSTART;TZID=America/Los_Angeles:20260621T140000
DTEND;TZID=America/Los_Angeles:20260621T220000
DTSTAMP:20260423T142931
CREATED:20190319T034811Z
LAST-MODIFIED:20190319T034811Z
UID:12134-1782050400-1782079200@alki152.org
SUMMARY:Seattle Swing Dance
DESCRIPTION:
URL:https://alki152.org/event/seattle-swing-dance/2026-06-21/
LOCATION:Alki Masonic Center\, 4736 40th Ave. SW\, Seattle\, WA\, 98116\, United States
CATEGORIES:Private Event
GEO:47.5600056;-122.3825589
X-APPLE-STRUCTURED-LOCATION;VALUE=URI;X-ADDRESS=Alki Masonic Center 4736 40th Ave. SW Seattle WA 98116 United States;X-APPLE-RADIUS=500;X-TITLE=4736 40th Ave. SW:geo:-122.3825589,47.5600056
END:VEVENT
BEGIN:VEVENT
DTSTART;TZID=America/Los_Angeles:20260624T073000
DTEND;TZID=America/Los_Angeles:20260624T083000
DTSTAMP:20260423T142931
CREATED:20250801T191519Z
LAST-MODIFIED:20250801T191519Z
UID:13555-1782286200-1782289800@alki152.org
SUMMARY:BNI Professionals
DESCRIPTION:
URL:https://alki152.org/event/bni-professionals-2/2026-06-24/
CATEGORIES:Private Event
END:VEVENT
BEGIN:VEVENT
DTSTART;TZID=America/Los_Angeles:20260625T073000
DTEND;TZID=America/Los_Angeles:20260625T093000
DTSTAMP:20260423T142931
CREATED:20250713T031856Z
LAST-MODIFIED:20260329T213320Z
UID:12998-1782372600-1782379800@alki152.org
SUMMARY:BNI Champions
DESCRIPTION:
URL:https://alki152.org/event/bni-champions-2/2026-06-25/
CATEGORIES:Private Event
END:VEVENT
BEGIN:VEVENT
DTSTART;TZID=America/Los_Angeles:20260625T100000
DTEND;TZID=America/Los_Angeles:20260625T120000
DTSTAMP:20260423T142931
CREATED:20251002T213843Z
LAST-MODIFIED:20251002T213843Z
UID:13180-1782381600-1782388800@alki152.org
SUMMARY:Alki Lodge Social Gathering
DESCRIPTION:Time set aside for members (all Lodges) and friends to gather for social interaction. No set agenda\, no pressure. Chess available. Bring a guitar if you want. Provide a fishing story or two if you must.
URL:https://alki152.org/event/alki-lodge-social-gathering/2026-06-25/
END:VEVENT
BEGIN:VEVENT
DTSTART;TZID=America/Los_Angeles:20260626T170000
DTEND;TZID=America/Los_Angeles:20260626T220000
DTSTAMP:20260423T142931
CREATED:20230123T211944Z
LAST-MODIFIED:20230123T211944Z
UID:12165-1782493200-1782511200@alki152.org
SUMMARY:Rainbow Girls
DESCRIPTION:
URL:https://alki152.org/event/rainbow-girls-33/2026-06-26/
CATEGORIES:Masonic Family
END:VEVENT
BEGIN:VEVENT
DTSTART;TZID=America/Los_Angeles:20260627T070000
DTEND;TZID=America/Los_Angeles:20260627T233000
DTSTAMP:20260423T142931
CREATED:20260327T000936Z
LAST-MODIFIED:20260327T000936Z
UID:13516-1782543600-1782603000@alki152.org
SUMMARY:Graduation Party
DESCRIPTION:
URL:https://alki152.org/event/graduation-party-8/
CATEGORIES:Private Event
END:VEVENT
BEGIN:VEVENT
DTSTART;TZID=America/Los_Angeles:20260627T100000
DTEND;TZID=America/Los_Angeles:20260627T233000
DTSTAMP:20260423T142931
CREATED:20260326T223147Z
LAST-MODIFIED:20260326T223147Z
UID:13512-1782554400-1782603000@alki152.org
SUMMARY:Graduation Party
DESCRIPTION:Najad
URL:https://alki152.org/event/graduation-party-6/
CATEGORIES:Private Event
END:VEVENT
END:VCALENDAR