BEGIN:VCALENDAR
VERSION:2.0
PRODID:-//Alki Masonic Lodge #152 - ECPv6.15.20//NONSGML v1.0//EN
CALSCALE:GREGORIAN
METHOD:PUBLISH
X-WR-CALNAME:Alki Masonic Lodge #152
X-ORIGINAL-URL:https://alki152.org
X-WR-CALDESC:Events for Alki Masonic Lodge #152
REFRESH-INTERVAL;VALUE=DURATION:PT1H
X-Robots-Tag:noindex
X-PUBLISHED-TTL:PT1H
BEGIN:VTIMEZONE
TZID:America/Los_Angeles
BEGIN:DAYLIGHT
TZOFFSETFROM:-0800
TZOFFSETTO:-0700
TZNAME:PDT
DTSTART:20250309T100000
END:DAYLIGHT
BEGIN:STANDARD
TZOFFSETFROM:-0700
TZOFFSETTO:-0800
TZNAME:PST
DTSTART:20251102T090000
END:STANDARD
BEGIN:DAYLIGHT
TZOFFSETFROM:-0800
TZOFFSETTO:-0700
TZNAME:PDT
DTSTART:20260308T100000
END:DAYLIGHT
BEGIN:STANDARD
TZOFFSETFROM:-0700
TZOFFSETTO:-0800
TZNAME:PST
DTSTART:20261101T090000
END:STANDARD
BEGIN:DAYLIGHT
TZOFFSETFROM:-0800
TZOFFSETTO:-0700
TZNAME:PDT
DTSTART:20270314T100000
END:DAYLIGHT
BEGIN:STANDARD
TZOFFSETFROM:-0700
TZOFFSETTO:-0800
TZNAME:PST
DTSTART:20271107T090000
END:STANDARD
END:VTIMEZONE
BEGIN:VEVENT
DTSTART;TZID=America/Los_Angeles:20260330T110000
DTEND;TZID=America/Los_Angeles:20260330T160000
DTSTAMP:20260423T135354
CREATED:20251121T160606Z
LAST-MODIFIED:20251121T160606Z
UID:13383-1774868400-1774886400@alki152.org
SUMMARY:AARP Tax Preparation
DESCRIPTION:
URL:https://alki152.org/event/aarp-tax-preparation/2026-03-30/
CATEGORIES:Public Event
END:VEVENT
BEGIN:VEVENT
DTSTART;TZID=America/Los_Angeles:20260401T073000
DTEND;TZID=America/Los_Angeles:20260401T083000
DTSTAMP:20260423T135354
CREATED:20250801T191519Z
LAST-MODIFIED:20260329T212959Z
UID:13021-1775028600-1775032200@alki152.org
SUMMARY:BNI Professionals
DESCRIPTION:
URL:https://alki152.org/event/bni-professionals-2/2026-04-01/
CATEGORIES:Private Event
END:VEVENT
BEGIN:VEVENT
DTSTART;TZID=America/Los_Angeles:20260402T073000
DTEND;TZID=America/Los_Angeles:20260402T093000
DTSTAMP:20260423T135354
CREATED:20250713T031856Z
LAST-MODIFIED:20260329T213319Z
UID:12986-1775115000-1775122200@alki152.org
SUMMARY:BNI Champions
DESCRIPTION:
URL:https://alki152.org/event/bni-champions-2/2026-04-02/
CATEGORIES:Private Event
END:VEVENT
BEGIN:VEVENT
DTSTART;TZID=America/Los_Angeles:20260402T100000
DTEND;TZID=America/Los_Angeles:20260402T120000
DTSTAMP:20260423T135354
CREATED:20251002T213843Z
LAST-MODIFIED:20251002T213843Z
UID:13168-1775124000-1775131200@alki152.org
SUMMARY:Alki Lodge Social Gathering
DESCRIPTION:Time set aside for members (all Lodges) and friends to gather for social interaction. No set agenda\, no pressure. Chess available. Bring a guitar if you want. Provide a fishing story or two if you must.
URL:https://alki152.org/event/alki-lodge-social-gathering/2026-04-02/
END:VEVENT
BEGIN:VEVENT
DTSTART;TZID=America/Los_Angeles:20260403T160000
DTEND;TZID=America/Los_Angeles:20260403T230000
DTSTAMP:20260423T135354
CREATED:20130628T211109Z
LAST-MODIFIED:20130628T211109Z
UID:12153-1775232000-1775257200@alki152.org
SUMMARY:Amaranth - Alki Court
DESCRIPTION:
URL:https://alki152.org/event/amaranth-westgate-court-2015-12-04-2016-12-02-2017-12-01/2026-04-03/
LOCATION:Alki Masonic Center\, 4736 40th Ave. SW\, Seattle\, WA\, 98116\, United States
CATEGORIES:Masonic Family,Westgate
ORGANIZER;CN="Sue Gibbs":MAILTO:westgateevents21@gmail.com
GEO:47.5600056;-122.3825589
X-APPLE-STRUCTURED-LOCATION;VALUE=URI;X-ADDRESS=Alki Masonic Center 4736 40th Ave. SW Seattle WA 98116 United States;X-APPLE-RADIUS=500;X-TITLE=4736 40th Ave. SW:geo:-122.3825589,47.5600056
END:VEVENT
BEGIN:VEVENT
DTSTART;VALUE=DATE:20260404
DTEND;VALUE=DATE:20260405
DTSTAMP:20260423T135354
CREATED:20250425T010407Z
LAST-MODIFIED:20250425T010407Z
UID:12837-1775260800-1775347199@alki152.org
SUMMARY:Alki Court Installation
DESCRIPTION:
URL:https://alki152.org/event/alki-court-installation-4/
CATEGORIES:Alki Court,Masonic Family
END:VEVENT
END:VCALENDAR