BEGIN:VCALENDAR
VERSION:2.0
PRODID:-//Alki Masonic Lodge #152 - ECPv6.15.20//NONSGML v1.0//EN
CALSCALE:GREGORIAN
METHOD:PUBLISH
X-WR-CALNAME:Alki Masonic Lodge #152
X-ORIGINAL-URL:https://alki152.org
X-WR-CALDESC:Events for Alki Masonic Lodge #152
REFRESH-INTERVAL;VALUE=DURATION:PT1H
X-Robots-Tag:noindex
X-PUBLISHED-TTL:PT1H
BEGIN:VTIMEZONE
TZID:America/Los_Angeles
BEGIN:DAYLIGHT
TZOFFSETFROM:-0800
TZOFFSETTO:-0700
TZNAME:PDT
DTSTART:20250309T100000
END:DAYLIGHT
BEGIN:STANDARD
TZOFFSETFROM:-0700
TZOFFSETTO:-0800
TZNAME:PST
DTSTART:20251102T090000
END:STANDARD
BEGIN:DAYLIGHT
TZOFFSETFROM:-0800
TZOFFSETTO:-0700
TZNAME:PDT
DTSTART:20260308T100000
END:DAYLIGHT
BEGIN:STANDARD
TZOFFSETFROM:-0700
TZOFFSETTO:-0800
TZNAME:PST
DTSTART:20261101T090000
END:STANDARD
BEGIN:DAYLIGHT
TZOFFSETFROM:-0800
TZOFFSETTO:-0700
TZNAME:PDT
DTSTART:20270314T100000
END:DAYLIGHT
BEGIN:STANDARD
TZOFFSETFROM:-0700
TZOFFSETTO:-0800
TZNAME:PST
DTSTART:20271107T090000
END:STANDARD
END:VTIMEZONE
BEGIN:VEVENT
DTSTART;TZID=America/Los_Angeles:20260301T080000
DTEND;TZID=America/Los_Angeles:20260301T100000
DTSTAMP:20260423T135341
CREATED:20250920T140401Z
LAST-MODIFIED:20250920T140401Z
UID:13095-1772352000-1772359200@alki152.org
SUMMARY:Alki Lodge #152 First Sunday Breakfast
DESCRIPTION:
URL:https://alki152.org/event/alki-lodge-152-first-sunday-breakfast-2/
CATEGORIES:Masonic Family,Public Event
END:VEVENT
BEGIN:VEVENT
DTSTART;TZID=America/Los_Angeles:20260301T140000
DTEND;TZID=America/Los_Angeles:20260301T220000
DTSTAMP:20260423T135341
CREATED:20190319T034811Z
LAST-MODIFIED:20190319T034811Z
UID:12121-1772373600-1772402400@alki152.org
SUMMARY:Seattle Swing Dance
DESCRIPTION:
URL:https://alki152.org/event/seattle-swing-dance/2026-03-01/
LOCATION:Alki Masonic Center\, 4736 40th Ave. SW\, Seattle\, WA\, 98116\, United States
CATEGORIES:Private Event
GEO:47.5600056;-122.3825589
X-APPLE-STRUCTURED-LOCATION;VALUE=URI;X-ADDRESS=Alki Masonic Center 4736 40th Ave. SW Seattle WA 98116 United States;X-APPLE-RADIUS=500;X-TITLE=4736 40th Ave. SW:geo:-122.3825589,47.5600056
END:VEVENT
BEGIN:VEVENT
DTSTART;TZID=America/Los_Angeles:20260302T110000
DTEND;TZID=America/Los_Angeles:20260302T160000
DTSTAMP:20260423T135341
CREATED:20251121T160606Z
LAST-MODIFIED:20251121T160606Z
UID:13379-1772449200-1772467200@alki152.org
SUMMARY:AARP Tax Preparation
DESCRIPTION:
URL:https://alki152.org/event/aarp-tax-preparation/2026-03-02/
CATEGORIES:Public Event
END:VEVENT
BEGIN:VEVENT
DTSTART;TZID=America/Los_Angeles:20260302T183000
DTEND;TZID=America/Los_Angeles:20260302T213000
DTSTAMP:20260423T135341
CREATED:20241118T202924Z
LAST-MODIFIED:20241118T202924Z
UID:12069-1772476200-1772487000@alki152.org
SUMMARY:Alki Lodge #152
DESCRIPTION:
URL:https://alki152.org/event/alki-lodge-152/2026-03-02/
CATEGORIES:Alki Lodge
END:VEVENT
BEGIN:VEVENT
DTSTART;TZID=America/Los_Angeles:20260304T073000
DTEND;TZID=America/Los_Angeles:20260304T083000
DTSTAMP:20260423T135341
CREATED:20250801T191519Z
LAST-MODIFIED:20260329T212959Z
UID:13020-1772609400-1772613000@alki152.org
SUMMARY:BNI Professionals
DESCRIPTION:
URL:https://alki152.org/event/bni-professionals-2/2026-03-04/
CATEGORIES:Private Event
END:VEVENT
BEGIN:VEVENT
DTSTART;TZID=America/Los_Angeles:20260305T073000
DTEND;TZID=America/Los_Angeles:20260305T093000
DTSTAMP:20260423T135341
CREATED:20250713T031856Z
LAST-MODIFIED:20260329T213318Z
UID:12982-1772695800-1772703000@alki152.org
SUMMARY:BNI Champions
DESCRIPTION:
URL:https://alki152.org/event/bni-champions-2/2026-03-05/
CATEGORIES:Private Event
END:VEVENT
BEGIN:VEVENT
DTSTART;TZID=America/Los_Angeles:20260305T100000
DTEND;TZID=America/Los_Angeles:20260305T120000
DTSTAMP:20260423T135341
CREATED:20251002T213843Z
LAST-MODIFIED:20251002T213843Z
UID:13164-1772704800-1772712000@alki152.org
SUMMARY:Alki Lodge Social Gathering
DESCRIPTION:Time set aside for members (all Lodges) and friends to gather for social interaction. No set agenda\, no pressure. Chess available. Bring a guitar if you want. Provide a fishing story or two if you must.
URL:https://alki152.org/event/alki-lodge-social-gathering/2026-03-05/
END:VEVENT
BEGIN:VEVENT
DTSTART;TZID=America/Los_Angeles:20260306T160000
DTEND;TZID=America/Los_Angeles:20260306T230000
DTSTAMP:20260423T135341
CREATED:20130628T211109Z
LAST-MODIFIED:20130628T211109Z
UID:12152-1772812800-1772838000@alki152.org
SUMMARY:Amaranth - Alki Court
DESCRIPTION:
URL:https://alki152.org/event/amaranth-westgate-court-2015-12-04-2016-12-02-2017-12-01/2026-03-06/
LOCATION:Alki Masonic Center\, 4736 40th Ave. SW\, Seattle\, WA\, 98116\, United States
CATEGORIES:Masonic Family,Westgate
ORGANIZER;CN="Sue Gibbs":MAILTO:westgateevents21@gmail.com
GEO:47.5600056;-122.3825589
X-APPLE-STRUCTURED-LOCATION;VALUE=URI;X-ADDRESS=Alki Masonic Center 4736 40th Ave. SW Seattle WA 98116 United States;X-APPLE-RADIUS=500;X-TITLE=4736 40th Ave. SW:geo:-122.3825589,47.5600056
END:VEVENT
BEGIN:VEVENT
DTSTART;VALUE=DATE:20260307
DTEND;VALUE=DATE:20260308
DTSTAMP:20260423T135341
CREATED:20250921T014145Z
LAST-MODIFIED:20250921T014145Z
UID:13105-1772841600-1772927999@alki152.org
SUMMARY:International Order of the Rainbow Girls Grand Officer Reception
DESCRIPTION:
URL:https://alki152.org/event/international-order-of-the-rainbow-girls-grand-officer-reception/
CATEGORIES:Masonic Family,Rainbow
END:VEVENT
END:VCALENDAR