BEGIN:VCALENDAR
VERSION:2.0
PRODID:-//Alki Masonic Lodge #152 - ECPv6.15.20//NONSGML v1.0//EN
CALSCALE:GREGORIAN
METHOD:PUBLISH
X-WR-CALNAME:Alki Masonic Lodge #152
X-ORIGINAL-URL:https://alki152.org
X-WR-CALDESC:Events for Alki Masonic Lodge #152
REFRESH-INTERVAL;VALUE=DURATION:PT1H
X-Robots-Tag:noindex
X-PUBLISHED-TTL:PT1H
BEGIN:VTIMEZONE
TZID:America/Los_Angeles
BEGIN:DAYLIGHT
TZOFFSETFROM:-0800
TZOFFSETTO:-0700
TZNAME:PDT
DTSTART:20250309T100000
END:DAYLIGHT
BEGIN:STANDARD
TZOFFSETFROM:-0700
TZOFFSETTO:-0800
TZNAME:PST
DTSTART:20251102T090000
END:STANDARD
BEGIN:DAYLIGHT
TZOFFSETFROM:-0800
TZOFFSETTO:-0700
TZNAME:PDT
DTSTART:20260308T100000
END:DAYLIGHT
BEGIN:STANDARD
TZOFFSETFROM:-0700
TZOFFSETTO:-0800
TZNAME:PST
DTSTART:20261101T090000
END:STANDARD
BEGIN:DAYLIGHT
TZOFFSETFROM:-0800
TZOFFSETTO:-0700
TZNAME:PDT
DTSTART:20270314T100000
END:DAYLIGHT
BEGIN:STANDARD
TZOFFSETFROM:-0700
TZOFFSETTO:-0800
TZNAME:PST
DTSTART:20271107T090000
END:STANDARD
END:VTIMEZONE
BEGIN:VEVENT
DTSTART;TZID=America/Los_Angeles:20260125T120000
DTEND;TZID=America/Los_Angeles:20260125T180000
DTSTAMP:20260423T152911
CREATED:20260109T164537Z
LAST-MODIFIED:20260109T164547Z
UID:13446-1769342400-1769364000@alki152.org
SUMMARY:Welcome Court International Dinner
DESCRIPTION:
URL:https://alki152.org/event/welceme-court-international-dinner/
CATEGORIES:Masonic Family
END:VEVENT
BEGIN:VEVENT
DTSTART;TZID=America/Los_Angeles:20260127T160000
DTEND;TZID=America/Los_Angeles:20260127T200000
DTSTAMP:20260423T152912
CREATED:20240417T153708Z
LAST-MODIFIED:20240417T153708Z
UID:12654-1769529600-1769544000@alki152.org
SUMMARY:Amethyst Chapter Eastern Star Meeting
DESCRIPTION:
URL:https://alki152.org/event/amethyst-chapter-eastern-star-meeting/2026-01-27/
CATEGORIES:Masonic Family
END:VEVENT
BEGIN:VEVENT
DTSTART;TZID=America/Los_Angeles:20260128T073000
DTEND;TZID=America/Los_Angeles:20260128T083000
DTSTAMP:20260423T152912
CREATED:20250801T191519Z
LAST-MODIFIED:20250801T191519Z
UID:13539-1769585400-1769589000@alki152.org
SUMMARY:BNI Professionals
DESCRIPTION:
URL:https://alki152.org/event/bni-professionals-2/2026-01-28/
CATEGORIES:Private Event
END:VEVENT
BEGIN:VEVENT
DTSTART;TZID=America/Los_Angeles:20260129T073000
DTEND;TZID=America/Los_Angeles:20260129T093000
DTSTAMP:20260423T152912
CREATED:20250713T031856Z
LAST-MODIFIED:20260329T213317Z
UID:12977-1769671800-1769679000@alki152.org
SUMMARY:BNI Champions
DESCRIPTION:
URL:https://alki152.org/event/bni-champions-2/2026-01-29/
CATEGORIES:Private Event
END:VEVENT
BEGIN:VEVENT
DTSTART;TZID=America/Los_Angeles:20260129T100000
DTEND;TZID=America/Los_Angeles:20260129T120000
DTSTAMP:20260423T152912
CREATED:20251002T213843Z
LAST-MODIFIED:20251002T213843Z
UID:13159-1769680800-1769688000@alki152.org
SUMMARY:Alki Lodge Social Gathering
DESCRIPTION:Time set aside for members (all Lodges) and friends to gather for social interaction. No set agenda\, no pressure. Chess available. Bring a guitar if you want. Provide a fishing story or two if you must.
URL:https://alki152.org/event/alki-lodge-social-gathering/2026-01-29/
END:VEVENT
BEGIN:VEVENT
DTSTART;TZID=America/Los_Angeles:20260131T160000
DTEND;TZID=America/Los_Angeles:20260131T190000
DTSTAMP:20260423T152912
CREATED:20250919T133510Z
LAST-MODIFIED:20250919T133510Z
UID:13089-1769875200-1769886000@alki152.org
SUMMARY:Alki Lodge Seafood Feast
DESCRIPTION:
URL:https://alki152.org/event/alki-lodge-seafood-feast/
CATEGORIES:Masonic Family,Public Event
END:VEVENT
END:VCALENDAR