BEGIN:VCALENDAR
VERSION:2.0
PRODID:-//Alki Masonic Lodge #152 - ECPv6.15.20//NONSGML v1.0//EN
CALSCALE:GREGORIAN
METHOD:PUBLISH
X-WR-CALNAME:Alki Masonic Lodge #152
X-ORIGINAL-URL:https://alki152.org
X-WR-CALDESC:Events for Alki Masonic Lodge #152
REFRESH-INTERVAL;VALUE=DURATION:PT1H
X-Robots-Tag:noindex
X-PUBLISHED-TTL:PT1H
BEGIN:VTIMEZONE
TZID:America/Los_Angeles
BEGIN:DAYLIGHT
TZOFFSETFROM:-0800
TZOFFSETTO:-0700
TZNAME:PDT
DTSTART:20240310T100000
END:DAYLIGHT
BEGIN:STANDARD
TZOFFSETFROM:-0700
TZOFFSETTO:-0800
TZNAME:PST
DTSTART:20241103T090000
END:STANDARD
BEGIN:DAYLIGHT
TZOFFSETFROM:-0800
TZOFFSETTO:-0700
TZNAME:PDT
DTSTART:20250309T100000
END:DAYLIGHT
BEGIN:STANDARD
TZOFFSETFROM:-0700
TZOFFSETTO:-0800
TZNAME:PST
DTSTART:20251102T090000
END:STANDARD
BEGIN:DAYLIGHT
TZOFFSETFROM:-0800
TZOFFSETTO:-0700
TZNAME:PDT
DTSTART:20260308T100000
END:DAYLIGHT
BEGIN:STANDARD
TZOFFSETFROM:-0700
TZOFFSETTO:-0800
TZNAME:PST
DTSTART:20261101T090000
END:STANDARD
BEGIN:DAYLIGHT
TZOFFSETFROM:-0800
TZOFFSETTO:-0700
TZNAME:PDT
DTSTART:20270314T100000
END:DAYLIGHT
BEGIN:STANDARD
TZOFFSETFROM:-0700
TZOFFSETTO:-0800
TZNAME:PST
DTSTART:20271107T090000
END:STANDARD
END:VTIMEZONE
BEGIN:VEVENT
DTSTART;TZID=America/Los_Angeles:20251231T073000
DTEND;TZID=America/Los_Angeles:20251231T083000
DTSTAMP:20260423T163449
CREATED:20250801T191519Z
LAST-MODIFIED:20250801T191519Z
UID:13536-1767166200-1767169800@alki152.org
SUMMARY:BNI Professionals
DESCRIPTION:
URL:https://alki152.org/event/bni-professionals-2/2025-12-31/
CATEGORIES:Private Event
END:VEVENT
BEGIN:VEVENT
DTSTART;TZID=America/Los_Angeles:20251231T160000
DTEND;TZID=America/Los_Angeles:20251231T200000
DTSTAMP:20260423T163449
CREATED:20241128T160017Z
LAST-MODIFIED:20241128T160017Z
UID:12481-1767196800-1767211200@alki152.org
SUMMARY:West Seattle Performing Arts
DESCRIPTION:
URL:https://alki152.org/event/west-seattle-performing-arts/2025-12-31/
CATEGORIES:Private Event
END:VEVENT
BEGIN:VEVENT
DTSTART;TZID=America/Los_Angeles:20260101T073000
DTEND;TZID=America/Los_Angeles:20260101T093000
DTSTAMP:20260423T163449
CREATED:20250713T031856Z
LAST-MODIFIED:20260329T213317Z
UID:12973-1767252600-1767259800@alki152.org
SUMMARY:BNI Champions
DESCRIPTION:
URL:https://alki152.org/event/bni-champions-2/2026-01-01/
CATEGORIES:Private Event
END:VEVENT
BEGIN:VEVENT
DTSTART;TZID=America/Los_Angeles:20260101T100000
DTEND;TZID=America/Los_Angeles:20260101T120000
DTSTAMP:20260423T163449
CREATED:20251002T213843Z
LAST-MODIFIED:20251002T213843Z
UID:13155-1767261600-1767268800@alki152.org
SUMMARY:Alki Lodge Social Gathering
DESCRIPTION:Time set aside for members (all Lodges) and friends to gather for social interaction. No set agenda\, no pressure. Chess available. Bring a guitar if you want. Provide a fishing story or two if you must.
URL:https://alki152.org/event/alki-lodge-social-gathering/2026-01-01/
END:VEVENT
BEGIN:VEVENT
DTSTART;TZID=America/Los_Angeles:20260101T160000
DTEND;TZID=America/Los_Angeles:20260101T200000
DTSTAMP:20260423T163449
CREATED:20241128T160151Z
LAST-MODIFIED:20241128T160151Z
UID:12539-1767283200-1767297600@alki152.org
SUMMARY:West Seattle Performing Arts
DESCRIPTION:
URL:https://alki152.org/event/west-seattle-performing-arts-2/2026-01-01/
CATEGORIES:Private Event
END:VEVENT
BEGIN:VEVENT
DTSTART;TZID=America/Los_Angeles:20260102T160000
DTEND;TZID=America/Los_Angeles:20260102T230000
DTSTAMP:20260423T163449
CREATED:20130628T211109Z
LAST-MODIFIED:20130628T211109Z
UID:11819-1767369600-1767394800@alki152.org
SUMMARY:Amaranth - Alki Court
DESCRIPTION:
URL:https://alki152.org/event/amaranth-westgate-court-2015-12-04-2016-12-02-2017-12-01/2026-01-02/
LOCATION:Alki Masonic Center\, 4736 40th Ave. SW\, Seattle\, WA\, 98116\, United States
CATEGORIES:Masonic Family,Westgate
ORGANIZER;CN="Sue Gibbs":MAILTO:westgateevents21@gmail.com
GEO:47.5600056;-122.3825589
X-APPLE-STRUCTURED-LOCATION;VALUE=URI;X-ADDRESS=Alki Masonic Center 4736 40th Ave. SW Seattle WA 98116 United States;X-APPLE-RADIUS=500;X-TITLE=4736 40th Ave. SW:geo:-122.3825589,47.5600056
END:VEVENT
END:VCALENDAR