BEGIN:VCALENDAR
VERSION:2.0
PRODID:-//Alki Masonic Lodge #152 - ECPv6.15.20//NONSGML v1.0//EN
CALSCALE:GREGORIAN
METHOD:PUBLISH
X-ORIGINAL-URL:https://alki152.org
X-WR-CALDESC:Events for Alki Masonic Lodge #152
REFRESH-INTERVAL;VALUE=DURATION:PT1H
X-Robots-Tag:noindex
X-PUBLISHED-TTL:PT1H
BEGIN:VTIMEZONE
TZID:America/Los_Angeles
BEGIN:DAYLIGHT
TZOFFSETFROM:-0800
TZOFFSETTO:-0700
TZNAME:PDT
DTSTART:20240310T100000
END:DAYLIGHT
BEGIN:STANDARD
TZOFFSETFROM:-0700
TZOFFSETTO:-0800
TZNAME:PST
DTSTART:20241103T090000
END:STANDARD
BEGIN:DAYLIGHT
TZOFFSETFROM:-0800
TZOFFSETTO:-0700
TZNAME:PDT
DTSTART:20250309T100000
END:DAYLIGHT
BEGIN:STANDARD
TZOFFSETFROM:-0700
TZOFFSETTO:-0800
TZNAME:PST
DTSTART:20251102T090000
END:STANDARD
BEGIN:DAYLIGHT
TZOFFSETFROM:-0800
TZOFFSETTO:-0700
TZNAME:PDT
DTSTART:20260308T100000
END:DAYLIGHT
BEGIN:STANDARD
TZOFFSETFROM:-0700
TZOFFSETTO:-0800
TZNAME:PST
DTSTART:20261101T090000
END:STANDARD
END:VTIMEZONE
BEGIN:VEVENT
DTSTART;TZID=America/Los_Angeles:20251221T140000
DTEND;TZID=America/Los_Angeles:20251221T220000
DTSTAMP:20260423T202922
CREATED:20190319T034811Z
LAST-MODIFIED:20190319T034811Z
UID:11821-1766325600-1766354400@alki152.org
SUMMARY:Seattle Swing Dance
DESCRIPTION:
URL:https://alki152.org/event/seattle-swing-dance/2025-12-21/
LOCATION:Alki Masonic Center\, 4736 40th Ave. SW\, Seattle\, WA\, 98116\, United States
CATEGORIES:Private Event
GEO:47.5600056;-122.3825589
X-APPLE-STRUCTURED-LOCATION;VALUE=URI;X-ADDRESS=Alki Masonic Center 4736 40th Ave. SW Seattle WA 98116 United States;X-APPLE-RADIUS=500;X-TITLE=4736 40th Ave. SW:geo:-122.3825589,47.5600056
END:VEVENT
BEGIN:VEVENT
DTSTART;TZID=America/Los_Angeles:20251223T160000
DTEND;TZID=America/Los_Angeles:20251223T200000
DTSTAMP:20260423T202922
CREATED:20240417T153708Z
LAST-MODIFIED:20240417T153708Z
UID:12653-1766505600-1766520000@alki152.org
SUMMARY:Amethyst Chapter Eastern Star Meeting
DESCRIPTION:
URL:https://alki152.org/event/amethyst-chapter-eastern-star-meeting/2025-12-23/
CATEGORIES:Masonic Family
END:VEVENT
BEGIN:VEVENT
DTSTART;TZID=America/Los_Angeles:20251224T073000
DTEND;TZID=America/Los_Angeles:20251224T083000
DTSTAMP:20260423T202922
CREATED:20250801T191519Z
LAST-MODIFIED:20250801T191519Z
UID:13535-1766561400-1766565000@alki152.org
SUMMARY:BNI Professionals
DESCRIPTION:
URL:https://alki152.org/event/bni-professionals-2/2025-12-24/
CATEGORIES:Private Event
END:VEVENT
BEGIN:VEVENT
DTSTART;TZID=America/Los_Angeles:20251224T160000
DTEND;TZID=America/Los_Angeles:20251224T200000
DTSTAMP:20260423T202922
CREATED:20241128T160017Z
LAST-MODIFIED:20241128T160017Z
UID:12480-1766592000-1766606400@alki152.org
SUMMARY:West Seattle Performing Arts
DESCRIPTION:
URL:https://alki152.org/event/west-seattle-performing-arts/2025-12-24/
CATEGORIES:Private Event
END:VEVENT
BEGIN:VEVENT
DTSTART;TZID=America/Los_Angeles:20251225T073000
DTEND;TZID=America/Los_Angeles:20251225T093000
DTSTAMP:20260423T202922
CREATED:20250713T031856Z
LAST-MODIFIED:20260329T213316Z
UID:12972-1766647800-1766655000@alki152.org
SUMMARY:BNI Champions
DESCRIPTION:
URL:https://alki152.org/event/bni-champions-2/2025-12-25/
CATEGORIES:Private Event
END:VEVENT
BEGIN:VEVENT
DTSTART;TZID=America/Los_Angeles:20251225T100000
DTEND;TZID=America/Los_Angeles:20251225T120000
DTSTAMP:20260423T202922
CREATED:20251002T213843Z
LAST-MODIFIED:20251002T213843Z
UID:13154-1766656800-1766664000@alki152.org
SUMMARY:Alki Lodge Social Gathering
DESCRIPTION:Time set aside for members (all Lodges) and friends to gather for social interaction. No set agenda\, no pressure. Chess available. Bring a guitar if you want. Provide a fishing story or two if you must.
URL:https://alki152.org/event/alki-lodge-social-gathering/2025-12-25/
END:VEVENT
BEGIN:VEVENT
DTSTART;TZID=America/Los_Angeles:20251225T160000
DTEND;TZID=America/Los_Angeles:20251225T200000
DTSTAMP:20260423T202922
CREATED:20241128T160151Z
LAST-MODIFIED:20241128T160151Z
UID:12538-1766678400-1766692800@alki152.org
SUMMARY:West Seattle Performing Arts
DESCRIPTION:
URL:https://alki152.org/event/west-seattle-performing-arts-2/2025-12-25/
CATEGORIES:Private Event
END:VEVENT
BEGIN:VEVENT
DTSTART;TZID=America/Los_Angeles:20251226T170000
DTEND;TZID=America/Los_Angeles:20251226T220000
DTSTAMP:20260423T202922
CREATED:20230123T211944Z
LAST-MODIFIED:20230123T211944Z
UID:11809-1766768400-1766786400@alki152.org
SUMMARY:Rainbow Girls
DESCRIPTION:
URL:https://alki152.org/event/rainbow-girls-33/2025-12-26/
CATEGORIES:Masonic Family
END:VEVENT
BEGIN:VEVENT
DTSTART;TZID=America/Los_Angeles:20251227T100000
DTEND;TZID=America/Los_Angeles:20251227T160000
DTSTAMP:20260423T202922
CREATED:20250507T182942Z
LAST-MODIFIED:20250507T182942Z
UID:12861-1766829600-1766851200@alki152.org
SUMMARY:Amethyst Chapter Meeting
DESCRIPTION:
URL:https://alki152.org/event/amethyst-chapter-meeting/
CATEGORIES:Amethyst,Masonic Family
END:VEVENT
BEGIN:VEVENT
DTSTART;TZID=America/Los_Angeles:20251227T180000
DTEND;TZID=America/Los_Angeles:20251227T220000
DTSTAMP:20260423T202922
CREATED:20250512T232907Z
LAST-MODIFIED:20250512T232907Z
UID:12875-1766858400-1766872800@alki152.org
SUMMARY:Annual Festive Board
DESCRIPTION:
URL:https://alki152.org/event/annual-festive-board/
CATEGORIES:Masonic Family
END:VEVENT
BEGIN:VEVENT
DTSTART;TZID=America/Los_Angeles:20251227T180000
DTEND;TZID=America/Los_Angeles:20251227T220000
DTSTAMP:20260423T202922
CREATED:20250919T031848Z
LAST-MODIFIED:20250919T031848Z
UID:13082-1766858400-1766872800@alki152.org
SUMMARY:Annual Festive Board (Saint John the Evangelist's)
DESCRIPTION:
URL:https://alki152.org/event/annual-festive-board-saint-john-the-evangelists/
CATEGORIES:Masonic Family
END:VEVENT
END:VCALENDAR