BEGIN:VCALENDAR
VERSION:2.0
PRODID:-//Alki Masonic Lodge #152 - ECPv6.15.20//NONSGML v1.0//EN
CALSCALE:GREGORIAN
METHOD:PUBLISH
X-ORIGINAL-URL:https://alki152.org
X-WR-CALDESC:Events for Alki Masonic Lodge #152
REFRESH-INTERVAL;VALUE=DURATION:PT1H
X-Robots-Tag:noindex
X-PUBLISHED-TTL:PT1H
BEGIN:VTIMEZONE
TZID:America/Los_Angeles
BEGIN:DAYLIGHT
TZOFFSETFROM:-0800
TZOFFSETTO:-0700
TZNAME:PDT
DTSTART:20240310T100000
END:DAYLIGHT
BEGIN:STANDARD
TZOFFSETFROM:-0700
TZOFFSETTO:-0800
TZNAME:PST
DTSTART:20241103T090000
END:STANDARD
BEGIN:DAYLIGHT
TZOFFSETFROM:-0800
TZOFFSETTO:-0700
TZNAME:PDT
DTSTART:20250309T100000
END:DAYLIGHT
BEGIN:STANDARD
TZOFFSETFROM:-0700
TZOFFSETTO:-0800
TZNAME:PST
DTSTART:20251102T090000
END:STANDARD
BEGIN:DAYLIGHT
TZOFFSETFROM:-0800
TZOFFSETTO:-0700
TZNAME:PDT
DTSTART:20260308T100000
END:DAYLIGHT
BEGIN:STANDARD
TZOFFSETFROM:-0700
TZOFFSETTO:-0800
TZNAME:PST
DTSTART:20261101T090000
END:STANDARD
END:VTIMEZONE
BEGIN:VEVENT
DTSTART;VALUE=DATE:20251123
DTEND;VALUE=DATE:20251124
DTSTAMP:20260424T052417
CREATED:20250725T165708Z
LAST-MODIFIED:20250824T003814Z
UID:13010-1763856000-1763942399@alki152.org
SUMMARY:Perlas Court Gala Fiesta
DESCRIPTION:
URL:https://alki152.org/event/pearless-court-gala-fundraiser/
CATEGORIES:Masonic Family
END:VEVENT
BEGIN:VEVENT
DTSTART;TZID=America/Los_Angeles:20251125T160000
DTEND;TZID=America/Los_Angeles:20251125T200000
DTSTAMP:20260424T052417
CREATED:20240417T153708Z
LAST-MODIFIED:20240417T153708Z
UID:12652-1764086400-1764100800@alki152.org
SUMMARY:Amethyst Chapter Eastern Star Meeting
DESCRIPTION:
URL:https://alki152.org/event/amethyst-chapter-eastern-star-meeting/2025-11-25/
CATEGORIES:Masonic Family
END:VEVENT
BEGIN:VEVENT
DTSTART;TZID=America/Los_Angeles:20251126T073000
DTEND;TZID=America/Los_Angeles:20251126T083000
DTSTAMP:20260424T052417
CREATED:20250801T191519Z
LAST-MODIFIED:20250801T191519Z
UID:13532-1764142200-1764145800@alki152.org
SUMMARY:BNI Professionals
DESCRIPTION:
URL:https://alki152.org/event/bni-professionals-2/2025-11-26/
CATEGORIES:Private Event
END:VEVENT
BEGIN:VEVENT
DTSTART;TZID=America/Los_Angeles:20251126T160000
DTEND;TZID=America/Los_Angeles:20251126T200000
DTSTAMP:20260424T052417
CREATED:20241128T160017Z
LAST-MODIFIED:20241128T160017Z
UID:12476-1764172800-1764187200@alki152.org
SUMMARY:West Seattle Performing Arts
DESCRIPTION:
URL:https://alki152.org/event/west-seattle-performing-arts/2025-11-26/
CATEGORIES:Private Event
END:VEVENT
BEGIN:VEVENT
DTSTART;TZID=America/Los_Angeles:20251127T073000
DTEND;TZID=America/Los_Angeles:20251127T093000
DTSTAMP:20260424T052417
CREATED:20250713T031856Z
LAST-MODIFIED:20260329T213313Z
UID:12968-1764228600-1764235800@alki152.org
SUMMARY:BNI Champions
DESCRIPTION:
URL:https://alki152.org/event/bni-champions-2/2025-11-27/
CATEGORIES:Private Event
END:VEVENT
BEGIN:VEVENT
DTSTART;TZID=America/Los_Angeles:20251127T100000
DTEND;TZID=America/Los_Angeles:20251127T120000
DTSTAMP:20260424T052417
CREATED:20251002T213843Z
LAST-MODIFIED:20251002T213843Z
UID:13149-1764237600-1764244800@alki152.org
SUMMARY:Alki Lodge Social Gathering
DESCRIPTION:Time set aside for members (all Lodges) and friends to gather for social interaction. No set agenda\, no pressure. Chess available. Bring a guitar if you want. Provide a fishing story or two if you must.
URL:https://alki152.org/event/alki-lodge-social-gathering/2025-11-27/
END:VEVENT
BEGIN:VEVENT
DTSTART;TZID=America/Los_Angeles:20251127T160000
DTEND;TZID=America/Los_Angeles:20251127T200000
DTSTAMP:20260424T052417
CREATED:20241128T160151Z
LAST-MODIFIED:20241128T160151Z
UID:12534-1764259200-1764273600@alki152.org
SUMMARY:West Seattle Performing Arts
DESCRIPTION:
URL:https://alki152.org/event/west-seattle-performing-arts-2/2025-11-27/
CATEGORIES:Private Event
END:VEVENT
BEGIN:VEVENT
DTSTART;TZID=America/Los_Angeles:20251128T170000
DTEND;TZID=America/Los_Angeles:20251128T220000
DTSTAMP:20260424T052417
CREATED:20230123T211944Z
LAST-MODIFIED:20230123T211944Z
UID:11765-1764349200-1764367200@alki152.org
SUMMARY:Rainbow Girls
DESCRIPTION:
URL:https://alki152.org/event/rainbow-girls-33/2025-11-28/
CATEGORIES:Masonic Family
END:VEVENT
BEGIN:VEVENT
DTSTART;VALUE=DATE:20251129
DTEND;VALUE=DATE:20251130
DTSTAMP:20260424T052417
CREATED:20251101T225144Z
LAST-MODIFIED:20251101T225144Z
UID:13351-1764374400-1764460799@alki152.org
SUMMARY:Private Party
DESCRIPTION:
URL:https://alki152.org/event/private-party-9/
CATEGORIES:Private Event
END:VEVENT
END:VCALENDAR