BEGIN:VCALENDAR
VERSION:2.0
PRODID:-//Alki Masonic Lodge #152 - ECPv6.15.20//NONSGML v1.0//EN
CALSCALE:GREGORIAN
METHOD:PUBLISH
X-WR-CALNAME:Alki Masonic Lodge #152
X-ORIGINAL-URL:https://alki152.org
X-WR-CALDESC:Events for Alki Masonic Lodge #152
REFRESH-INTERVAL;VALUE=DURATION:PT1H
X-Robots-Tag:noindex
X-PUBLISHED-TTL:PT1H
BEGIN:VTIMEZONE
TZID:America/Los_Angeles
BEGIN:DAYLIGHT
TZOFFSETFROM:-0800
TZOFFSETTO:-0700
TZNAME:PDT
DTSTART:20240310T100000
END:DAYLIGHT
BEGIN:STANDARD
TZOFFSETFROM:-0700
TZOFFSETTO:-0800
TZNAME:PST
DTSTART:20241103T090000
END:STANDARD
BEGIN:DAYLIGHT
TZOFFSETFROM:-0800
TZOFFSETTO:-0700
TZNAME:PDT
DTSTART:20250309T100000
END:DAYLIGHT
BEGIN:STANDARD
TZOFFSETFROM:-0700
TZOFFSETTO:-0800
TZNAME:PST
DTSTART:20251102T090000
END:STANDARD
BEGIN:DAYLIGHT
TZOFFSETFROM:-0800
TZOFFSETTO:-0700
TZNAME:PDT
DTSTART:20260308T100000
END:DAYLIGHT
BEGIN:STANDARD
TZOFFSETFROM:-0700
TZOFFSETTO:-0800
TZNAME:PST
DTSTART:20261101T090000
END:STANDARD
END:VTIMEZONE
BEGIN:VEVENT
DTSTART;TZID=America/Los_Angeles:20251116T140000
DTEND;TZID=America/Los_Angeles:20251116T220000
DTSTAMP:20260423T203301
CREATED:20190319T034811Z
LAST-MODIFIED:20190319T034811Z
UID:11783-1763301600-1763330400@alki152.org
SUMMARY:Seattle Swing Dance
DESCRIPTION:
URL:https://alki152.org/event/seattle-swing-dance/2025-11-16/
LOCATION:Alki Masonic Center\, 4736 40th Ave. SW\, Seattle\, WA\, 98116\, United States
CATEGORIES:Private Event
GEO:47.5600056;-122.3825589
X-APPLE-STRUCTURED-LOCATION;VALUE=URI;X-ADDRESS=Alki Masonic Center 4736 40th Ave. SW Seattle WA 98116 United States;X-APPLE-RADIUS=500;X-TITLE=4736 40th Ave. SW:geo:-122.3825589,47.5600056
END:VEVENT
BEGIN:VEVENT
DTSTART;TZID=America/Los_Angeles:20251117T160000
DTEND;TZID=America/Los_Angeles:20251117T213000
DTSTAMP:20260423T203301
CREATED:20251111T181500Z
LAST-MODIFIED:20251111T181500Z
UID:13366-1763395200-1763415000@alki152.org
SUMMARY:West Seattle Football
DESCRIPTION:
URL:https://alki152.org/event/west-seattle-football/
CATEGORIES:Private Event
END:VEVENT
BEGIN:VEVENT
DTSTART;TZID=America/Los_Angeles:20251119T073000
DTEND;TZID=America/Los_Angeles:20251119T083000
DTSTAMP:20260423T203301
CREATED:20250801T191519Z
LAST-MODIFIED:20250801T191519Z
UID:13531-1763537400-1763541000@alki152.org
SUMMARY:BNI Professionals
DESCRIPTION:
URL:https://alki152.org/event/bni-professionals-2/2025-11-19/
CATEGORIES:Private Event
END:VEVENT
BEGIN:VEVENT
DTSTART;TZID=America/Los_Angeles:20251119T160000
DTEND;TZID=America/Los_Angeles:20251119T200000
DTSTAMP:20260423T203301
CREATED:20241128T160017Z
LAST-MODIFIED:20241128T160017Z
UID:12475-1763568000-1763582400@alki152.org
SUMMARY:West Seattle Performing Arts
DESCRIPTION:
URL:https://alki152.org/event/west-seattle-performing-arts/2025-11-19/
CATEGORIES:Private Event
END:VEVENT
BEGIN:VEVENT
DTSTART;TZID=America/Los_Angeles:20251120T073000
DTEND;TZID=America/Los_Angeles:20251120T093000
DTSTAMP:20260423T203301
CREATED:20250713T031856Z
LAST-MODIFIED:20260329T213313Z
UID:12967-1763623800-1763631000@alki152.org
SUMMARY:BNI Champions
DESCRIPTION:
URL:https://alki152.org/event/bni-champions-2/2025-11-20/
CATEGORIES:Private Event
END:VEVENT
BEGIN:VEVENT
DTSTART;TZID=America/Los_Angeles:20251120T100000
DTEND;TZID=America/Los_Angeles:20251120T120000
DTSTAMP:20260423T203301
CREATED:20251002T213843Z
LAST-MODIFIED:20251002T213843Z
UID:13148-1763632800-1763640000@alki152.org
SUMMARY:Alki Lodge Social Gathering
DESCRIPTION:Time set aside for members (all Lodges) and friends to gather for social interaction. No set agenda\, no pressure. Chess available. Bring a guitar if you want. Provide a fishing story or two if you must.
URL:https://alki152.org/event/alki-lodge-social-gathering/2025-11-20/
END:VEVENT
BEGIN:VEVENT
DTSTART;TZID=America/Los_Angeles:20251120T160000
DTEND;TZID=America/Los_Angeles:20251120T200000
DTSTAMP:20260423T203301
CREATED:20241128T160151Z
LAST-MODIFIED:20241128T160151Z
UID:12533-1763654400-1763668800@alki152.org
SUMMARY:West Seattle Performing Arts
DESCRIPTION:
URL:https://alki152.org/event/west-seattle-performing-arts-2/2025-11-20/
CATEGORIES:Private Event
END:VEVENT
BEGIN:VEVENT
DTSTART;TZID=America/Los_Angeles:20251121T170000
DTEND;TZID=America/Los_Angeles:20251121T200000
DTSTAMP:20260423T203301
CREATED:20230123T215034Z
LAST-MODIFIED:20230123T215034Z
UID:12811-1763744400-1763755200@alki152.org
SUMMARY:West Seattle Yacht Club
DESCRIPTION:Contact: Dori Schnelz 206-851-8067\, dmschnelz@gmail.com
URL:https://alki152.org/event/west-seattle-yacht-club-19/2025-11-21/
END:VEVENT
BEGIN:VEVENT
DTSTART;TZID=America/Los_Angeles:20251122T080000
DTEND;TZID=America/Los_Angeles:20251122T170000
DTSTAMP:20260423T203301
CREATED:20250207T164740Z
LAST-MODIFIED:20250207T164740Z
UID:12615-1763798400-1763830800@alki152.org
SUMMARY:Alki Court Craft Bazaar
DESCRIPTION:
URL:https://alki152.org/event/alki-court-craft-bazaar-2/
CATEGORIES:Masonic Family,Public Event
END:VEVENT
END:VCALENDAR