BEGIN:VCALENDAR
VERSION:2.0
PRODID:-//Alki Masonic Lodge #152 - ECPv6.15.20//NONSGML v1.0//EN
CALSCALE:GREGORIAN
METHOD:PUBLISH
X-WR-CALNAME:Alki Masonic Lodge #152
X-ORIGINAL-URL:https://alki152.org
X-WR-CALDESC:Events for Alki Masonic Lodge #152
REFRESH-INTERVAL;VALUE=DURATION:PT1H
X-Robots-Tag:noindex
X-PUBLISHED-TTL:PT1H
BEGIN:VTIMEZONE
TZID:America/Los_Angeles
BEGIN:DAYLIGHT
TZOFFSETFROM:-0800
TZOFFSETTO:-0700
TZNAME:PDT
DTSTART:20240310T100000
END:DAYLIGHT
BEGIN:STANDARD
TZOFFSETFROM:-0700
TZOFFSETTO:-0800
TZNAME:PST
DTSTART:20241103T090000
END:STANDARD
BEGIN:DAYLIGHT
TZOFFSETFROM:-0800
TZOFFSETTO:-0700
TZNAME:PDT
DTSTART:20250309T100000
END:DAYLIGHT
BEGIN:STANDARD
TZOFFSETFROM:-0700
TZOFFSETTO:-0800
TZNAME:PST
DTSTART:20251102T090000
END:STANDARD
BEGIN:DAYLIGHT
TZOFFSETFROM:-0800
TZOFFSETTO:-0700
TZNAME:PDT
DTSTART:20260308T100000
END:DAYLIGHT
BEGIN:STANDARD
TZOFFSETFROM:-0700
TZOFFSETTO:-0800
TZNAME:PST
DTSTART:20261101T090000
END:STANDARD
END:VTIMEZONE
BEGIN:VEVENT
DTSTART;TZID=America/Los_Angeles:20250907T140000
DTEND;TZID=America/Los_Angeles:20250907T220000
DTSTAMP:20260424T025551
CREATED:20190319T034811Z
LAST-MODIFIED:20190319T034811Z
UID:11697-1757253600-1757282400@alki152.org
SUMMARY:Seattle Swing Dance
DESCRIPTION:
URL:https://alki152.org/event/seattle-swing-dance/2025-09-07/
LOCATION:Alki Masonic Center\, 4736 40th Ave. SW\, Seattle\, WA\, 98116\, United States
CATEGORIES:Private Event
GEO:47.5600056;-122.3825589
X-APPLE-STRUCTURED-LOCATION;VALUE=URI;X-ADDRESS=Alki Masonic Center 4736 40th Ave. SW Seattle WA 98116 United States;X-APPLE-RADIUS=500;X-TITLE=4736 40th Ave. SW:geo:-122.3825589,47.5600056
END:VEVENT
BEGIN:VEVENT
DTSTART;TZID=America/Los_Angeles:20250908T180000
DTEND;TZID=America/Los_Angeles:20250908T213000
DTSTAMP:20260424T025551
CREATED:20250512T233305Z
LAST-MODIFIED:20250512T233305Z
UID:12881-1757354400-1757367000@alki152.org
SUMMARY:Alki Past Masters Night
DESCRIPTION:
URL:https://alki152.org/event/alki-past-masters-night/
CATEGORIES:Alki Lodge
END:VEVENT
BEGIN:VEVENT
DTSTART;TZID=America/Los_Angeles:20250910T073000
DTEND;TZID=America/Los_Angeles:20250910T083000
DTSTAMP:20260424T025551
CREATED:20250801T191519Z
LAST-MODIFIED:20250801T191519Z
UID:13523-1757489400-1757493000@alki152.org
SUMMARY:BNI Professionals
DESCRIPTION:
URL:https://alki152.org/event/bni-professionals-2/2025-09-10/
CATEGORIES:Private Event
END:VEVENT
BEGIN:VEVENT
DTSTART;TZID=America/Los_Angeles:20250910T160000
DTEND;TZID=America/Los_Angeles:20250910T200000
DTSTAMP:20260424T025551
CREATED:20241128T160017Z
LAST-MODIFIED:20241128T160017Z
UID:12465-1757520000-1757534400@alki152.org
SUMMARY:West Seattle Performing Arts
DESCRIPTION:
URL:https://alki152.org/event/west-seattle-performing-arts/2025-09-10/
CATEGORIES:Private Event
END:VEVENT
BEGIN:VEVENT
DTSTART;TZID=America/Los_Angeles:20250911T073000
DTEND;TZID=America/Los_Angeles:20250911T093000
DTSTAMP:20260424T025551
CREATED:20250713T031856Z
LAST-MODIFIED:20260329T213308Z
UID:12956-1757575800-1757583000@alki152.org
SUMMARY:BNI Champions
DESCRIPTION:
URL:https://alki152.org/event/bni-champions-2/2025-09-11/
CATEGORIES:Private Event
END:VEVENT
BEGIN:VEVENT
DTSTART;TZID=America/Los_Angeles:20250911T160000
DTEND;TZID=America/Los_Angeles:20250911T200000
DTSTAMP:20260424T025551
CREATED:20241128T160151Z
LAST-MODIFIED:20241128T160151Z
UID:12523-1757606400-1757620800@alki152.org
SUMMARY:West Seattle Performing Arts
DESCRIPTION:
URL:https://alki152.org/event/west-seattle-performing-arts-2/2025-09-11/
CATEGORIES:Private Event
END:VEVENT
BEGIN:VEVENT
DTSTART;TZID=America/Los_Angeles:20250912T170000
DTEND;TZID=America/Los_Angeles:20250912T220000
DTSTAMP:20260424T025551
CREATED:20230328T145554Z
LAST-MODIFIED:20230328T145554Z
UID:11705-1757696400-1757714400@alki152.org
SUMMARY:Rainbow Girls
DESCRIPTION:
URL:https://alki152.org/event/rainbow-girls-34/2025-09-12/
CATEGORIES:Masonic Family
END:VEVENT
BEGIN:VEVENT
DTSTART;VALUE=DATE:20250913
DTEND;VALUE=DATE:20250914
DTSTAMP:20260424T025551
CREATED:20241128T154745Z
LAST-MODIFIED:20241128T154745Z
UID:12193-1757721600-1757807999@alki152.org
SUMMARY:Northwest Tool Collectors
DESCRIPTION:
URL:https://alki152.org/event/northwest-tool-collectors/2025-09-13/
CATEGORIES:Public Event
END:VEVENT
END:VCALENDAR