BEGIN:VCALENDAR
VERSION:2.0
PRODID:-//Alki Masonic Lodge #152 - ECPv6.15.20//NONSGML v1.0//EN
CALSCALE:GREGORIAN
METHOD:PUBLISH
X-ORIGINAL-URL:https://alki152.org
X-WR-CALDESC:Events for Alki Masonic Lodge #152
REFRESH-INTERVAL;VALUE=DURATION:PT1H
X-Robots-Tag:noindex
X-PUBLISHED-TTL:PT1H
BEGIN:VTIMEZONE
TZID:America/Los_Angeles
BEGIN:DAYLIGHT
TZOFFSETFROM:-0800
TZOFFSETTO:-0700
TZNAME:PDT
DTSTART:20240310T100000
END:DAYLIGHT
BEGIN:STANDARD
TZOFFSETFROM:-0700
TZOFFSETTO:-0800
TZNAME:PST
DTSTART:20241103T090000
END:STANDARD
BEGIN:DAYLIGHT
TZOFFSETFROM:-0800
TZOFFSETTO:-0700
TZNAME:PDT
DTSTART:20250309T100000
END:DAYLIGHT
BEGIN:STANDARD
TZOFFSETFROM:-0700
TZOFFSETTO:-0800
TZNAME:PST
DTSTART:20251102T090000
END:STANDARD
BEGIN:DAYLIGHT
TZOFFSETFROM:-0800
TZOFFSETTO:-0700
TZNAME:PDT
DTSTART:20260308T100000
END:DAYLIGHT
BEGIN:STANDARD
TZOFFSETFROM:-0700
TZOFFSETTO:-0800
TZNAME:PST
DTSTART:20261101T090000
END:STANDARD
END:VTIMEZONE
BEGIN:VEVENT
DTSTART;VALUE=DATE:20250810
DTEND;VALUE=DATE:20250811
DTSTAMP:20260425T071115
CREATED:20250713T031538Z
LAST-MODIFIED:20250713T031538Z
UID:12948-1754784000-1754870399@alki152.org
SUMMARY:Vietnamese Summer Festival
DESCRIPTION:
URL:https://alki152.org/event/vietnamese-summer-festival/
CATEGORIES:Private Event
END:VEVENT
BEGIN:VEVENT
DTSTART;TZID=America/Los_Angeles:20250813T073000
DTEND;TZID=America/Los_Angeles:20250813T083000
DTSTAMP:20260425T071115
CREATED:20250801T191519Z
LAST-MODIFIED:20250801T191519Z
UID:13520-1755070200-1755073800@alki152.org
SUMMARY:BNI Professionals
DESCRIPTION:
URL:https://alki152.org/event/bni-professionals-2/2025-08-13/
CATEGORIES:Private Event
END:VEVENT
BEGIN:VEVENT
DTSTART;TZID=America/Los_Angeles:20250813T160000
DTEND;TZID=America/Los_Angeles:20250813T200000
DTSTAMP:20260425T071115
CREATED:20241128T160017Z
LAST-MODIFIED:20241128T160017Z
UID:12461-1755100800-1755115200@alki152.org
SUMMARY:West Seattle Performing Arts
DESCRIPTION:
URL:https://alki152.org/event/west-seattle-performing-arts/2025-08-13/
CATEGORIES:Private Event
END:VEVENT
BEGIN:VEVENT
DTSTART;TZID=America/Los_Angeles:20250814T073000
DTEND;TZID=America/Los_Angeles:20250814T093000
DTSTAMP:20260425T071115
CREATED:20250713T031856Z
LAST-MODIFIED:20260329T213306Z
UID:12952-1755156600-1755163800@alki152.org
SUMMARY:BNI Champions
DESCRIPTION:
URL:https://alki152.org/event/bni-champions-2/2025-08-14/
CATEGORIES:Private Event
END:VEVENT
BEGIN:VEVENT
DTSTART;TZID=America/Los_Angeles:20250814T160000
DTEND;TZID=America/Los_Angeles:20250814T200000
DTSTAMP:20260425T071115
CREATED:20241128T160151Z
LAST-MODIFIED:20241128T160151Z
UID:12519-1755187200-1755201600@alki152.org
SUMMARY:West Seattle Performing Arts
DESCRIPTION:
URL:https://alki152.org/event/west-seattle-performing-arts-2/2025-08-14/
CATEGORIES:Private Event
END:VEVENT
END:VCALENDAR