BEGIN:VCALENDAR
VERSION:2.0
PRODID:-//Alki Masonic Lodge #152 - ECPv6.15.20//NONSGML v1.0//EN
CALSCALE:GREGORIAN
METHOD:PUBLISH
X-WR-CALNAME:Alki Masonic Lodge #152
X-ORIGINAL-URL:https://alki152.org
X-WR-CALDESC:Events for Alki Masonic Lodge #152
REFRESH-INTERVAL;VALUE=DURATION:PT1H
X-Robots-Tag:noindex
X-PUBLISHED-TTL:PT1H
BEGIN:VTIMEZONE
TZID:America/Los_Angeles
BEGIN:DAYLIGHT
TZOFFSETFROM:-0800
TZOFFSETTO:-0700
TZNAME:PDT
DTSTART:20240310T100000
END:DAYLIGHT
BEGIN:STANDARD
TZOFFSETFROM:-0700
TZOFFSETTO:-0800
TZNAME:PST
DTSTART:20241103T090000
END:STANDARD
BEGIN:DAYLIGHT
TZOFFSETFROM:-0800
TZOFFSETTO:-0700
TZNAME:PDT
DTSTART:20250309T100000
END:DAYLIGHT
BEGIN:STANDARD
TZOFFSETFROM:-0700
TZOFFSETTO:-0800
TZNAME:PST
DTSTART:20251102T090000
END:STANDARD
BEGIN:DAYLIGHT
TZOFFSETFROM:-0800
TZOFFSETTO:-0700
TZNAME:PDT
DTSTART:20260308T100000
END:DAYLIGHT
BEGIN:STANDARD
TZOFFSETFROM:-0700
TZOFFSETTO:-0800
TZNAME:PST
DTSTART:20261101T090000
END:STANDARD
END:VTIMEZONE
BEGIN:VEVENT
DTSTART;TZID=America/Los_Angeles:20250730T160000
DTEND;TZID=America/Los_Angeles:20250730T200000
DTSTAMP:20260424T085920
CREATED:20241128T160017Z
LAST-MODIFIED:20241128T160017Z
UID:12459-1753891200-1753905600@alki152.org
SUMMARY:West Seattle Performing Arts
DESCRIPTION:
URL:https://alki152.org/event/west-seattle-performing-arts/2025-07-30/
CATEGORIES:Private Event
END:VEVENT
BEGIN:VEVENT
DTSTART;TZID=America/Los_Angeles:20250731T073000
DTEND;TZID=America/Los_Angeles:20250731T093000
DTSTAMP:20260424T085920
CREATED:20250713T031856Z
LAST-MODIFIED:20260329T213303Z
UID:12950-1753947000-1753954200@alki152.org
SUMMARY:BNI Champions
DESCRIPTION:
URL:https://alki152.org/event/bni-champions-2/2025-07-31/
CATEGORIES:Private Event
END:VEVENT
BEGIN:VEVENT
DTSTART;TZID=America/Los_Angeles:20250731T080000
DTEND;TZID=America/Los_Angeles:20250731T220000
DTSTAMP:20260424T085920
CREATED:20250531T011546Z
LAST-MODIFIED:20250531T011722Z
UID:12916-1753948800-1753999200@alki152.org
SUMMARY:Fashion Show
DESCRIPTION:
URL:https://alki152.org/event/fashion-show/
END:VEVENT
BEGIN:VEVENT
DTSTART;TZID=America/Los_Angeles:20250731T100000
DTEND;TZID=America/Los_Angeles:20250731T140000
DTSTAMP:20260424T085920
CREATED:20241118T203517Z
LAST-MODIFIED:20241118T203517Z
UID:12115-1753956000-1753970400@alki152.org
SUMMARY:TAMLAC Association
DESCRIPTION:
URL:https://alki152.org/event/tamlac-association-9/2025-07-31/
CATEGORIES:Private Event
END:VEVENT
BEGIN:VEVENT
DTSTART;TZID=America/Los_Angeles:20250731T160000
DTEND;TZID=America/Los_Angeles:20250731T200000
DTSTAMP:20260424T085920
CREATED:20241128T160151Z
LAST-MODIFIED:20241128T160151Z
UID:12517-1753977600-1753992000@alki152.org
SUMMARY:West Seattle Performing Arts
DESCRIPTION:
URL:https://alki152.org/event/west-seattle-performing-arts-2/2025-07-31/
CATEGORIES:Private Event
END:VEVENT
BEGIN:VEVENT
DTSTART;TZID=America/Los_Angeles:20250801T100000
DTEND;TZID=America/Los_Angeles:20250801T220000
DTSTAMP:20260424T085920
CREATED:20250531T011818Z
LAST-MODIFIED:20250531T011818Z
UID:12918-1754042400-1754085600@alki152.org
SUMMARY:Fundraiser Dinner and Entertainment
DESCRIPTION:
URL:https://alki152.org/event/fundraiser-dinner-and-entertainment/
END:VEVENT
BEGIN:VEVENT
DTSTART;TZID=America/Los_Angeles:20250802T140000
DTEND;TZID=America/Los_Angeles:20250802T220000
DTSTAMP:20260424T085920
CREATED:20230123T214146Z
LAST-MODIFIED:20230123T214146Z
UID:11486-1754143200-1754172000@alki152.org
SUMMARY:Lodge Alba Stated Meeting
DESCRIPTION:
URL:https://alki152.org/event/lodge-alba-stated-meeting-10/2025-08-02/
CATEGORIES:Lodge Alba
END:VEVENT
END:VCALENDAR