BEGIN:VCALENDAR
VERSION:2.0
PRODID:-//Alki Masonic Lodge #152 - ECPv6.15.20//NONSGML v1.0//EN
CALSCALE:GREGORIAN
METHOD:PUBLISH
X-ORIGINAL-URL:https://alki152.org
X-WR-CALDESC:Events for Alki Masonic Lodge #152
REFRESH-INTERVAL;VALUE=DURATION:PT1H
X-Robots-Tag:noindex
X-PUBLISHED-TTL:PT1H
BEGIN:VTIMEZONE
TZID:America/Los_Angeles
BEGIN:DAYLIGHT
TZOFFSETFROM:-0800
TZOFFSETTO:-0700
TZNAME:PDT
DTSTART:20240310T100000
END:DAYLIGHT
BEGIN:STANDARD
TZOFFSETFROM:-0700
TZOFFSETTO:-0800
TZNAME:PST
DTSTART:20241103T090000
END:STANDARD
BEGIN:DAYLIGHT
TZOFFSETFROM:-0800
TZOFFSETTO:-0700
TZNAME:PDT
DTSTART:20250309T100000
END:DAYLIGHT
BEGIN:STANDARD
TZOFFSETFROM:-0700
TZOFFSETTO:-0800
TZNAME:PST
DTSTART:20251102T090000
END:STANDARD
BEGIN:DAYLIGHT
TZOFFSETFROM:-0800
TZOFFSETTO:-0700
TZNAME:PDT
DTSTART:20260308T100000
END:DAYLIGHT
BEGIN:STANDARD
TZOFFSETFROM:-0700
TZOFFSETTO:-0800
TZNAME:PST
DTSTART:20261101T090000
END:STANDARD
END:VTIMEZONE
BEGIN:VEVENT
DTSTART;TZID=America/Los_Angeles:20250713T100000
DTEND;TZID=America/Los_Angeles:20250713T220000
DTSTAMP:20260425T071128
CREATED:20250416T031115Z
LAST-MODIFIED:20250416T031115Z
UID:12780-1752400800-1752444000@alki152.org
SUMMARY:Private Event
DESCRIPTION:
URL:https://alki152.org/event/private-event-21/
CATEGORIES:Private Event
END:VEVENT
BEGIN:VEVENT
DTSTART;TZID=America/Los_Angeles:20250716T160000
DTEND;TZID=America/Los_Angeles:20250716T200000
DTSTAMP:20260425T071128
CREATED:20241128T160017Z
LAST-MODIFIED:20241128T160017Z
UID:12457-1752681600-1752696000@alki152.org
SUMMARY:West Seattle Performing Arts
DESCRIPTION:
URL:https://alki152.org/event/west-seattle-performing-arts/2025-07-16/
CATEGORIES:Private Event
END:VEVENT
BEGIN:VEVENT
DTSTART;TZID=America/Los_Angeles:20250717T100000
DTEND;TZID=America/Los_Angeles:20250717T140000
DTSTAMP:20260425T071128
CREATED:20241118T203517Z
LAST-MODIFIED:20241118T203517Z
UID:12113-1752746400-1752760800@alki152.org
SUMMARY:TAMLAC Association
DESCRIPTION:
URL:https://alki152.org/event/tamlac-association-9/2025-07-17/
CATEGORIES:Private Event
END:VEVENT
BEGIN:VEVENT
DTSTART;TZID=America/Los_Angeles:20250717T160000
DTEND;TZID=America/Los_Angeles:20250717T200000
DTSTAMP:20260425T071128
CREATED:20241128T160151Z
LAST-MODIFIED:20241128T160151Z
UID:12515-1752768000-1752782400@alki152.org
SUMMARY:West Seattle Performing Arts
DESCRIPTION:
URL:https://alki152.org/event/west-seattle-performing-arts-2/2025-07-17/
CATEGORIES:Private Event
END:VEVENT
END:VCALENDAR