BEGIN:VCALENDAR
VERSION:2.0
PRODID:-//Alki Masonic Lodge #152 - ECPv6.15.20//NONSGML v1.0//EN
CALSCALE:GREGORIAN
METHOD:PUBLISH
X-WR-CALNAME:Alki Masonic Lodge #152
X-ORIGINAL-URL:https://alki152.org
X-WR-CALDESC:Events for Alki Masonic Lodge #152
REFRESH-INTERVAL;VALUE=DURATION:PT1H
X-Robots-Tag:noindex
X-PUBLISHED-TTL:PT1H
BEGIN:VTIMEZONE
TZID:America/Los_Angeles
BEGIN:DAYLIGHT
TZOFFSETFROM:-0800
TZOFFSETTO:-0700
TZNAME:PDT
DTSTART:20240310T100000
END:DAYLIGHT
BEGIN:STANDARD
TZOFFSETFROM:-0700
TZOFFSETTO:-0800
TZNAME:PST
DTSTART:20241103T090000
END:STANDARD
BEGIN:DAYLIGHT
TZOFFSETFROM:-0800
TZOFFSETTO:-0700
TZNAME:PDT
DTSTART:20250309T100000
END:DAYLIGHT
BEGIN:STANDARD
TZOFFSETFROM:-0700
TZOFFSETTO:-0800
TZNAME:PST
DTSTART:20251102T090000
END:STANDARD
BEGIN:DAYLIGHT
TZOFFSETFROM:-0800
TZOFFSETTO:-0700
TZNAME:PDT
DTSTART:20260308T100000
END:DAYLIGHT
BEGIN:STANDARD
TZOFFSETFROM:-0700
TZOFFSETTO:-0800
TZNAME:PST
DTSTART:20261101T090000
END:STANDARD
END:VTIMEZONE
BEGIN:VEVENT
DTSTART;TZID=America/Los_Angeles:20250706T140000
DTEND;TZID=America/Los_Angeles:20250706T220000
DTSTAMP:20260424T160755
CREATED:20190319T034811Z
LAST-MODIFIED:20190319T034811Z
UID:11480-1751810400-1751839200@alki152.org
SUMMARY:Seattle Swing Dance
DESCRIPTION:
URL:https://alki152.org/event/seattle-swing-dance/2025-07-06/
LOCATION:Alki Masonic Center\, 4736 40th Ave. SW\, Seattle\, WA\, 98116\, United States
CATEGORIES:Private Event
GEO:47.5600056;-122.3825589
X-APPLE-STRUCTURED-LOCATION;VALUE=URI;X-ADDRESS=Alki Masonic Center 4736 40th Ave. SW Seattle WA 98116 United States;X-APPLE-RADIUS=500;X-TITLE=4736 40th Ave. SW:geo:-122.3825589,47.5600056
END:VEVENT
BEGIN:VEVENT
DTSTART;TZID=America/Los_Angeles:20250707T183000
DTEND;TZID=America/Los_Angeles:20250707T213000
DTSTAMP:20260424T160755
CREATED:20241118T202924Z
LAST-MODIFIED:20241118T202924Z
UID:12060-1751913000-1751923800@alki152.org
SUMMARY:Alki Lodge #152
DESCRIPTION:
URL:https://alki152.org/event/alki-lodge-152/2025-07-07/
CATEGORIES:Alki Lodge
END:VEVENT
BEGIN:VEVENT
DTSTART;TZID=America/Los_Angeles:20250709T160000
DTEND;TZID=America/Los_Angeles:20250709T200000
DTSTAMP:20260424T160755
CREATED:20241128T160017Z
LAST-MODIFIED:20241128T160017Z
UID:12456-1752076800-1752091200@alki152.org
SUMMARY:West Seattle Performing Arts
DESCRIPTION:
URL:https://alki152.org/event/west-seattle-performing-arts/2025-07-09/
CATEGORIES:Private Event
END:VEVENT
BEGIN:VEVENT
DTSTART;TZID=America/Los_Angeles:20250710T100000
DTEND;TZID=America/Los_Angeles:20250710T140000
DTSTAMP:20260424T160755
CREATED:20241118T203517Z
LAST-MODIFIED:20241118T203517Z
UID:12112-1752141600-1752156000@alki152.org
SUMMARY:TAMLAC Association
DESCRIPTION:
URL:https://alki152.org/event/tamlac-association-9/2025-07-10/
CATEGORIES:Private Event
END:VEVENT
BEGIN:VEVENT
DTSTART;TZID=America/Los_Angeles:20250710T160000
DTEND;TZID=America/Los_Angeles:20250710T200000
DTSTAMP:20260424T160755
CREATED:20241128T160151Z
LAST-MODIFIED:20241128T160151Z
UID:12514-1752163200-1752177600@alki152.org
SUMMARY:West Seattle Performing Arts
DESCRIPTION:
URL:https://alki152.org/event/west-seattle-performing-arts-2/2025-07-10/
CATEGORIES:Private Event
END:VEVENT
BEGIN:VEVENT
DTSTART;TZID=America/Los_Angeles:20250711T170000
DTEND;TZID=America/Los_Angeles:20250711T220000
DTSTAMP:20260424T160755
CREATED:20230328T145554Z
LAST-MODIFIED:20230328T145554Z
UID:11482-1752253200-1752271200@alki152.org
SUMMARY:Rainbow Girls
DESCRIPTION:
URL:https://alki152.org/event/rainbow-girls-34/2025-07-11/
CATEGORIES:Masonic Family
END:VEVENT
BEGIN:VEVENT
DTSTART;VALUE=DATE:20250712
DTEND;VALUE=DATE:20250713
DTSTAMP:20260424T160755
CREATED:20241128T154745Z
LAST-MODIFIED:20241128T154745Z
UID:12192-1752278400-1752364799@alki152.org
SUMMARY:Northwest Tool Collectors
DESCRIPTION:
URL:https://alki152.org/event/northwest-tool-collectors/2025-07-12/
CATEGORIES:Public Event
END:VEVENT
BEGIN:VEVENT
DTSTART;TZID=America/Los_Angeles:20250712T080000
DTEND;TZID=America/Los_Angeles:20250712T233000
DTSTAMP:20260424T160755
CREATED:20250425T010305Z
LAST-MODIFIED:20250425T010305Z
UID:12835-1752307200-1752363000@alki152.org
SUMMARY:Graduation Party
DESCRIPTION:
URL:https://alki152.org/event/graduation-party-7/
CATEGORIES:Private Event
END:VEVENT
END:VCALENDAR