BEGIN:VCALENDAR
VERSION:2.0
PRODID:-//Alki Masonic Lodge #152 - ECPv6.15.20//NONSGML v1.0//EN
CALSCALE:GREGORIAN
METHOD:PUBLISH
X-ORIGINAL-URL:https://alki152.org
X-WR-CALDESC:Events for Alki Masonic Lodge #152
REFRESH-INTERVAL;VALUE=DURATION:PT1H
X-Robots-Tag:noindex
X-PUBLISHED-TTL:PT1H
BEGIN:VTIMEZONE
TZID:America/Los_Angeles
BEGIN:DAYLIGHT
TZOFFSETFROM:-0800
TZOFFSETTO:-0700
TZNAME:PDT
DTSTART:20240310T100000
END:DAYLIGHT
BEGIN:STANDARD
TZOFFSETFROM:-0700
TZOFFSETTO:-0800
TZNAME:PST
DTSTART:20241103T090000
END:STANDARD
BEGIN:DAYLIGHT
TZOFFSETFROM:-0800
TZOFFSETTO:-0700
TZNAME:PDT
DTSTART:20250309T100000
END:DAYLIGHT
BEGIN:STANDARD
TZOFFSETFROM:-0700
TZOFFSETTO:-0800
TZNAME:PST
DTSTART:20251102T090000
END:STANDARD
BEGIN:DAYLIGHT
TZOFFSETFROM:-0800
TZOFFSETTO:-0700
TZNAME:PDT
DTSTART:20260308T100000
END:DAYLIGHT
BEGIN:STANDARD
TZOFFSETFROM:-0700
TZOFFSETTO:-0800
TZNAME:PST
DTSTART:20261101T090000
END:STANDARD
END:VTIMEZONE
BEGIN:VEVENT
DTSTART;TZID=America/Los_Angeles:20250702T160000
DTEND;TZID=America/Los_Angeles:20250702T200000
DTSTAMP:20260424T090034
CREATED:20241128T160017Z
LAST-MODIFIED:20241128T160017Z
UID:12455-1751472000-1751486400@alki152.org
SUMMARY:West Seattle Performing Arts
DESCRIPTION:
URL:https://alki152.org/event/west-seattle-performing-arts/2025-07-02/
CATEGORIES:Private Event
END:VEVENT
BEGIN:VEVENT
DTSTART;TZID=America/Los_Angeles:20250703T100000
DTEND;TZID=America/Los_Angeles:20250703T140000
DTSTAMP:20260424T090034
CREATED:20241118T203517Z
LAST-MODIFIED:20241118T203517Z
UID:12111-1751536800-1751551200@alki152.org
SUMMARY:TAMLAC Association
DESCRIPTION:
URL:https://alki152.org/event/tamlac-association-9/2025-07-03/
CATEGORIES:Private Event
END:VEVENT
BEGIN:VEVENT
DTSTART;TZID=America/Los_Angeles:20250703T160000
DTEND;TZID=America/Los_Angeles:20250703T200000
DTSTAMP:20260424T090034
CREATED:20241128T160151Z
LAST-MODIFIED:20241128T160151Z
UID:12513-1751558400-1751572800@alki152.org
SUMMARY:West Seattle Performing Arts
DESCRIPTION:
URL:https://alki152.org/event/west-seattle-performing-arts-2/2025-07-03/
CATEGORIES:Private Event
END:VEVENT
BEGIN:VEVENT
DTSTART;TZID=America/Los_Angeles:20250705T080000
DTEND;TZID=America/Los_Angeles:20250705T233000
DTSTAMP:20260424T090034
CREATED:20250313T203256Z
LAST-MODIFIED:20250313T203256Z
UID:12748-1751702400-1751758200@alki152.org
SUMMARY:Lou Quinn Graduation Party
DESCRIPTION:
URL:https://alki152.org/event/lou-quinn-graduation-party/
CATEGORIES:Private Event
END:VEVENT
END:VCALENDAR