BEGIN:VCALENDAR
VERSION:2.0
PRODID:-//Alki Masonic Lodge #152 - ECPv6.15.20//NONSGML v1.0//EN
CALSCALE:GREGORIAN
METHOD:PUBLISH
X-WR-CALNAME:Alki Masonic Lodge #152
X-ORIGINAL-URL:https://alki152.org
X-WR-CALDESC:Events for Alki Masonic Lodge #152
REFRESH-INTERVAL;VALUE=DURATION:PT1H
X-Robots-Tag:noindex
X-PUBLISHED-TTL:PT1H
BEGIN:VTIMEZONE
TZID:America/Los_Angeles
BEGIN:DAYLIGHT
TZOFFSETFROM:-0800
TZOFFSETTO:-0700
TZNAME:PDT
DTSTART:20240310T100000
END:DAYLIGHT
BEGIN:STANDARD
TZOFFSETFROM:-0700
TZOFFSETTO:-0800
TZNAME:PST
DTSTART:20241103T090000
END:STANDARD
BEGIN:DAYLIGHT
TZOFFSETFROM:-0800
TZOFFSETTO:-0700
TZNAME:PDT
DTSTART:20250309T100000
END:DAYLIGHT
BEGIN:STANDARD
TZOFFSETFROM:-0700
TZOFFSETTO:-0800
TZNAME:PST
DTSTART:20251102T090000
END:STANDARD
BEGIN:DAYLIGHT
TZOFFSETFROM:-0800
TZOFFSETTO:-0700
TZNAME:PDT
DTSTART:20260308T100000
END:DAYLIGHT
BEGIN:STANDARD
TZOFFSETFROM:-0700
TZOFFSETTO:-0800
TZNAME:PST
DTSTART:20261101T090000
END:STANDARD
END:VTIMEZONE
BEGIN:VEVENT
DTSTART;TZID=America/Los_Angeles:20250518T140000
DTEND;TZID=America/Los_Angeles:20250518T220000
DTSTAMP:20260425T091637
CREATED:20190319T034811Z
LAST-MODIFIED:20190319T034811Z
UID:11467-1747576800-1747605600@alki152.org
SUMMARY:Seattle Swing Dance
DESCRIPTION:
URL:https://alki152.org/event/seattle-swing-dance/2025-05-18/
LOCATION:Alki Masonic Center\, 4736 40th Ave. SW\, Seattle\, WA\, 98116\, United States
CATEGORIES:Private Event
GEO:47.5600056;-122.3825589
X-APPLE-STRUCTURED-LOCATION;VALUE=URI;X-ADDRESS=Alki Masonic Center 4736 40th Ave. SW Seattle WA 98116 United States;X-APPLE-RADIUS=500;X-TITLE=4736 40th Ave. SW:geo:-122.3825589,47.5600056
END:VEVENT
BEGIN:VEVENT
DTSTART;TZID=America/Los_Angeles:20250519T190000
DTEND;TZID=America/Los_Angeles:20250519T220000
DTSTAMP:20260425T091637
CREATED:20250511T225412Z
LAST-MODIFIED:20250511T225412Z
UID:12873-1747681200-1747692000@alki152.org
SUMMARY:Public Schools Awards Night
DESCRIPTION:
URL:https://alki152.org/event/public-schools-awards-night/
CATEGORIES:Public Event
END:VEVENT
BEGIN:VEVENT
DTSTART;TZID=America/Los_Angeles:20250521T160000
DTEND;TZID=America/Los_Angeles:20250521T200000
DTSTAMP:20260425T091637
CREATED:20241128T160017Z
LAST-MODIFIED:20241128T160017Z
UID:12449-1747843200-1747857600@alki152.org
SUMMARY:West Seattle Performing Arts
DESCRIPTION:
URL:https://alki152.org/event/west-seattle-performing-arts/2025-05-21/
CATEGORIES:Private Event
END:VEVENT
BEGIN:VEVENT
DTSTART;TZID=America/Los_Angeles:20250522T100000
DTEND;TZID=America/Los_Angeles:20250522T140000
DTSTAMP:20260425T091637
CREATED:20241118T203517Z
LAST-MODIFIED:20241118T203517Z
UID:12105-1747908000-1747922400@alki152.org
SUMMARY:TAMLAC Association
DESCRIPTION:
URL:https://alki152.org/event/tamlac-association-9/2025-05-22/
CATEGORIES:Private Event
END:VEVENT
BEGIN:VEVENT
DTSTART;TZID=America/Los_Angeles:20250522T160000
DTEND;TZID=America/Los_Angeles:20250522T200000
DTSTAMP:20260425T091637
CREATED:20241128T160151Z
LAST-MODIFIED:20241128T160151Z
UID:12507-1747929600-1747944000@alki152.org
SUMMARY:West Seattle Performing Arts
DESCRIPTION:
URL:https://alki152.org/event/west-seattle-performing-arts-2/2025-05-22/
CATEGORIES:Private Event
END:VEVENT
BEGIN:VEVENT
DTSTART;TZID=America/Los_Angeles:20250523T080000
DTEND;TZID=America/Los_Angeles:20250523T233000
DTSTAMP:20260425T091637
CREATED:20241128T154243Z
LAST-MODIFIED:20241128T154243Z
UID:12185-1747987200-1748043000@alki152.org
SUMMARY:Private Party
DESCRIPTION:
URL:https://alki152.org/event/private-party-7/
CATEGORIES:Private Event
END:VEVENT
BEGIN:VEVENT
DTSTART;TZID=America/Los_Angeles:20250523T170000
DTEND;TZID=America/Los_Angeles:20250523T220000
DTSTAMP:20260425T091637
CREATED:20230123T211944Z
LAST-MODIFIED:20230123T211944Z
UID:11426-1748019600-1748037600@alki152.org
SUMMARY:Rainbow Girls
DESCRIPTION:
URL:https://alki152.org/event/rainbow-girls-33/2025-05-23/
CATEGORIES:Masonic Family
END:VEVENT
END:VCALENDAR