BEGIN:VCALENDAR
VERSION:2.0
PRODID:-//Alki Masonic Lodge #152 - ECPv6.15.20//NONSGML v1.0//EN
CALSCALE:GREGORIAN
METHOD:PUBLISH
X-ORIGINAL-URL:https://alki152.org
X-WR-CALDESC:Events for Alki Masonic Lodge #152
REFRESH-INTERVAL;VALUE=DURATION:PT1H
X-Robots-Tag:noindex
X-PUBLISHED-TTL:PT1H
BEGIN:VTIMEZONE
TZID:America/Los_Angeles
BEGIN:DAYLIGHT
TZOFFSETFROM:-0800
TZOFFSETTO:-0700
TZNAME:PDT
DTSTART:20250309T100000
END:DAYLIGHT
BEGIN:STANDARD
TZOFFSETFROM:-0700
TZOFFSETTO:-0800
TZNAME:PST
DTSTART:20251102T090000
END:STANDARD
BEGIN:DAYLIGHT
TZOFFSETFROM:-0800
TZOFFSETTO:-0700
TZNAME:PDT
DTSTART:20260308T100000
END:DAYLIGHT
BEGIN:STANDARD
TZOFFSETFROM:-0700
TZOFFSETTO:-0800
TZNAME:PST
DTSTART:20261101T090000
END:STANDARD
BEGIN:DAYLIGHT
TZOFFSETFROM:-0800
TZOFFSETTO:-0700
TZNAME:PDT
DTSTART:20270314T100000
END:DAYLIGHT
BEGIN:STANDARD
TZOFFSETFROM:-0700
TZOFFSETTO:-0800
TZNAME:PST
DTSTART:20271107T090000
END:STANDARD
END:VTIMEZONE
BEGIN:VEVENT
DTSTART;TZID=America/Los_Angeles:20261027T160000
DTEND;TZID=America/Los_Angeles:20261027T200000
DTSTAMP:20260424T094529
CREATED:20240417T153708Z
LAST-MODIFIED:20240417T153708Z
UID:12663-1793116800-1793131200@alki152.org
SUMMARY:Amethyst Chapter Eastern Star Meeting
DESCRIPTION:
URL:https://alki152.org/event/amethyst-chapter-eastern-star-meeting/2026-10-27/
CATEGORIES:Masonic Family
END:VEVENT
BEGIN:VEVENT
DTSTART;TZID=America/Los_Angeles:20261028T073000
DTEND;TZID=America/Los_Angeles:20261028T083000
DTSTAMP:20260424T094529
CREATED:20250801T191519Z
LAST-MODIFIED:20250801T191519Z
UID:13571-1793172600-1793176200@alki152.org
SUMMARY:BNI Professionals
DESCRIPTION:
URL:https://alki152.org/event/bni-professionals-2/2026-10-28/
CATEGORIES:Private Event
END:VEVENT
BEGIN:VEVENT
DTSTART;TZID=America/Los_Angeles:20261029T073000
DTEND;TZID=America/Los_Angeles:20261029T093000
DTSTAMP:20260424T094529
CREATED:20250713T031856Z
LAST-MODIFIED:20250713T031856Z
UID:13609-1793259000-1793266200@alki152.org
SUMMARY:BNI Champions
DESCRIPTION:
URL:https://alki152.org/event/bni-champions-2/2026-10-29/
CATEGORIES:Private Event
END:VEVENT
BEGIN:VEVENT
DTSTART;TZID=America/Los_Angeles:20261029T100000
DTEND;TZID=America/Los_Angeles:20261029T120000
DTSTAMP:20260424T094529
CREATED:20251002T213843Z
LAST-MODIFIED:20251002T213843Z
UID:13198-1793268000-1793275200@alki152.org
SUMMARY:Alki Lodge Social Gathering
DESCRIPTION:Time set aside for members (all Lodges) and friends to gather for social interaction. No set agenda\, no pressure. Chess available. Bring a guitar if you want. Provide a fishing story or two if you must.
URL:https://alki152.org/event/alki-lodge-social-gathering/2026-10-29/
END:VEVENT
BEGIN:VEVENT
DTSTART;TZID=America/Los_Angeles:20261101T080000
DTEND;TZID=America/Los_Angeles:20261101T100000
DTSTAMP:20260424T094529
CREATED:20250923T151251Z
LAST-MODIFIED:20250923T151251Z
UID:13122-1793520000-1793527200@alki152.org
SUMMARY:Alki Lodge #152 First Sunday Breakfast
DESCRIPTION:
URL:https://alki152.org/event/alki-lodge-152-first-sunday-breakfast-6/
CATEGORIES:Masonic Family,Public Event
END:VEVENT
BEGIN:VEVENT
DTSTART;TZID=America/Los_Angeles:20261101T140000
DTEND;TZID=America/Los_Angeles:20261101T220000
DTSTAMP:20260424T094529
CREATED:20190319T034811Z
LAST-MODIFIED:20190319T034811Z
UID:12129-1793541600-1793570400@alki152.org
SUMMARY:Seattle Swing Dance
DESCRIPTION:
URL:https://alki152.org/event/seattle-swing-dance/2026-11-01/
LOCATION:Alki Masonic Center\, 4736 40th Ave. SW\, Seattle\, WA\, 98116\, United States
CATEGORIES:Private Event
GEO:47.5600056;-122.3825589
X-APPLE-STRUCTURED-LOCATION;VALUE=URI;X-ADDRESS=Alki Masonic Center 4736 40th Ave. SW Seattle WA 98116 United States;X-APPLE-RADIUS=500;X-TITLE=4736 40th Ave. SW:geo:-122.3825589,47.5600056
END:VEVENT
BEGIN:VEVENT
DTSTART;TZID=America/Los_Angeles:20261102T183000
DTEND;TZID=America/Los_Angeles:20261102T213000
DTSTAMP:20260424T094529
CREATED:20241118T202924Z
LAST-MODIFIED:20241118T202924Z
UID:12077-1793644200-1793655000@alki152.org
SUMMARY:Alki Lodge #152
DESCRIPTION:
URL:https://alki152.org/event/alki-lodge-152/2026-11-02/
CATEGORIES:Alki Lodge
END:VEVENT
BEGIN:VEVENT
DTSTART;TZID=America/Los_Angeles:20261104T073000
DTEND;TZID=America/Los_Angeles:20261104T083000
DTSTAMP:20260424T094529
CREATED:20250801T191519Z
LAST-MODIFIED:20250801T191519Z
UID:13572-1793777400-1793781000@alki152.org
SUMMARY:BNI Professionals
DESCRIPTION:
URL:https://alki152.org/event/bni-professionals-2/2026-11-04/
CATEGORIES:Private Event
END:VEVENT
BEGIN:VEVENT
DTSTART;TZID=America/Los_Angeles:20261105T073000
DTEND;TZID=America/Los_Angeles:20261105T093000
DTSTAMP:20260424T094529
CREATED:20250713T031856Z
LAST-MODIFIED:20250713T031856Z
UID:13610-1793863800-1793871000@alki152.org
SUMMARY:BNI Champions
DESCRIPTION:
URL:https://alki152.org/event/bni-champions-2/2026-11-05/
CATEGORIES:Private Event
END:VEVENT
BEGIN:VEVENT
DTSTART;TZID=America/Los_Angeles:20261105T100000
DTEND;TZID=America/Los_Angeles:20261105T120000
DTSTAMP:20260424T094529
CREATED:20251002T213843Z
LAST-MODIFIED:20251002T213843Z
UID:13199-1793872800-1793880000@alki152.org
SUMMARY:Alki Lodge Social Gathering
DESCRIPTION:Time set aside for members (all Lodges) and friends to gather for social interaction. No set agenda\, no pressure. Chess available. Bring a guitar if you want. Provide a fishing story or two if you must.
URL:https://alki152.org/event/alki-lodge-social-gathering/2026-11-05/
END:VEVENT
BEGIN:VEVENT
DTSTART;TZID=America/Los_Angeles:20261106T160000
DTEND;TZID=America/Los_Angeles:20261106T230000
DTSTAMP:20260424T094529
CREATED:20130628T211109Z
LAST-MODIFIED:20130628T211109Z
UID:12160-1793980800-1794006000@alki152.org
SUMMARY:Amaranth - Alki Court
DESCRIPTION:
URL:https://alki152.org/event/amaranth-westgate-court-2015-12-04-2016-12-02-2017-12-01/2026-11-06/
LOCATION:Alki Masonic Center\, 4736 40th Ave. SW\, Seattle\, WA\, 98116\, United States
CATEGORIES:Masonic Family,Westgate
ORGANIZER;CN="Sue Gibbs":MAILTO:westgateevents21@gmail.com
GEO:47.5600056;-122.3825589
X-APPLE-STRUCTURED-LOCATION;VALUE=URI;X-ADDRESS=Alki Masonic Center 4736 40th Ave. SW Seattle WA 98116 United States;X-APPLE-RADIUS=500;X-TITLE=4736 40th Ave. SW:geo:-122.3825589,47.5600056
END:VEVENT
BEGIN:VEVENT
DTSTART;TZID=America/Los_Angeles:20261107T140000
DTEND;TZID=America/Los_Angeles:20261107T220000
DTSTAMP:20260424T094529
CREATED:20230123T214146Z
LAST-MODIFIED:20230123T214146Z
UID:12151-1794060000-1794088800@alki152.org
SUMMARY:Lodge Alba Stated Meeting
DESCRIPTION:
URL:https://alki152.org/event/lodge-alba-stated-meeting-10/2026-11-07/
CATEGORIES:Lodge Alba
END:VEVENT
BEGIN:VEVENT
DTSTART;TZID=America/Los_Angeles:20261111T073000
DTEND;TZID=America/Los_Angeles:20261111T083000
DTSTAMP:20260424T094529
CREATED:20250801T191519Z
LAST-MODIFIED:20250801T191519Z
UID:13573-1794382200-1794385800@alki152.org
SUMMARY:BNI Professionals
DESCRIPTION:
URL:https://alki152.org/event/bni-professionals-2/2026-11-11/
CATEGORIES:Private Event
END:VEVENT
BEGIN:VEVENT
DTSTART;TZID=America/Los_Angeles:20261112T073000
DTEND;TZID=America/Los_Angeles:20261112T093000
DTSTAMP:20260424T094529
CREATED:20250713T031856Z
LAST-MODIFIED:20250713T031856Z
UID:13611-1794468600-1794475800@alki152.org
SUMMARY:BNI Champions
DESCRIPTION:
URL:https://alki152.org/event/bni-champions-2/2026-11-12/
CATEGORIES:Private Event
END:VEVENT
BEGIN:VEVENT
DTSTART;TZID=America/Los_Angeles:20261112T100000
DTEND;TZID=America/Los_Angeles:20261112T120000
DTSTAMP:20260424T094529
CREATED:20251002T213843Z
LAST-MODIFIED:20251002T213843Z
UID:13200-1794477600-1794484800@alki152.org
SUMMARY:Alki Lodge Social Gathering
DESCRIPTION:Time set aside for members (all Lodges) and friends to gather for social interaction. No set agenda\, no pressure. Chess available. Bring a guitar if you want. Provide a fishing story or two if you must.
URL:https://alki152.org/event/alki-lodge-social-gathering/2026-11-12/
END:VEVENT
BEGIN:VEVENT
DTSTART;TZID=America/Los_Angeles:20261113T170000
DTEND;TZID=America/Los_Angeles:20261113T220000
DTSTAMP:20260424T094529
CREATED:20230328T145554Z
LAST-MODIFIED:20230328T145554Z
UID:12178-1794589200-1794607200@alki152.org
SUMMARY:Rainbow Girls
DESCRIPTION:
URL:https://alki152.org/event/rainbow-girls-34/2026-11-13/
CATEGORIES:Masonic Family
END:VEVENT
BEGIN:VEVENT
DTSTART;TZID=America/Los_Angeles:20261114T060000
DTEND;TZID=America/Los_Angeles:20261114T140000
DTSTAMP:20260424T094529
CREATED:20250807T041504Z
LAST-MODIFIED:20250807T041504Z
UID:13040-1794636000-1794664800@alki152.org
SUMMARY:PNW Tool Collectors
DESCRIPTION:
URL:https://alki152.org/event/pnw-tool-collectors-5/
CATEGORIES:Public Event
END:VEVENT
BEGIN:VEVENT
DTSTART;TZID=America/Los_Angeles:20261114T140000
DTEND;TZID=America/Los_Angeles:20261114T220000
DTSTAMP:20260424T094529
CREATED:20260105T141821Z
LAST-MODIFIED:20260105T141821Z
UID:13430-1794664800-1794693600@alki152.org
SUMMARY:Grand Royal Matron and Patron Reception
DESCRIPTION:
URL:https://alki152.org/event/grand-royal-matron-and-patron-reception/
CATEGORIES:Masonic Family
END:VEVENT
BEGIN:VEVENT
DTSTART;TZID=America/Los_Angeles:20261115T140000
DTEND;TZID=America/Los_Angeles:20261115T220000
DTSTAMP:20260424T094529
CREATED:20190319T034811Z
LAST-MODIFIED:20190319T034811Z
UID:12139-1794751200-1794780000@alki152.org
SUMMARY:Seattle Swing Dance
DESCRIPTION:
URL:https://alki152.org/event/seattle-swing-dance/2026-11-15/
LOCATION:Alki Masonic Center\, 4736 40th Ave. SW\, Seattle\, WA\, 98116\, United States
CATEGORIES:Private Event
GEO:47.5600056;-122.3825589
X-APPLE-STRUCTURED-LOCATION;VALUE=URI;X-ADDRESS=Alki Masonic Center 4736 40th Ave. SW Seattle WA 98116 United States;X-APPLE-RADIUS=500;X-TITLE=4736 40th Ave. SW:geo:-122.3825589,47.5600056
END:VEVENT
BEGIN:VEVENT
DTSTART;TZID=America/Los_Angeles:20261116T180000
DTEND;TZID=America/Los_Angeles:20261116T213000
DTSTAMP:20260424T094529
CREATED:20250923T151027Z
LAST-MODIFIED:20250923T151027Z
UID:13120-1794852000-1794864600@alki152.org
SUMMARY:Alki Lodge #152 Education Night
DESCRIPTION:
URL:https://alki152.org/event/alki-lodge-152-education-night-4/
CATEGORIES:Masonic Family
END:VEVENT
BEGIN:VEVENT
DTSTART;TZID=America/Los_Angeles:20261118T073000
DTEND;TZID=America/Los_Angeles:20261118T083000
DTSTAMP:20260424T094529
CREATED:20250801T191519Z
LAST-MODIFIED:20250801T191519Z
UID:13574-1794987000-1794990600@alki152.org
SUMMARY:BNI Professionals
DESCRIPTION:
URL:https://alki152.org/event/bni-professionals-2/2026-11-18/
CATEGORIES:Private Event
END:VEVENT
BEGIN:VEVENT
DTSTART;TZID=America/Los_Angeles:20261119T073000
DTEND;TZID=America/Los_Angeles:20261119T093000
DTSTAMP:20260424T094529
CREATED:20250713T031856Z
LAST-MODIFIED:20250713T031856Z
UID:13612-1795073400-1795080600@alki152.org
SUMMARY:BNI Champions
DESCRIPTION:
URL:https://alki152.org/event/bni-champions-2/2026-11-19/
CATEGORIES:Private Event
END:VEVENT
BEGIN:VEVENT
DTSTART;TZID=America/Los_Angeles:20261119T100000
DTEND;TZID=America/Los_Angeles:20261119T120000
DTSTAMP:20260424T094529
CREATED:20251002T213843Z
LAST-MODIFIED:20251002T213843Z
UID:13201-1795082400-1795089600@alki152.org
SUMMARY:Alki Lodge Social Gathering
DESCRIPTION:Time set aside for members (all Lodges) and friends to gather for social interaction. No set agenda\, no pressure. Chess available. Bring a guitar if you want. Provide a fishing story or two if you must.
URL:https://alki152.org/event/alki-lodge-social-gathering/2026-11-19/
END:VEVENT
BEGIN:VEVENT
DTSTART;VALUE=DATE:20261121
DTEND;VALUE=DATE:20261122
DTSTAMP:20260424T094529
CREATED:20260105T142133Z
LAST-MODIFIED:20260105T142133Z
UID:13436-1795219200-1795305599@alki152.org
SUMMARY:Amaranth Bazaar
DESCRIPTION:
URL:https://alki152.org/event/amaranth-bazaar/
CATEGORIES:Public Event
END:VEVENT
BEGIN:VEVENT
DTSTART;TZID=America/Los_Angeles:20261124T160000
DTEND;TZID=America/Los_Angeles:20261124T200000
DTSTAMP:20260424T094529
CREATED:20240417T153708Z
LAST-MODIFIED:20240417T153708Z
UID:12664-1795536000-1795550400@alki152.org
SUMMARY:Amethyst Chapter Eastern Star Meeting
DESCRIPTION:
URL:https://alki152.org/event/amethyst-chapter-eastern-star-meeting/2026-11-24/
CATEGORIES:Masonic Family
END:VEVENT
BEGIN:VEVENT
DTSTART;TZID=America/Los_Angeles:20261125T073000
DTEND;TZID=America/Los_Angeles:20261125T083000
DTSTAMP:20260424T094529
CREATED:20250801T191519Z
LAST-MODIFIED:20250801T191519Z
UID:13575-1795591800-1795595400@alki152.org
SUMMARY:BNI Professionals
DESCRIPTION:
URL:https://alki152.org/event/bni-professionals-2/2026-11-25/
CATEGORIES:Private Event
END:VEVENT
BEGIN:VEVENT
DTSTART;TZID=America/Los_Angeles:20261126T073000
DTEND;TZID=America/Los_Angeles:20261126T093000
DTSTAMP:20260424T094529
CREATED:20250713T031856Z
LAST-MODIFIED:20250713T031856Z
UID:13613-1795678200-1795685400@alki152.org
SUMMARY:BNI Champions
DESCRIPTION:
URL:https://alki152.org/event/bni-champions-2/2026-11-26/
CATEGORIES:Private Event
END:VEVENT
BEGIN:VEVENT
DTSTART;TZID=America/Los_Angeles:20261126T100000
DTEND;TZID=America/Los_Angeles:20261126T120000
DTSTAMP:20260424T094529
CREATED:20251002T213843Z
LAST-MODIFIED:20251002T213843Z
UID:13202-1795687200-1795694400@alki152.org
SUMMARY:Alki Lodge Social Gathering
DESCRIPTION:Time set aside for members (all Lodges) and friends to gather for social interaction. No set agenda\, no pressure. Chess available. Bring a guitar if you want. Provide a fishing story or two if you must.
URL:https://alki152.org/event/alki-lodge-social-gathering/2026-11-26/
END:VEVENT
BEGIN:VEVENT
DTSTART;TZID=America/Los_Angeles:20261127T170000
DTEND;TZID=America/Los_Angeles:20261127T220000
DTSTAMP:20260424T094529
CREATED:20230123T211944Z
LAST-MODIFIED:20230123T211944Z
UID:12549-1795798800-1795816800@alki152.org
SUMMARY:Rainbow Girls
DESCRIPTION:
URL:https://alki152.org/event/rainbow-girls-33/2026-11-27/
CATEGORIES:Masonic Family
END:VEVENT
BEGIN:VEVENT
DTSTART;TZID=America/Los_Angeles:20261202T073000
DTEND;TZID=America/Los_Angeles:20261202T083000
DTSTAMP:20260424T094529
CREATED:20250801T191519Z
LAST-MODIFIED:20250801T191519Z
UID:13576-1796196600-1796200200@alki152.org
SUMMARY:BNI Professionals
DESCRIPTION:
URL:https://alki152.org/event/bni-professionals-2/2026-12-02/
CATEGORIES:Private Event
END:VEVENT
END:VCALENDAR