BEGIN:VCALENDAR
VERSION:2.0
PRODID:-//Alki Masonic Lodge #152 - ECPv6.15.20//NONSGML v1.0//EN
CALSCALE:GREGORIAN
METHOD:PUBLISH
X-WR-CALNAME:Alki Masonic Lodge #152
X-ORIGINAL-URL:https://alki152.org
X-WR-CALDESC:Events for Alki Masonic Lodge #152
REFRESH-INTERVAL;VALUE=DURATION:PT1H
X-Robots-Tag:noindex
X-PUBLISHED-TTL:PT1H
BEGIN:VTIMEZONE
TZID:America/Los_Angeles
BEGIN:DAYLIGHT
TZOFFSETFROM:-0800
TZOFFSETTO:-0700
TZNAME:PDT
DTSTART:20170312T100000
END:DAYLIGHT
BEGIN:STANDARD
TZOFFSETFROM:-0700
TZOFFSETTO:-0800
TZNAME:PST
DTSTART:20171105T090000
END:STANDARD
BEGIN:DAYLIGHT
TZOFFSETFROM:-0800
TZOFFSETTO:-0700
TZNAME:PDT
DTSTART:20180311T100000
END:DAYLIGHT
BEGIN:STANDARD
TZOFFSETFROM:-0700
TZOFFSETTO:-0800
TZNAME:PST
DTSTART:20181104T090000
END:STANDARD
BEGIN:DAYLIGHT
TZOFFSETFROM:-0800
TZOFFSETTO:-0700
TZNAME:PDT
DTSTART:20190310T100000
END:DAYLIGHT
BEGIN:STANDARD
TZOFFSETFROM:-0700
TZOFFSETTO:-0800
TZNAME:PST
DTSTART:20191103T090000
END:STANDARD
BEGIN:DAYLIGHT
TZOFFSETFROM:-0800
TZOFFSETTO:-0700
TZNAME:PDT
DTSTART:20200308T100000
END:DAYLIGHT
BEGIN:STANDARD
TZOFFSETFROM:-0700
TZOFFSETTO:-0800
TZNAME:PST
DTSTART:20201101T090000
END:STANDARD
BEGIN:DAYLIGHT
TZOFFSETFROM:-0800
TZOFFSETTO:-0700
TZNAME:PDT
DTSTART:20210314T100000
END:DAYLIGHT
BEGIN:STANDARD
TZOFFSETFROM:-0700
TZOFFSETTO:-0800
TZNAME:PST
DTSTART:20211107T090000
END:STANDARD
BEGIN:DAYLIGHT
TZOFFSETFROM:-0800
TZOFFSETTO:-0700
TZNAME:PDT
DTSTART:20220313T100000
END:DAYLIGHT
BEGIN:STANDARD
TZOFFSETFROM:-0700
TZOFFSETTO:-0800
TZNAME:PST
DTSTART:20221106T090000
END:STANDARD
BEGIN:DAYLIGHT
TZOFFSETFROM:-0800
TZOFFSETTO:-0700
TZNAME:PDT
DTSTART:20230312T100000
END:DAYLIGHT
BEGIN:STANDARD
TZOFFSETFROM:-0700
TZOFFSETTO:-0800
TZNAME:PST
DTSTART:20231105T090000
END:STANDARD
BEGIN:DAYLIGHT
TZOFFSETFROM:-0800
TZOFFSETTO:-0700
TZNAME:PDT
DTSTART:20240310T100000
END:DAYLIGHT
BEGIN:STANDARD
TZOFFSETFROM:-0700
TZOFFSETTO:-0800
TZNAME:PST
DTSTART:20241103T090000
END:STANDARD
BEGIN:DAYLIGHT
TZOFFSETFROM:-0800
TZOFFSETTO:-0700
TZNAME:PDT
DTSTART:20250309T100000
END:DAYLIGHT
BEGIN:STANDARD
TZOFFSETFROM:-0700
TZOFFSETTO:-0800
TZNAME:PST
DTSTART:20251102T090000
END:STANDARD
END:VTIMEZONE
BEGIN:VEVENT
DTSTART;TZID=America/Los_Angeles:20240603T180000
DTEND;TZID=America/Los_Angeles:20240603T220000
DTSTAMP:20260425T045011
CREATED:20191202T191648Z
LAST-MODIFIED:20230806T153743Z
UID:10954-1717437600-1717452000@alki152.org
SUMMARY:Alki Lodge #152 Stated Meeting
DESCRIPTION:
URL:https://alki152.org/event/alki-lodge-152-stated-meeting-4-2022-09-05/2024-06-03/
CATEGORIES:Alki Lodge,Masonic Family
END:VEVENT
BEGIN:VEVENT
DTSTART;TZID=America/Los_Angeles:20240506T180000
DTEND;TZID=America/Los_Angeles:20240506T220000
DTSTAMP:20260425T045011
CREATED:20191202T191648Z
LAST-MODIFIED:20230806T153743Z
UID:10953-1715018400-1715032800@alki152.org
SUMMARY:Alki Lodge #152 Stated Meeting
DESCRIPTION:
URL:https://alki152.org/event/alki-lodge-152-stated-meeting-4-2022-09-05/2024-05-06/
CATEGORIES:Alki Lodge,Masonic Family
END:VEVENT
BEGIN:VEVENT
DTSTART;TZID=America/Los_Angeles:20240108T180000
DTEND;TZID=America/Los_Angeles:20240108T220000
DTSTAMP:20260425T045011
CREATED:20191202T191648Z
LAST-MODIFIED:20220919T224530Z
UID:10949-1704736800-1704751200@alki152.org
SUMMARY:Alki Lodge #152 Stated Meeting
DESCRIPTION:
URL:https://alki152.org/event/alki-lodge-152-stated-meeting-4-2022-09-05-2024-01-01/
CATEGORIES:Alki Lodge,Masonic Family
END:VEVENT
BEGIN:VEVENT
DTSTART;TZID=America/Los_Angeles:20231209T120000
DTEND;TZID=America/Los_Angeles:20231209T210000
DTSTAMP:20260425T045011
CREATED:20230525T224205Z
LAST-MODIFIED:20230525T224205Z
UID:11452-1702123200-1702155600@alki152.org
SUMMARY:Alki Lodge Officer Installation
DESCRIPTION:
URL:https://alki152.org/event/alki-lodge-officer-installation-2/
CATEGORIES:Public Event
END:VEVENT
BEGIN:VEVENT
DTSTART;TZID=America/Los_Angeles:20231022T100000
DTEND;TZID=America/Los_Angeles:20231022T150000
DTSTAMP:20260425T045011
CREATED:20230806T153118Z
LAST-MODIFIED:20230806T153118Z
UID:11502-1697968800-1697986800@alki152.org
SUMMARY:Masonic Ladies Brunch Alki Lodge
DESCRIPTION:
URL:https://alki152.org/event/masonic-ladies-brunch-alki-lodge/
CATEGORIES:Masonic Family
END:VEVENT
BEGIN:VEVENT
DTSTART;TZID=America/Los_Angeles:20230911T183000
DTEND;TZID=America/Los_Angeles:20230911T220000
DTSTAMP:20260425T045011
CREATED:20230806T152859Z
LAST-MODIFIED:20230806T152859Z
UID:11498-1694457000-1694469600@alki152.org
SUMMARY:Alki Lodge Stated Meeting
DESCRIPTION:
URL:https://alki152.org/event/alki-lodge-stated-meeting/
CATEGORIES:Alki Lodge
END:VEVENT
BEGIN:VEVENT
DTSTART;TZID=America/Los_Angeles:20230819T100000
DTEND;TZID=America/Los_Angeles:20230819T140000
DTSTAMP:20260425T045011
CREATED:20230806T152440Z
LAST-MODIFIED:20230806T152440Z
UID:11492-1692439200-1692453600@alki152.org
SUMMARY:Alki Lodge Second Degree
DESCRIPTION:
URL:https://alki152.org/event/alki-lodge-second-degree/
CATEGORIES:Alki Lodge
END:VEVENT
BEGIN:VEVENT
DTSTART;TZID=America/Los_Angeles:20221219T170000
DTEND;TZID=America/Los_Angeles:20221219T220000
DTSTAMP:20260425T045011
CREATED:20220826T030243Z
LAST-MODIFIED:20220826T030243Z
UID:10681-1671469200-1671487200@alki152.org
SUMMARY:Alki Table Lodge
DESCRIPTION:
URL:https://alki152.org/event/alki-table-lodge/
CATEGORIES:Alki Lodge
END:VEVENT
BEGIN:VEVENT
DTSTART;TZID=America/Los_Angeles:20221210T140000
DTEND;TZID=America/Los_Angeles:20221210T220000
DTSTAMP:20260425T045011
CREATED:20220919T221145Z
LAST-MODIFIED:20220919T221145Z
UID:10690-1670680800-1670709600@alki152.org
SUMMARY:Alki Lodge Officer Installation
DESCRIPTION:
URL:https://alki152.org/event/alki-lodge-officer-installation/
CATEGORIES:Masonic Family
END:VEVENT
BEGIN:VEVENT
DTSTART;TZID=America/Los_Angeles:20221210T140000
DTEND;TZID=America/Los_Angeles:20221210T220000
DTSTAMP:20260425T045011
CREATED:20220824T030620Z
LAST-MODIFIED:20220824T030620Z
UID:10675-1670680800-1670709600@alki152.org
SUMMARY:Alki Lodge Office Installation
DESCRIPTION:
URL:https://alki152.org/event/alki-lodge-office-installation/
CATEGORIES:Masonic Family
END:VEVENT
BEGIN:VEVENT
DTSTART;TZID=America/Los_Angeles:20220912T180000
DTEND;TZID=America/Los_Angeles:20220912T220000
DTSTAMP:20260425T045011
CREATED:20191202T191648Z
LAST-MODIFIED:20230806T153733Z
UID:10434-1663005600-1663020000@alki152.org
SUMMARY:Alki Lodge #152 Stated Meeting
DESCRIPTION:
URL:https://alki152.org/event/alki-lodge-152-stated-meeting-4-2022-09-05/2022-09-12/
CATEGORIES:Alki Lodge,Masonic Family
END:VEVENT
BEGIN:VEVENT
DTSTART;VALUE=DATE:20211211
DTEND;VALUE=DATE:20211212
DTSTAMP:20260425T045011
CREATED:20201207T181853Z
LAST-MODIFIED:20201207T181853Z
UID:10099-1639180800-1639267199@alki152.org
SUMMARY:Alki Lodge Installation
DESCRIPTION:
URL:https://alki152.org/event/alki-lodge-installation-4/
CATEGORIES:Masonic Family
END:VEVENT
BEGIN:VEVENT
DTSTART;TZID=America/Los_Angeles:20211029T140000
DTEND;TZID=America/Los_Angeles:20211029T220000
DTSTAMP:20260425T045011
CREATED:20210724T204140Z
LAST-MODIFIED:20210724T204140Z
UID:10278-1635516000-1635544800@alki152.org
SUMMARY:Ladies Night\, Alki Lodge
DESCRIPTION:Contact: Gary Langenbach
URL:https://alki152.org/event/ladies-night-alki-lodge-2/
CATEGORIES:Masonic Family
END:VEVENT
BEGIN:VEVENT
DTSTART;TZID=America/Los_Angeles:20201212T170000
DTEND;TZID=America/Los_Angeles:20201212T220000
DTSTAMP:20260425T045011
CREATED:20200114T011052Z
LAST-MODIFIED:20200114T011052Z
UID:9290-1607792400-1607810400@alki152.org
SUMMARY:Alki Lodge Installation
DESCRIPTION:
URL:https://alki152.org/event/alki-lodge-installation-3/
CATEGORIES:Masonic Family
END:VEVENT
BEGIN:VEVENT
DTSTART;TZID=America/Los_Angeles:20201003T180000
DTEND;TZID=America/Los_Angeles:20201003T230000
DTSTAMP:20260425T045011
CREATED:20191201T014110Z
LAST-MODIFIED:20191201T014110Z
UID:9261-1601748000-1601766000@alki152.org
SUMMARY:Oktoberfest\, Alki Lodge
DESCRIPTION:
URL:https://alki152.org/event/oktoberfest-alki-lodge-2/
CATEGORIES:Masonic Family,Public Event
END:VEVENT
BEGIN:VEVENT
DTSTART;TZID=America/Los_Angeles:20200706T180000
DTEND;TZID=America/Los_Angeles:20200706T223000
DTSTAMP:20260425T045011
CREATED:20180526T051659Z
LAST-MODIFIED:20180526T051659Z
UID:8007-1594058400-1594074600@alki152.org
SUMMARY:Alki Lodge #152 Stated Meeting
DESCRIPTION:
URL:https://alki152.org/event/alki-lodge-152-stated-meeting-3/2020-07-06/
LOCATION:Alki Masonic Center\, 4736 40th Ave. SW\, Seattle\, WA\, 98116\, United States
GEO:47.5600056;-122.3825589
X-APPLE-STRUCTURED-LOCATION;VALUE=URI;X-ADDRESS=Alki Masonic Center 4736 40th Ave. SW Seattle WA 98116 United States;X-APPLE-RADIUS=500;X-TITLE=4736 40th Ave. SW:geo:-122.3825589,47.5600056
END:VEVENT
BEGIN:VEVENT
DTSTART;TZID=America/Los_Angeles:20200601T180000
DTEND;TZID=America/Los_Angeles:20200601T220000
DTSTAMP:20260425T045011
CREATED:20180509T163347Z
LAST-MODIFIED:20180526T051508Z
UID:7999-1591034400-1591048800@alki152.org
SUMMARY:Alki Lodge #152 Stated Meeting
DESCRIPTION:
URL:https://alki152.org/event/alki-lodge-152-stated-meeting-2/2020-06-01/
LOCATION:Alki Masonic Center\, 4736 40th Ave. SW\, Seattle\, WA\, 98116\, United States
CATEGORIES:Alki Lodge,Masonic Family
GEO:47.5600056;-122.3825589
X-APPLE-STRUCTURED-LOCATION;VALUE=URI;X-ADDRESS=Alki Masonic Center 4736 40th Ave. SW Seattle WA 98116 United States;X-APPLE-RADIUS=500;X-TITLE=4736 40th Ave. SW:geo:-122.3825589,47.5600056
END:VEVENT
BEGIN:VEVENT
DTSTART;TZID=America/Los_Angeles:20200529T170000
DTEND;TZID=America/Los_Angeles:20200529T220000
DTSTAMP:20260425T045011
CREATED:20191201T014007Z
LAST-MODIFIED:20191201T014016Z
UID:9259-1590771600-1590789600@alki152.org
SUMMARY:Ladies Night\, Alki Lodge
DESCRIPTION:
URL:https://alki152.org/event/ladies-night-alki-lodge/
CATEGORIES:Masonic Family
END:VEVENT
BEGIN:VEVENT
DTSTART;TZID=America/Los_Angeles:20200504T180000
DTEND;TZID=America/Los_Angeles:20200504T230000
DTSTAMP:20260425T045011
CREATED:20170614T182124Z
LAST-MODIFIED:20180509T163052Z
UID:7991-1588615200-1588633200@alki152.org
SUMMARY:Alki Lodge #152 Stated Meeting
DESCRIPTION:
URL:https://alki152.org/event/alki-lodge-152-stated-meeting-2018-12-03-2020-05-04/
LOCATION:Alki Masonic Center\, 4736 40th Ave. SW\, Seattle\, WA\, 98116\, United States
CATEGORIES:Alki Lodge,Masonic Family
GEO:47.5600056;-122.3825589
X-APPLE-STRUCTURED-LOCATION;VALUE=URI;X-ADDRESS=Alki Masonic Center 4736 40th Ave. SW Seattle WA 98116 United States;X-APPLE-RADIUS=500;X-TITLE=4736 40th Ave. SW:geo:-122.3825589,47.5600056
END:VEVENT
BEGIN:VEVENT
DTSTART;TZID=America/Los_Angeles:20191207T170000
DTEND;TZID=America/Los_Angeles:20191207T220000
DTSTAMP:20260425T045011
CREATED:20190604T003719Z
LAST-MODIFIED:20190604T003719Z
UID:9039-1575738000-1575756000@alki152.org
SUMMARY:Alki Lodge Installation
DESCRIPTION:
URL:https://alki152.org/event/alki-lodge-installation-2/
LOCATION:Alki Masonic Center\, 4736 40th Ave. SW\, Seattle\, WA\, 98116\, United States
CATEGORIES:Alki Lodge
GEO:47.5600056;-122.3825589
X-APPLE-STRUCTURED-LOCATION;VALUE=URI;X-ADDRESS=Alki Masonic Center 4736 40th Ave. SW Seattle WA 98116 United States;X-APPLE-RADIUS=500;X-TITLE=4736 40th Ave. SW:geo:-122.3825589,47.5600056
END:VEVENT
BEGIN:VEVENT
DTSTART;TZID=America/Los_Angeles:20190928T170000
DTEND;TZID=America/Los_Angeles:20190928T220000
DTSTAMP:20260425T045011
CREATED:20180930T221808Z
LAST-MODIFIED:20180930T221857Z
UID:8445-1569690000-1569708000@alki152.org
SUMMARY:Alki Lodge Oktoberfest
DESCRIPTION:
URL:https://alki152.org/event/alki-lodge-oktoberfest/
LOCATION:Alki Masonic Center\, 4736 40th Ave. SW\, Seattle\, WA\, 98116\, United States
CATEGORIES:Alki Lodge,Masonic Family
GEO:47.5600056;-122.3825589
X-APPLE-STRUCTURED-LOCATION;VALUE=URI;X-ADDRESS=Alki Masonic Center 4736 40th Ave. SW Seattle WA 98116 United States;X-APPLE-RADIUS=500;X-TITLE=4736 40th Ave. SW:geo:-122.3825589,47.5600056
END:VEVENT
BEGIN:VEVENT
DTSTART;TZID=America/Los_Angeles:20190909T180000
DTEND;TZID=America/Los_Angeles:20190909T230000
DTSTAMP:20260425T045011
CREATED:20170614T182124Z
LAST-MODIFIED:20180930T221246Z
UID:7767-1568052000-1568070000@alki152.org
SUMMARY:Alki Lodge #152 Stated Meeting Past Masters Night
DESCRIPTION:
URL:https://alki152.org/event/alki-lodge-152-stated-meeting-2018-12-03-2019-09-02/
LOCATION:Alki Masonic Center\, 4736 40th Ave. SW\, Seattle\, WA\, 98116\, United States
CATEGORIES:Alki Lodge,Masonic Family
GEO:47.5600056;-122.3825589
X-APPLE-STRUCTURED-LOCATION;VALUE=URI;X-ADDRESS=Alki Masonic Center 4736 40th Ave. SW Seattle WA 98116 United States;X-APPLE-RADIUS=500;X-TITLE=4736 40th Ave. SW:geo:-122.3825589,47.5600056
END:VEVENT
BEGIN:VEVENT
DTSTART;TZID=America/Los_Angeles:20190902T120000
DTEND;TZID=America/Los_Angeles:20190902T153000
DTSTAMP:20260425T045011
CREATED:20180930T221345Z
LAST-MODIFIED:20180930T221345Z
UID:8443-1567425600-1567438200@alki152.org
SUMMARY:Alki Lodge Labor Day Picnic and Flag Ceremony
DESCRIPTION:
URL:https://alki152.org/event/alki-lodge-labor-day-picnic-and-flag-ceremony/
LOCATION:Alki Masonic Center\, 4736 40th Ave. SW\, Seattle\, WA\, 98116\, United States
CATEGORIES:Alki Lodge,Masonic Family
GEO:47.5600056;-122.3825589
X-APPLE-STRUCTURED-LOCATION;VALUE=URI;X-ADDRESS=Alki Masonic Center 4736 40th Ave. SW Seattle WA 98116 United States;X-APPLE-RADIUS=500;X-TITLE=4736 40th Ave. SW:geo:-122.3825589,47.5600056
END:VEVENT
BEGIN:VEVENT
DTSTART;TZID=America/Los_Angeles:20190524T170000
DTEND;TZID=America/Los_Angeles:20190524T210000
DTSTAMP:20260425T045011
CREATED:20180930T211010Z
LAST-MODIFIED:20180930T211010Z
UID:8434-1558717200-1558731600@alki152.org
SUMMARY:Alki Lodge Ladies Night
DESCRIPTION:
URL:https://alki152.org/event/alki-lodge-ladies-night-3/
LOCATION:Alki Masonic Center\, 4736 40th Ave. SW\, Seattle\, WA\, 98116\, United States
CATEGORIES:Alki Lodge,Masonic Family
GEO:47.5600056;-122.3825589
X-APPLE-STRUCTURED-LOCATION;VALUE=URI;X-ADDRESS=Alki Masonic Center 4736 40th Ave. SW Seattle WA 98116 United States;X-APPLE-RADIUS=500;X-TITLE=4736 40th Ave. SW:geo:-122.3825589,47.5600056
END:VEVENT
BEGIN:VEVENT
DTSTART;TZID=America/Los_Angeles:20190520T180000
DTEND;TZID=America/Los_Angeles:20190520T220000
DTSTAMP:20260425T045011
CREATED:20170614T191348Z
LAST-MODIFIED:20180930T210726Z
UID:7147-1558375200-1558389600@alki152.org
SUMMARY:Alki Lodge Annual School Awards
DESCRIPTION:
URL:https://alki152.org/event/alki-lodge-152-ritualeducation-night-2019-05-20/
LOCATION:Alki Masonic Center\, 4736 40th Ave. SW\, Seattle\, WA\, 98116\, United States
CATEGORIES:Alki Lodge,Masonic Family
GEO:47.5600056;-122.3825589
X-APPLE-STRUCTURED-LOCATION;VALUE=URI;X-ADDRESS=Alki Masonic Center 4736 40th Ave. SW Seattle WA 98116 United States;X-APPLE-RADIUS=500;X-TITLE=4736 40th Ave. SW:geo:-122.3825589,47.5600056
END:VEVENT
BEGIN:VEVENT
DTSTART;TZID=America/Los_Angeles:20190204T180000
DTEND;TZID=America/Los_Angeles:20190204T230000
DTSTAMP:20260425T045011
CREATED:20170614T182124Z
LAST-MODIFIED:20190205T010533Z
UID:7309-1549303200-1549321200@alki152.org
SUMMARY:Alki Lodge #152 Stated Meeting - CANCELLED because of snow
DESCRIPTION:
URL:https://alki152.org/event/alki-lodge-152-stated-meeting-2018-12-03-2019-02-04/
LOCATION:Alki Masonic Center\, 4736 40th Ave. SW\, Seattle\, WA\, 98116\, United States
CATEGORIES:Alki Lodge,Masonic Family
GEO:47.5600056;-122.3825589
X-APPLE-STRUCTURED-LOCATION;VALUE=URI;X-ADDRESS=Alki Masonic Center 4736 40th Ave. SW Seattle WA 98116 United States;X-APPLE-RADIUS=500;X-TITLE=4736 40th Ave. SW:geo:-122.3825589,47.5600056
END:VEVENT
BEGIN:VEVENT
DTSTART;TZID=America/Los_Angeles:20190203T120000
DTEND;TZID=America/Los_Angeles:20190203T170000
DTSTAMP:20260425T045011
CREATED:20180228T233053Z
LAST-MODIFIED:20180228T233053Z
UID:7957-1549195200-1549213200@alki152.org
SUMMARY:Alki Lodge #152 - Superbowl Party
DESCRIPTION:
URL:https://alki152.org/event/alki-lodge-152-superbowl-party/
LOCATION:Alki Masonic Center\, 4736 40th Ave. SW\, Seattle\, WA\, 98116\, United States
CATEGORIES:Masonic Family
GEO:47.5600056;-122.3825589
X-APPLE-STRUCTURED-LOCATION;VALUE=URI;X-ADDRESS=Alki Masonic Center 4736 40th Ave. SW Seattle WA 98116 United States;X-APPLE-RADIUS=500;X-TITLE=4736 40th Ave. SW:geo:-122.3825589,47.5600056
END:VEVENT
BEGIN:VEVENT
DTSTART;TZID=America/Los_Angeles:20190127T160000
DTEND;TZID=America/Los_Angeles:20190127T200000
DTSTAMP:20260425T045011
CREATED:20180228T232841Z
LAST-MODIFIED:20180228T232841Z
UID:7954-1548604800-1548619200@alki152.org
SUMMARY:Alki Lodge #152 Seafood Fest
DESCRIPTION:
URL:https://alki152.org/event/alki-lodge-152-seafood-fest/
LOCATION:Alki Masonic Center\, 4736 40th Ave. SW\, Seattle\, WA\, 98116\, United States
CATEGORIES:Masonic Family
GEO:47.5600056;-122.3825589
X-APPLE-STRUCTURED-LOCATION;VALUE=URI;X-ADDRESS=Alki Masonic Center 4736 40th Ave. SW Seattle WA 98116 United States;X-APPLE-RADIUS=500;X-TITLE=4736 40th Ave. SW:geo:-122.3825589,47.5600056
END:VEVENT
BEGIN:VEVENT
DTSTART;TZID=America/Los_Angeles:20181208T170000
DTEND;TZID=America/Los_Angeles:20181208T230000
DTSTAMP:20260425T045011
CREATED:20171122T231319Z
LAST-MODIFIED:20171122T231319Z
UID:7830-1544288400-1544310000@alki152.org
SUMMARY:Alki Lodge #152 - Installation of Officers
DESCRIPTION:
URL:https://alki152.org/event/alki-lodge-152-installation-of-officers-3/
LOCATION:Alki Masonic Center\, 4736 40th Ave. SW\, Seattle\, WA\, 98116\, United States
CATEGORIES:Alki Lodge,Masonic Family
GEO:47.5600056;-122.3825589
X-APPLE-STRUCTURED-LOCATION;VALUE=URI;X-ADDRESS=Alki Masonic Center 4736 40th Ave. SW Seattle WA 98116 United States;X-APPLE-RADIUS=500;X-TITLE=4736 40th Ave. SW:geo:-122.3825589,47.5600056
END:VEVENT
BEGIN:VEVENT
DTSTART;TZID=America/Los_Angeles:20181203T180000
DTEND;TZID=America/Los_Angeles:20181203T230000
DTSTAMP:20260425T045011
CREATED:20170614T182124Z
LAST-MODIFIED:20170614T192625Z
UID:7084-1543860000-1543878000@alki152.org
SUMMARY:Alki Lodge #152 Stated Meeting
DESCRIPTION:
URL:https://alki152.org/event/alki-lodge-152-stated-meeting-2018-12-03/2018-12-03/
LOCATION:Alki Masonic Center\, 4736 40th Ave. SW\, Seattle\, WA\, 98116\, United States
CATEGORIES:Alki Lodge,Masonic Family
GEO:47.5600056;-122.3825589
X-APPLE-STRUCTURED-LOCATION;VALUE=URI;X-ADDRESS=Alki Masonic Center 4736 40th Ave. SW Seattle WA 98116 United States;X-APPLE-RADIUS=500;X-TITLE=4736 40th Ave. SW:geo:-122.3825589,47.5600056
END:VEVENT
END:VCALENDAR