BEGIN:VCALENDAR
VERSION:2.0
PRODID:-//Alki Masonic Lodge #152 - ECPv6.15.20//NONSGML v1.0//EN
CALSCALE:GREGORIAN
METHOD:PUBLISH
X-WR-CALNAME:Alki Masonic Lodge #152
X-ORIGINAL-URL:https://alki152.org
X-WR-CALDESC:Events for Alki Masonic Lodge #152
REFRESH-INTERVAL;VALUE=DURATION:PT1H
X-Robots-Tag:noindex
X-PUBLISHED-TTL:PT1H
BEGIN:VTIMEZONE
TZID:America/Los_Angeles
BEGIN:DAYLIGHT
TZOFFSETFROM:-0800
TZOFFSETTO:-0700
TZNAME:PDT
DTSTART:20110313T100000
END:DAYLIGHT
BEGIN:STANDARD
TZOFFSETFROM:-0700
TZOFFSETTO:-0800
TZNAME:PST
DTSTART:20111106T090000
END:STANDARD
BEGIN:DAYLIGHT
TZOFFSETFROM:-0800
TZOFFSETTO:-0700
TZNAME:PDT
DTSTART:20120311T100000
END:DAYLIGHT
BEGIN:STANDARD
TZOFFSETFROM:-0700
TZOFFSETTO:-0800
TZNAME:PST
DTSTART:20121104T090000
END:STANDARD
BEGIN:DAYLIGHT
TZOFFSETFROM:-0800
TZOFFSETTO:-0700
TZNAME:PDT
DTSTART:20130310T100000
END:DAYLIGHT
BEGIN:STANDARD
TZOFFSETFROM:-0700
TZOFFSETTO:-0800
TZNAME:PST
DTSTART:20131103T090000
END:STANDARD
END:VTIMEZONE
BEGIN:VEVENT
DTSTART;TZID=America/Los_Angeles:20121113T060000
DTEND;TZID=America/Los_Angeles:20121113T230000
DTSTAMP:20260425T063117
CREATED:20121102T043519Z
LAST-MODIFIED:20121124T053359Z
UID:757-1352786400-1352847600@alki152.org
SUMMARY:Fellow Craft Degree - Alki Lodge
DESCRIPTION:
URL:https://alki152.org/event/fellow-craft-degree-alki-lodge/
LOCATION:Alki Masonic Center\, 4736 40th Ave. SW\, Seattle\, WA\, 98116\, United States
CATEGORIES:Alki Lodge
GEO:47.5600056;-122.3825589
X-APPLE-STRUCTURED-LOCATION;VALUE=URI;X-ADDRESS=Alki Masonic Center 4736 40th Ave. SW Seattle WA 98116 United States;X-APPLE-RADIUS=500;X-TITLE=4736 40th Ave. SW:geo:-122.3825589,47.5600056
END:VEVENT
BEGIN:VEVENT
DTSTART;TZID=America/Los_Angeles:20121112T170000
DTEND;TZID=America/Los_Angeles:20121112T230000
DTSTAMP:20260425T063117
CREATED:20120927T210934Z
LAST-MODIFIED:20121124T053331Z
UID:452-1352739600-1352761200@alki152.org
SUMMARY:Alki Lodge #152 Table Lodge
DESCRIPTION:Wednesday Night Lodge with Lodges from South Puget Sound \nDinner at 6:30 Lodge 7:30\nTable Lodge for brothers and their guests.  Good food\, mind\n  and formal toasts.  Starts at 5:00 pm \n \n 
URL:https://alki152.org/event/alki-lodge-152-table-lodge/
LOCATION:Alki Masonic Center\, 4736 40th Ave. SW\, Seattle\, WA\, 98116\, United States
CATEGORIES:Alki Lodge,Masonic Family
ORGANIZER;CN="Dick Syson%2C Secretary":MAILTO:nosys@comcast.net
GEO:47.5600056;-122.3825589
X-APPLE-STRUCTURED-LOCATION;VALUE=URI;X-ADDRESS=Alki Masonic Center 4736 40th Ave. SW Seattle WA 98116 United States;X-APPLE-RADIUS=500;X-TITLE=4736 40th Ave. SW:geo:-122.3825589,47.5600056
END:VEVENT
BEGIN:VEVENT
DTSTART;TZID=America/Los_Angeles:20121110T150000
DTEND;TZID=America/Los_Angeles:20121110T210000
DTSTAMP:20260425T063117
CREATED:20120928T060812Z
LAST-MODIFIED:20121124T044423Z
UID:582-1352559600-1352581200@alki152.org
SUMMARY:Job's Daughters Bethel #40 Grand Visit
DESCRIPTION:Dinner at 6:30\, discount\n  Labor at 7:30 Election Night\nGrand Visitation – Most activity will be in Lodge Room\, bronchi\n  with refreshments served in Banquet Hall 1.5 hrs in Banquet Hall.
URL:https://alki152.org/event/jobs-daughters-bethel-40-9/
LOCATION:Alki Masonic Center\, 4736 40th Ave. SW\, Seattle\, WA\, 98116\, United States
CATEGORIES:Bethel,Masonic Family
GEO:47.5600056;-122.3825589
X-APPLE-STRUCTURED-LOCATION;VALUE=URI;X-ADDRESS=Alki Masonic Center 4736 40th Ave. SW Seattle WA 98116 United States;X-APPLE-RADIUS=500;X-TITLE=4736 40th Ave. SW:geo:-122.3825589,47.5600056
END:VEVENT
BEGIN:VEVENT
DTSTART;TZID=America/Los_Angeles:20121103T050000
DTEND;TZID=America/Los_Angeles:20121103T220000
DTSTAMP:20260425T063117
CREATED:20120928T055430Z
LAST-MODIFIED:20121124T051705Z
UID:578-1351918800-1351980000@alki152.org
SUMMARY:Lodge Alba #315
DESCRIPTION:
URL:https://alki152.org/event/lodge-alba-315/
LOCATION:Alki Masonic Center\, 4736 40th Ave. SW\, Seattle\, WA\, 98116\, United States
CATEGORIES:Lodge Alba,Masonic Family
GEO:47.5600056;-122.3825589
X-APPLE-STRUCTURED-LOCATION;VALUE=URI;X-ADDRESS=Alki Masonic Center 4736 40th Ave. SW Seattle WA 98116 United States;X-APPLE-RADIUS=500;X-TITLE=4736 40th Ave. SW:geo:-122.3825589,47.5600056
END:VEVENT
BEGIN:VEVENT
DTSTART;TZID=America/Los_Angeles:20121024T183000
DTEND;TZID=America/Los_Angeles:20121024T183000
DTSTAMP:20260425T063117
CREATED:20120927T210638Z
LAST-MODIFIED:20121124T052940Z
UID:450-1351103400-1351103400@alki152.org
SUMMARY:Alki Lodge #152 - Wednesday Night Lodge
DESCRIPTION:Wednesday Night Lodge with Lodges from South Puget Sound \nDinner at 6:30 Lodge 7:30
URL:https://alki152.org/event/alki-lodge-152-wednesday-night-lodge/
LOCATION:Alki Masonic Center\, 4736 40th Ave. SW\, Seattle\, WA\, 98116\, United States
CATEGORIES:Alki Lodge,Masonic Family
ORGANIZER;CN="Dick Syson%2C Secretary":MAILTO:nosys@comcast.net
GEO:47.5600056;-122.3825589
X-APPLE-STRUCTURED-LOCATION;VALUE=URI;X-ADDRESS=Alki Masonic Center 4736 40th Ave. SW Seattle WA 98116 United States;X-APPLE-RADIUS=500;X-TITLE=4736 40th Ave. SW:geo:-122.3825589,47.5600056
END:VEVENT
BEGIN:VEVENT
DTSTART;TZID=America/Los_Angeles:20121006T080000
DTEND;TZID=America/Los_Angeles:20121006T120000
DTSTAMP:20260425T063117
CREATED:20120928T000258Z
LAST-MODIFIED:20121124T052811Z
UID:545-1349510400-1349524800@alki152.org
SUMMARY:Pancake Feed - Alki Lodge
DESCRIPTION:
URL:https://alki152.org/event/pancake-feed/
LOCATION:Alki Masonic Center\, 4736 40th Ave. SW\, Seattle\, WA\, 98116\, United States
CATEGORIES:Alki Lodge,Masonic Family,Public Event
GEO:47.5600056;-122.3825589
X-APPLE-STRUCTURED-LOCATION;VALUE=URI;X-ADDRESS=Alki Masonic Center 4736 40th Ave. SW Seattle WA 98116 United States;X-APPLE-RADIUS=500;X-TITLE=4736 40th Ave. SW:geo:-122.3825589,47.5600056
END:VEVENT
BEGIN:VEVENT
DTSTART;TZID=America/Los_Angeles:20120526T200500
DTEND;TZID=America/Los_Angeles:20120526T210000
DTSTAMP:20260425T063117
CREATED:20121202T220125Z
LAST-MODIFIED:20121202T220125Z
UID:982-1338062700-1338066000@alki152.org
SUMMARY:Alki Lodge #152 - Filipino Banquet
DESCRIPTION:
URL:https://alki152.org/event/alki-lodge-152-filipino-banquet/
LOCATION:Alki Masonic Center\, 4736 40th Ave. SW\, Seattle\, WA\, 98116\, United States
CATEGORIES:Alki Lodge,Masonic Family,Public Event
ORGANIZER;CN="Dick Syson%2C Secretary":MAILTO:nosys@comcast.net
GEO:47.5600056;-122.3825589
X-APPLE-STRUCTURED-LOCATION;VALUE=URI;X-ADDRESS=Alki Masonic Center 4736 40th Ave. SW Seattle WA 98116 United States;X-APPLE-RADIUS=500;X-TITLE=4736 40th Ave. SW:geo:-122.3825589,47.5600056
END:VEVENT
BEGIN:VEVENT
DTSTART;TZID=America/Los_Angeles:20120425T183000
DTEND;TZID=America/Los_Angeles:20120425T220000
DTSTAMP:20260425T063117
CREATED:20121110T080347Z
LAST-MODIFIED:20121124T052553Z
UID:942-1335378600-1335391200@alki152.org
SUMMARY:Alki Lodge #152 - Wednesday Night Lodges
DESCRIPTION:
URL:https://alki152.org/event/alki-lodge-152-wednesday-night-lodges-2/
LOCATION:Alki Masonic Center\, 4736 40th Ave. SW\, Seattle\, WA\, 98116\, United States
CATEGORIES:Alki Lodge,Masonic Family
ORGANIZER;CN="Dick Syson%2C Secretary":MAILTO:nosys@comcast.net
GEO:47.5600056;-122.3825589
X-APPLE-STRUCTURED-LOCATION;VALUE=URI;X-ADDRESS=Alki Masonic Center 4736 40th Ave. SW Seattle WA 98116 United States;X-APPLE-RADIUS=500;X-TITLE=4736 40th Ave. SW:geo:-122.3825589,47.5600056
END:VEVENT
BEGIN:VEVENT
DTSTART;TZID=America/Los_Angeles:20120331T170000
DTEND;TZID=America/Los_Angeles:20120331T210000
DTSTAMP:20260425T063117
CREATED:20121109T223234Z
LAST-MODIFIED:20121124T052447Z
UID:928-1333213200-1333227600@alki152.org
SUMMARY:Alki Lodge #152 - Crab Feed
DESCRIPTION:
URL:https://alki152.org/event/alki-lodge-152-crab-feed/
LOCATION:Alki Masonic Center\, 4736 40th Ave. SW\, Seattle\, WA\, 98116\, United States
CATEGORIES:Alki Lodge,Masonic Family,Public Event
ORGANIZER;CN="Dick Syson%2C Secretary":MAILTO:nosys@comcast.net
GEO:47.5600056;-122.3825589
X-APPLE-STRUCTURED-LOCATION;VALUE=URI;X-ADDRESS=Alki Masonic Center 4736 40th Ave. SW Seattle WA 98116 United States;X-APPLE-RADIUS=500;X-TITLE=4736 40th Ave. SW:geo:-122.3825589,47.5600056
END:VEVENT
BEGIN:VEVENT
DTSTART;TZID=America/Los_Angeles:20120321T183000
DTEND;TZID=America/Los_Angeles:20120321T220000
DTSTAMP:20260425T063117
CREATED:20121110T075517Z
LAST-MODIFIED:20121124T052421Z
UID:936-1332354600-1332367200@alki152.org
SUMMARY:Alki Lodge #152 - Ladies Night
DESCRIPTION:
URL:https://alki152.org/event/alki-lodge-152-ladies-night-2/
LOCATION:Alki Masonic Center\, 4736 40th Ave. SW\, Seattle\, WA\, 98116\, United States
CATEGORIES:Alki Lodge,Masonic Family
ORGANIZER;CN="Dick Syson%2C Secretary":MAILTO:nosys@comcast.net
GEO:47.5600056;-122.3825589
X-APPLE-STRUCTURED-LOCATION;VALUE=URI;X-ADDRESS=Alki Masonic Center 4736 40th Ave. SW Seattle WA 98116 United States;X-APPLE-RADIUS=500;X-TITLE=4736 40th Ave. SW:geo:-122.3825589,47.5600056
END:VEVENT
BEGIN:VEVENT
DTSTART;TZID=America/Los_Angeles:20120218T080000
DTEND;TZID=America/Los_Angeles:20120218T120000
DTSTAMP:20260425T063117
CREATED:20121109T221759Z
LAST-MODIFIED:20121124T052332Z
UID:921-1329552000-1329566400@alki152.org
SUMMARY:Alki Lodge #152 - Pancake Breakfast
DESCRIPTION:
URL:https://alki152.org/event/alki-lodge-152-pancake-breakfast/
LOCATION:Alki Masonic Center\, 4736 40th Ave. SW\, Seattle\, WA\, 98116\, United States
CATEGORIES:Alki Lodge,Masonic Family,Public Event
ORGANIZER;CN="Dick Syson%2C Secretary":MAILTO:nosys@comcast.net
GEO:47.5600056;-122.3825589
X-APPLE-STRUCTURED-LOCATION;VALUE=URI;X-ADDRESS=Alki Masonic Center 4736 40th Ave. SW Seattle WA 98116 United States;X-APPLE-RADIUS=500;X-TITLE=4736 40th Ave. SW:geo:-122.3825589,47.5600056
END:VEVENT
BEGIN:VEVENT
DTSTART;TZID=America/Los_Angeles:20120204T170000
DTEND;TZID=America/Los_Angeles:20120204T220000
DTSTAMP:20260425T063117
CREATED:20121109T221204Z
LAST-MODIFIED:20121124T051628Z
UID:917-1328374800-1328392800@alki152.org
SUMMARY:Lodge Alba #315
DESCRIPTION:
URL:https://alki152.org/event/lodge-alba-315-4/
LOCATION:Alki Masonic Center\, 4736 40th Ave. SW\, Seattle\, WA\, 98116\, United States
CATEGORIES:Lodge Alba,Masonic Family
GEO:47.5600056;-122.3825589
X-APPLE-STRUCTURED-LOCATION;VALUE=URI;X-ADDRESS=Alki Masonic Center 4736 40th Ave. SW Seattle WA 98116 United States;X-APPLE-RADIUS=500;X-TITLE=4736 40th Ave. SW:geo:-122.3825589,47.5600056
END:VEVENT
BEGIN:VEVENT
DTSTART;TZID=America/Los_Angeles:20120107T150000
DTEND;TZID=America/Los_Angeles:20120107T220000
DTSTAMP:20260425T063117
CREATED:20121109T205717Z
LAST-MODIFIED:20121124T045751Z
UID:899-1325948400-1325973600@alki152.org
SUMMARY:Lodge Alba #315
DESCRIPTION:
URL:https://alki152.org/event/lodge-alba-315-3/
LOCATION:Alki Masonic Center\, 4736 40th Ave. SW\, Seattle\, WA\, 98116\, United States
CATEGORIES:Lodge Alba,Masonic Family
GEO:47.5600056;-122.3825589
X-APPLE-STRUCTURED-LOCATION;VALUE=URI;X-ADDRESS=Alki Masonic Center 4736 40th Ave. SW Seattle WA 98116 United States;X-APPLE-RADIUS=500;X-TITLE=4736 40th Ave. SW:geo:-122.3825589,47.5600056
END:VEVENT
BEGIN:VEVENT
DTSTART;TZID=America/Los_Angeles:20120102T080000
DTEND;TZID=America/Los_Angeles:20120102T170000
DTSTAMP:20260425T063117
CREATED:20170614T182124Z
LAST-MODIFIED:20170614T182124Z
UID:7040-1325491200-1325523600@alki152.org
SUMMARY:Alki Lodge #152 Stated Meeting
DESCRIPTION:
URL:https://alki152.org/event/alki-lodge-152-stated-meeting/2012-01-02/
LOCATION:Alki Masonic Center\, 4736 40th Ave. SW\, Seattle\, WA\, 98116\, United States
CATEGORIES:Alki Lodge,Masonic Family
GEO:47.5600056;-122.3825589
X-APPLE-STRUCTURED-LOCATION;VALUE=URI;X-ADDRESS=Alki Masonic Center 4736 40th Ave. SW Seattle WA 98116 United States;X-APPLE-RADIUS=500;X-TITLE=4736 40th Ave. SW:geo:-122.3825589,47.5600056
END:VEVENT
END:VCALENDAR