BEGIN:VCALENDAR
VERSION:2.0
PRODID:-//Alki Masonic Lodge #152 - ECPv6.15.20//NONSGML v1.0//EN
CALSCALE:GREGORIAN
METHOD:PUBLISH
X-WR-CALNAME:Alki Masonic Lodge #152
X-ORIGINAL-URL:https://alki152.org
X-WR-CALDESC:Events for Alki Masonic Lodge #152
REFRESH-INTERVAL;VALUE=DURATION:PT1H
X-Robots-Tag:noindex
X-PUBLISHED-TTL:PT1H
BEGIN:VTIMEZONE
TZID:America/Los_Angeles
BEGIN:DAYLIGHT
TZOFFSETFROM:-0800
TZOFFSETTO:-0700
TZNAME:PDT
DTSTART:20190310T100000
END:DAYLIGHT
BEGIN:STANDARD
TZOFFSETFROM:-0700
TZOFFSETTO:-0800
TZNAME:PST
DTSTART:20191103T090000
END:STANDARD
BEGIN:DAYLIGHT
TZOFFSETFROM:-0800
TZOFFSETTO:-0700
TZNAME:PDT
DTSTART:20200308T100000
END:DAYLIGHT
BEGIN:STANDARD
TZOFFSETFROM:-0700
TZOFFSETTO:-0800
TZNAME:PST
DTSTART:20201101T090000
END:STANDARD
BEGIN:DAYLIGHT
TZOFFSETFROM:-0800
TZOFFSETTO:-0700
TZNAME:PDT
DTSTART:20210314T100000
END:DAYLIGHT
BEGIN:STANDARD
TZOFFSETFROM:-0700
TZOFFSETTO:-0800
TZNAME:PST
DTSTART:20211107T090000
END:STANDARD
BEGIN:DAYLIGHT
TZOFFSETFROM:-0800
TZOFFSETTO:-0700
TZNAME:PDT
DTSTART:20220313T100000
END:DAYLIGHT
BEGIN:STANDARD
TZOFFSETFROM:-0700
TZOFFSETTO:-0800
TZNAME:PST
DTSTART:20221106T090000
END:STANDARD
BEGIN:DAYLIGHT
TZOFFSETFROM:-0800
TZOFFSETTO:-0700
TZNAME:PDT
DTSTART:20230312T100000
END:DAYLIGHT
BEGIN:STANDARD
TZOFFSETFROM:-0700
TZOFFSETTO:-0800
TZNAME:PST
DTSTART:20231105T090000
END:STANDARD
BEGIN:DAYLIGHT
TZOFFSETFROM:-0800
TZOFFSETTO:-0700
TZNAME:PDT
DTSTART:20240310T100000
END:DAYLIGHT
BEGIN:STANDARD
TZOFFSETFROM:-0700
TZOFFSETTO:-0800
TZNAME:PST
DTSTART:20241103T090000
END:STANDARD
BEGIN:DAYLIGHT
TZOFFSETFROM:-0800
TZOFFSETTO:-0700
TZNAME:PDT
DTSTART:20250309T100000
END:DAYLIGHT
BEGIN:STANDARD
TZOFFSETFROM:-0700
TZOFFSETTO:-0800
TZNAME:PST
DTSTART:20251102T090000
END:STANDARD
BEGIN:DAYLIGHT
TZOFFSETFROM:-0800
TZOFFSETTO:-0700
TZNAME:PDT
DTSTART:20260308T100000
END:DAYLIGHT
BEGIN:STANDARD
TZOFFSETFROM:-0700
TZOFFSETTO:-0800
TZNAME:PST
DTSTART:20261101T090000
END:STANDARD
BEGIN:DAYLIGHT
TZOFFSETFROM:-0800
TZOFFSETTO:-0700
TZNAME:PDT
DTSTART:20270314T100000
END:DAYLIGHT
BEGIN:STANDARD
TZOFFSETFROM:-0700
TZOFFSETTO:-0800
TZNAME:PST
DTSTART:20271107T090000
END:STANDARD
END:VTIMEZONE
BEGIN:VEVENT
DTSTART;TZID=America/Los_Angeles:20260206T160000
DTEND;TZID=America/Los_Angeles:20260206T230000
DTSTAMP:20260423T164118
CREATED:20130628T211109Z
LAST-MODIFIED:20130628T211109Z
UID:11840-1770393600-1770418800@alki152.org
SUMMARY:Amaranth - Alki Court
DESCRIPTION:
URL:https://alki152.org/event/amaranth-westgate-court-2015-12-04-2016-12-02-2017-12-01/2026-02-06/
LOCATION:Alki Masonic Center\, 4736 40th Ave. SW\, Seattle\, WA\, 98116\, United States
CATEGORIES:Masonic Family,Westgate
ORGANIZER;CN="Sue Gibbs":MAILTO:westgateevents21@gmail.com
GEO:47.5600056;-122.3825589
X-APPLE-STRUCTURED-LOCATION;VALUE=URI;X-ADDRESS=Alki Masonic Center 4736 40th Ave. SW Seattle WA 98116 United States;X-APPLE-RADIUS=500;X-TITLE=4736 40th Ave. SW:geo:-122.3825589,47.5600056
END:VEVENT
BEGIN:VEVENT
DTSTART;TZID=America/Los_Angeles:20260102T160000
DTEND;TZID=America/Los_Angeles:20260102T230000
DTSTAMP:20260423T164118
CREATED:20130628T211109Z
LAST-MODIFIED:20130628T211109Z
UID:11819-1767369600-1767394800@alki152.org
SUMMARY:Amaranth - Alki Court
DESCRIPTION:
URL:https://alki152.org/event/amaranth-westgate-court-2015-12-04-2016-12-02-2017-12-01/2026-01-02/
LOCATION:Alki Masonic Center\, 4736 40th Ave. SW\, Seattle\, WA\, 98116\, United States
CATEGORIES:Masonic Family,Westgate
ORGANIZER;CN="Sue Gibbs":MAILTO:westgateevents21@gmail.com
GEO:47.5600056;-122.3825589
X-APPLE-STRUCTURED-LOCATION;VALUE=URI;X-ADDRESS=Alki Masonic Center 4736 40th Ave. SW Seattle WA 98116 United States;X-APPLE-RADIUS=500;X-TITLE=4736 40th Ave. SW:geo:-122.3825589,47.5600056
END:VEVENT
BEGIN:VEVENT
DTSTART;TZID=America/Los_Angeles:20251205T160000
DTEND;TZID=America/Los_Angeles:20251205T230000
DTSTAMP:20260423T164118
CREATED:20130628T211109Z
LAST-MODIFIED:20130628T211109Z
UID:11771-1764950400-1764975600@alki152.org
SUMMARY:Amaranth - Alki Court
DESCRIPTION:
URL:https://alki152.org/event/amaranth-westgate-court-2015-12-04-2016-12-02-2017-12-01/2025-12-05/
LOCATION:Alki Masonic Center\, 4736 40th Ave. SW\, Seattle\, WA\, 98116\, United States
CATEGORIES:Masonic Family,Westgate
ORGANIZER;CN="Sue Gibbs":MAILTO:westgateevents21@gmail.com
GEO:47.5600056;-122.3825589
X-APPLE-STRUCTURED-LOCATION;VALUE=URI;X-ADDRESS=Alki Masonic Center 4736 40th Ave. SW Seattle WA 98116 United States;X-APPLE-RADIUS=500;X-TITLE=4736 40th Ave. SW:geo:-122.3825589,47.5600056
END:VEVENT
BEGIN:VEVENT
DTSTART;TZID=America/Los_Angeles:20251122T080000
DTEND;TZID=America/Los_Angeles:20251122T170000
DTSTAMP:20260423T164118
CREATED:20250207T164740Z
LAST-MODIFIED:20250207T164740Z
UID:12615-1763798400-1763830800@alki152.org
SUMMARY:Alki Court Craft Bazaar
DESCRIPTION:
URL:https://alki152.org/event/alki-court-craft-bazaar-2/
CATEGORIES:Masonic Family,Public Event
END:VEVENT
BEGIN:VEVENT
DTSTART;TZID=America/Los_Angeles:20251107T160000
DTEND;TZID=America/Los_Angeles:20251107T230000
DTSTAMP:20260423T164118
CREATED:20130628T211109Z
LAST-MODIFIED:20130628T211109Z
UID:11754-1762531200-1762556400@alki152.org
SUMMARY:Amaranth - Alki Court
DESCRIPTION:
URL:https://alki152.org/event/amaranth-westgate-court-2015-12-04-2016-12-02-2017-12-01/2025-11-07/
LOCATION:Alki Masonic Center\, 4736 40th Ave. SW\, Seattle\, WA\, 98116\, United States
CATEGORIES:Masonic Family,Westgate
ORGANIZER;CN="Sue Gibbs":MAILTO:westgateevents21@gmail.com
GEO:47.5600056;-122.3825589
X-APPLE-STRUCTURED-LOCATION;VALUE=URI;X-ADDRESS=Alki Masonic Center 4736 40th Ave. SW Seattle WA 98116 United States;X-APPLE-RADIUS=500;X-TITLE=4736 40th Ave. SW:geo:-122.3825589,47.5600056
END:VEVENT
BEGIN:VEVENT
DTSTART;TZID=America/Los_Angeles:20251003T160000
DTEND;TZID=America/Los_Angeles:20251003T230000
DTSTAMP:20260423T164118
CREATED:20130628T211109Z
LAST-MODIFIED:20130628T211109Z
UID:11723-1759507200-1759532400@alki152.org
SUMMARY:Amaranth - Alki Court
DESCRIPTION:
URL:https://alki152.org/event/amaranth-westgate-court-2015-12-04-2016-12-02-2017-12-01/2025-10-03/
LOCATION:Alki Masonic Center\, 4736 40th Ave. SW\, Seattle\, WA\, 98116\, United States
CATEGORIES:Masonic Family,Westgate
ORGANIZER;CN="Sue Gibbs":MAILTO:westgateevents21@gmail.com
GEO:47.5600056;-122.3825589
X-APPLE-STRUCTURED-LOCATION;VALUE=URI;X-ADDRESS=Alki Masonic Center 4736 40th Ave. SW Seattle WA 98116 United States;X-APPLE-RADIUS=500;X-TITLE=4736 40th Ave. SW:geo:-122.3825589,47.5600056
END:VEVENT
BEGIN:VEVENT
DTSTART;TZID=America/Los_Angeles:20250905T160000
DTEND;TZID=America/Los_Angeles:20250905T230000
DTSTAMP:20260423T164118
CREATED:20130628T211109Z
LAST-MODIFIED:20130628T211109Z
UID:11696-1757088000-1757113200@alki152.org
SUMMARY:Amaranth - Alki Court
DESCRIPTION:
URL:https://alki152.org/event/amaranth-westgate-court-2015-12-04-2016-12-02-2017-12-01/2025-09-05/
LOCATION:Alki Masonic Center\, 4736 40th Ave. SW\, Seattle\, WA\, 98116\, United States
CATEGORIES:Masonic Family,Westgate
ORGANIZER;CN="Sue Gibbs":MAILTO:westgateevents21@gmail.com
GEO:47.5600056;-122.3825589
X-APPLE-STRUCTURED-LOCATION;VALUE=URI;X-ADDRESS=Alki Masonic Center 4736 40th Ave. SW Seattle WA 98116 United States;X-APPLE-RADIUS=500;X-TITLE=4736 40th Ave. SW:geo:-122.3825589,47.5600056
END:VEVENT
BEGIN:VEVENT
DTSTART;TZID=America/Los_Angeles:20250606T160000
DTEND;TZID=America/Los_Angeles:20250606T230000
DTSTAMP:20260423T164118
CREATED:20130628T211109Z
LAST-MODIFIED:20130628T211109Z
UID:11474-1749225600-1749250800@alki152.org
SUMMARY:Amaranth - Alki Court
DESCRIPTION:
URL:https://alki152.org/event/amaranth-westgate-court-2015-12-04-2016-12-02-2017-12-01/2025-06-06/
LOCATION:Alki Masonic Center\, 4736 40th Ave. SW\, Seattle\, WA\, 98116\, United States
CATEGORIES:Masonic Family,Westgate
ORGANIZER;CN="Sue Gibbs":MAILTO:westgateevents21@gmail.com
GEO:47.5600056;-122.3825589
X-APPLE-STRUCTURED-LOCATION;VALUE=URI;X-ADDRESS=Alki Masonic Center 4736 40th Ave. SW Seattle WA 98116 United States;X-APPLE-RADIUS=500;X-TITLE=4736 40th Ave. SW:geo:-122.3825589,47.5600056
END:VEVENT
BEGIN:VEVENT
DTSTART;TZID=America/Los_Angeles:20250502T160000
DTEND;TZID=America/Los_Angeles:20250502T230000
DTSTAMP:20260423T164118
CREATED:20130628T211109Z
LAST-MODIFIED:20130628T211109Z
UID:11417-1746201600-1746226800@alki152.org
SUMMARY:Amaranth - Alki Court
DESCRIPTION:
URL:https://alki152.org/event/amaranth-westgate-court-2015-12-04-2016-12-02-2017-12-01/2025-05-02/
LOCATION:Alki Masonic Center\, 4736 40th Ave. SW\, Seattle\, WA\, 98116\, United States
CATEGORIES:Masonic Family,Westgate
ORGANIZER;CN="Sue Gibbs":MAILTO:westgateevents21@gmail.com
GEO:47.5600056;-122.3825589
X-APPLE-STRUCTURED-LOCATION;VALUE=URI;X-ADDRESS=Alki Masonic Center 4736 40th Ave. SW Seattle WA 98116 United States;X-APPLE-RADIUS=500;X-TITLE=4736 40th Ave. SW:geo:-122.3825589,47.5600056
END:VEVENT
BEGIN:VEVENT
DTSTART;VALUE=DATE:20250426
DTEND;VALUE=DATE:20250427
DTSTAMP:20260423T164118
CREATED:20241128T160803Z
LAST-MODIFIED:20250207T164438Z
UID:12546-1745625600-1745711999@alki152.org
SUMMARY:Alki Court Installation
DESCRIPTION:
URL:https://alki152.org/event/al-qaarams-insstallation/
END:VEVENT
BEGIN:VEVENT
DTSTART;TZID=America/Los_Angeles:20250404T160000
DTEND;TZID=America/Los_Angeles:20250404T230000
DTSTAMP:20260423T164118
CREATED:20130628T211109Z
LAST-MODIFIED:20130628T211109Z
UID:11403-1743782400-1743807600@alki152.org
SUMMARY:Amaranth - Alki Court
DESCRIPTION:
URL:https://alki152.org/event/amaranth-westgate-court-2015-12-04-2016-12-02-2017-12-01/2025-04-04/
LOCATION:Alki Masonic Center\, 4736 40th Ave. SW\, Seattle\, WA\, 98116\, United States
CATEGORIES:Masonic Family,Westgate
ORGANIZER;CN="Sue Gibbs":MAILTO:westgateevents21@gmail.com
GEO:47.5600056;-122.3825589
X-APPLE-STRUCTURED-LOCATION;VALUE=URI;X-ADDRESS=Alki Masonic Center 4736 40th Ave. SW Seattle WA 98116 United States;X-APPLE-RADIUS=500;X-TITLE=4736 40th Ave. SW:geo:-122.3825589,47.5600056
END:VEVENT
BEGIN:VEVENT
DTSTART;TZID=America/Los_Angeles:20250307T160000
DTEND;TZID=America/Los_Angeles:20250307T230000
DTSTAMP:20260423T164118
CREATED:20130628T211109Z
LAST-MODIFIED:20130628T211109Z
UID:11366-1741363200-1741388400@alki152.org
SUMMARY:Amaranth - Alki Court
DESCRIPTION:
URL:https://alki152.org/event/amaranth-westgate-court-2015-12-04-2016-12-02-2017-12-01/2025-03-07/
LOCATION:Alki Masonic Center\, 4736 40th Ave. SW\, Seattle\, WA\, 98116\, United States
CATEGORIES:Masonic Family,Westgate
ORGANIZER;CN="Sue Gibbs":MAILTO:westgateevents21@gmail.com
GEO:47.5600056;-122.3825589
X-APPLE-STRUCTURED-LOCATION;VALUE=URI;X-ADDRESS=Alki Masonic Center 4736 40th Ave. SW Seattle WA 98116 United States;X-APPLE-RADIUS=500;X-TITLE=4736 40th Ave. SW:geo:-122.3825589,47.5600056
END:VEVENT
BEGIN:VEVENT
DTSTART;TZID=America/Los_Angeles:20250207T160000
DTEND;TZID=America/Los_Angeles:20250207T230000
DTSTAMP:20260423T164118
CREATED:20130628T211109Z
LAST-MODIFIED:20130628T211109Z
UID:11336-1738944000-1738969200@alki152.org
SUMMARY:Amaranth - Alki Court
DESCRIPTION:
URL:https://alki152.org/event/amaranth-westgate-court-2015-12-04-2016-12-02-2017-12-01/2025-02-07/
LOCATION:Alki Masonic Center\, 4736 40th Ave. SW\, Seattle\, WA\, 98116\, United States
CATEGORIES:Masonic Family,Westgate
ORGANIZER;CN="Sue Gibbs":MAILTO:westgateevents21@gmail.com
GEO:47.5600056;-122.3825589
X-APPLE-STRUCTURED-LOCATION;VALUE=URI;X-ADDRESS=Alki Masonic Center 4736 40th Ave. SW Seattle WA 98116 United States;X-APPLE-RADIUS=500;X-TITLE=4736 40th Ave. SW:geo:-122.3825589,47.5600056
END:VEVENT
BEGIN:VEVENT
DTSTART;TZID=America/Los_Angeles:20250103T160000
DTEND;TZID=America/Los_Angeles:20250103T230000
DTSTAMP:20260423T164118
CREATED:20130628T211109Z
LAST-MODIFIED:20230123T205430Z
UID:11118-1735920000-1735945200@alki152.org
SUMMARY:Amaranth - Alki Court
DESCRIPTION:
URL:https://alki152.org/event/amaranth-westgate-court-2015-12-04-2016-12-02-2017-12-01/2025-01-03/
LOCATION:Alki Masonic Center\, 4736 40th Ave. SW\, Seattle\, WA\, 98116\, United States
CATEGORIES:Masonic Family,Westgate
ORGANIZER;CN="Sue Gibbs":MAILTO:westgateevents21@gmail.com
GEO:47.5600056;-122.3825589
X-APPLE-STRUCTURED-LOCATION;VALUE=URI;X-ADDRESS=Alki Masonic Center 4736 40th Ave. SW Seattle WA 98116 United States;X-APPLE-RADIUS=500;X-TITLE=4736 40th Ave. SW:geo:-122.3825589,47.5600056
END:VEVENT
BEGIN:VEVENT
DTSTART;TZID=America/Los_Angeles:20241206T160000
DTEND;TZID=America/Los_Angeles:20241206T230000
DTSTAMP:20260423T164118
CREATED:20130628T211109Z
LAST-MODIFIED:20230123T205430Z
UID:11117-1733500800-1733526000@alki152.org
SUMMARY:Amaranth - Alki Court
DESCRIPTION:
URL:https://alki152.org/event/amaranth-westgate-court-2015-12-04-2016-12-02-2017-12-01/2024-12-06/
LOCATION:Alki Masonic Center\, 4736 40th Ave. SW\, Seattle\, WA\, 98116\, United States
CATEGORIES:Masonic Family,Westgate
ORGANIZER;CN="Sue Gibbs":MAILTO:westgateevents21@gmail.com
GEO:47.5600056;-122.3825589
X-APPLE-STRUCTURED-LOCATION;VALUE=URI;X-ADDRESS=Alki Masonic Center 4736 40th Ave. SW Seattle WA 98116 United States;X-APPLE-RADIUS=500;X-TITLE=4736 40th Ave. SW:geo:-122.3825589,47.5600056
END:VEVENT
BEGIN:VEVENT
DTSTART;TZID=America/Los_Angeles:20241101T160000
DTEND;TZID=America/Los_Angeles:20241101T230000
DTSTAMP:20260423T164118
CREATED:20130628T211109Z
LAST-MODIFIED:20230123T205430Z
UID:11116-1730476800-1730502000@alki152.org
SUMMARY:Amaranth - Alki Court
DESCRIPTION:
URL:https://alki152.org/event/amaranth-westgate-court-2015-12-04-2016-12-02-2017-12-01/2024-11-01/
LOCATION:Alki Masonic Center\, 4736 40th Ave. SW\, Seattle\, WA\, 98116\, United States
CATEGORIES:Masonic Family,Westgate
ORGANIZER;CN="Sue Gibbs":MAILTO:westgateevents21@gmail.com
GEO:47.5600056;-122.3825589
X-APPLE-STRUCTURED-LOCATION;VALUE=URI;X-ADDRESS=Alki Masonic Center 4736 40th Ave. SW Seattle WA 98116 United States;X-APPLE-RADIUS=500;X-TITLE=4736 40th Ave. SW:geo:-122.3825589,47.5600056
END:VEVENT
BEGIN:VEVENT
DTSTART;TZID=America/Los_Angeles:20241004T160000
DTEND;TZID=America/Los_Angeles:20241004T230000
DTSTAMP:20260423T164118
CREATED:20130628T211109Z
LAST-MODIFIED:20230123T205430Z
UID:11115-1728057600-1728082800@alki152.org
SUMMARY:Amaranth - Alki Court
DESCRIPTION:
URL:https://alki152.org/event/amaranth-westgate-court-2015-12-04-2016-12-02-2017-12-01/2024-10-04/
LOCATION:Alki Masonic Center\, 4736 40th Ave. SW\, Seattle\, WA\, 98116\, United States
CATEGORIES:Masonic Family,Westgate
ORGANIZER;CN="Sue Gibbs":MAILTO:westgateevents21@gmail.com
GEO:47.5600056;-122.3825589
X-APPLE-STRUCTURED-LOCATION;VALUE=URI;X-ADDRESS=Alki Masonic Center 4736 40th Ave. SW Seattle WA 98116 United States;X-APPLE-RADIUS=500;X-TITLE=4736 40th Ave. SW:geo:-122.3825589,47.5600056
END:VEVENT
BEGIN:VEVENT
DTSTART;TZID=America/Los_Angeles:20240906T160000
DTEND;TZID=America/Los_Angeles:20240906T230000
DTSTAMP:20260423T164118
CREATED:20130628T211109Z
LAST-MODIFIED:20230123T205429Z
UID:11114-1725638400-1725663600@alki152.org
SUMMARY:Amaranth - Alki Court
DESCRIPTION:
URL:https://alki152.org/event/amaranth-westgate-court-2015-12-04-2016-12-02-2017-12-01/2024-09-06/
LOCATION:Alki Masonic Center\, 4736 40th Ave. SW\, Seattle\, WA\, 98116\, United States
CATEGORIES:Masonic Family,Westgate
ORGANIZER;CN="Sue Gibbs":MAILTO:westgateevents21@gmail.com
GEO:47.5600056;-122.3825589
X-APPLE-STRUCTURED-LOCATION;VALUE=URI;X-ADDRESS=Alki Masonic Center 4736 40th Ave. SW Seattle WA 98116 United States;X-APPLE-RADIUS=500;X-TITLE=4736 40th Ave. SW:geo:-122.3825589,47.5600056
END:VEVENT
BEGIN:VEVENT
DTSTART;TZID=America/Los_Angeles:20240802T160000
DTEND;TZID=America/Los_Angeles:20240802T230000
DTSTAMP:20260423T164118
CREATED:20130628T211109Z
LAST-MODIFIED:20230123T205429Z
UID:11113-1722614400-1722639600@alki152.org
SUMMARY:Amaranth - Alki Court
DESCRIPTION:
URL:https://alki152.org/event/amaranth-westgate-court-2015-12-04-2016-12-02-2017-12-01/2024-08-02/
LOCATION:Alki Masonic Center\, 4736 40th Ave. SW\, Seattle\, WA\, 98116\, United States
CATEGORIES:Masonic Family,Westgate
ORGANIZER;CN="Sue Gibbs":MAILTO:westgateevents21@gmail.com
GEO:47.5600056;-122.3825589
X-APPLE-STRUCTURED-LOCATION;VALUE=URI;X-ADDRESS=Alki Masonic Center 4736 40th Ave. SW Seattle WA 98116 United States;X-APPLE-RADIUS=500;X-TITLE=4736 40th Ave. SW:geo:-122.3825589,47.5600056
END:VEVENT
BEGIN:VEVENT
DTSTART;TZID=America/Los_Angeles:20240705T160000
DTEND;TZID=America/Los_Angeles:20240705T230000
DTSTAMP:20260423T164118
CREATED:20130628T211109Z
LAST-MODIFIED:20230123T205429Z
UID:11112-1720195200-1720220400@alki152.org
SUMMARY:Amaranth - Alki Court
DESCRIPTION:
URL:https://alki152.org/event/amaranth-westgate-court-2015-12-04-2016-12-02-2017-12-01/2024-07-05/
LOCATION:Alki Masonic Center\, 4736 40th Ave. SW\, Seattle\, WA\, 98116\, United States
CATEGORIES:Masonic Family,Westgate
ORGANIZER;CN="Sue Gibbs":MAILTO:westgateevents21@gmail.com
GEO:47.5600056;-122.3825589
X-APPLE-STRUCTURED-LOCATION;VALUE=URI;X-ADDRESS=Alki Masonic Center 4736 40th Ave. SW Seattle WA 98116 United States;X-APPLE-RADIUS=500;X-TITLE=4736 40th Ave. SW:geo:-122.3825589,47.5600056
END:VEVENT
BEGIN:VEVENT
DTSTART;TZID=America/Los_Angeles:20240607T160000
DTEND;TZID=America/Los_Angeles:20240607T230000
DTSTAMP:20260423T164118
CREATED:20130628T211109Z
LAST-MODIFIED:20230123T205416Z
UID:11111-1717776000-1717801200@alki152.org
SUMMARY:Amaranth - Alki Court
DESCRIPTION:
URL:https://alki152.org/event/amaranth-westgate-court-2015-12-04-2016-12-02-2017-12-01/2024-06-07/
LOCATION:Alki Masonic Center\, 4736 40th Ave. SW\, Seattle\, WA\, 98116\, United States
CATEGORIES:Masonic Family,Westgate
ORGANIZER;CN="Sue Gibbs":MAILTO:westgateevents21@gmail.com
GEO:47.5600056;-122.3825589
X-APPLE-STRUCTURED-LOCATION;VALUE=URI;X-ADDRESS=Alki Masonic Center 4736 40th Ave. SW Seattle WA 98116 United States;X-APPLE-RADIUS=500;X-TITLE=4736 40th Ave. SW:geo:-122.3825589,47.5600056
END:VEVENT
BEGIN:VEVENT
DTSTART;TZID=America/Los_Angeles:20240503T160000
DTEND;TZID=America/Los_Angeles:20240503T230000
DTSTAMP:20260423T164118
CREATED:20130628T211109Z
LAST-MODIFIED:20230123T205416Z
UID:11110-1714752000-1714777200@alki152.org
SUMMARY:Amaranth - Alki Court
DESCRIPTION:
URL:https://alki152.org/event/amaranth-westgate-court-2015-12-04-2016-12-02-2017-12-01/2024-05-03/
LOCATION:Alki Masonic Center\, 4736 40th Ave. SW\, Seattle\, WA\, 98116\, United States
CATEGORIES:Masonic Family,Westgate
ORGANIZER;CN="Sue Gibbs":MAILTO:westgateevents21@gmail.com
GEO:47.5600056;-122.3825589
X-APPLE-STRUCTURED-LOCATION;VALUE=URI;X-ADDRESS=Alki Masonic Center 4736 40th Ave. SW Seattle WA 98116 United States;X-APPLE-RADIUS=500;X-TITLE=4736 40th Ave. SW:geo:-122.3825589,47.5600056
END:VEVENT
BEGIN:VEVENT
DTSTART;TZID=America/Los_Angeles:20240413T080000
DTEND;TZID=America/Los_Angeles:20240413T170000
DTSTAMP:20260423T164118
CREATED:20230214T231133Z
LAST-MODIFIED:20230214T231133Z
UID:11349-1712995200-1713027600@alki152.org
SUMMARY:Alki Court Amaranth Installation
DESCRIPTION:
URL:https://alki152.org/event/alki-court-amaranth-installation-2/
CATEGORIES:Alki Court,Masonic Family
END:VEVENT
BEGIN:VEVENT
DTSTART;TZID=America/Los_Angeles:20231118T070000
DTEND;TZID=America/Los_Angeles:20231118T160000
DTSTAMP:20260423T164118
CREATED:20230525T223721Z
LAST-MODIFIED:20230525T223721Z
UID:11448-1700290800-1700323200@alki152.org
SUMMARY:Alki Court Holiday Bazaar
DESCRIPTION:
URL:https://alki152.org/event/alki-court-holiday-bazaar/
CATEGORIES:Public Event
END:VEVENT
BEGIN:VEVENT
DTSTART;TZID=America/Los_Angeles:20230415T080000
DTEND;TZID=America/Los_Angeles:20230415T233000
DTSTAMP:20260423T164118
CREATED:20230123T221728Z
LAST-MODIFIED:20230123T221728Z
UID:11321-1681545600-1681601400@alki152.org
SUMMARY:Amaranth - Alki Court\, Installation of Officers
DESCRIPTION:Contact: Michelle Wheeler
URL:https://alki152.org/event/amaranth-alki-court-installation-of-officers/
END:VEVENT
BEGIN:VEVENT
DTSTART;VALUE=DATE:20221119
DTEND;VALUE=DATE:20221120
DTSTAMP:20260423T164118
CREATED:20220824T051426Z
LAST-MODIFIED:20220824T051426Z
UID:10679-1668816000-1668902399@alki152.org
SUMMARY:Alki Court Craft Bazaar
DESCRIPTION:
URL:https://alki152.org/event/alki-court-craft-bazaar/
CATEGORIES:Masonic Family
END:VEVENT
BEGIN:VEVENT
DTSTART;VALUE=DATE:20220409
DTEND;VALUE=DATE:20220410
DTSTAMP:20260423T164118
CREATED:20210921T011902Z
LAST-MODIFIED:20210921T011902Z
UID:10327-1649462400-1649548799@alki152.org
SUMMARY:Alki Court Amaranth Installation
DESCRIPTION:Contact Sandra Monk
URL:https://alki152.org/event/alki-court-amaranth-installation/
CATEGORIES:Amethyst
END:VEVENT
BEGIN:VEVENT
DTSTART;TZID=America/Los_Angeles:20211120T063000
DTEND;TZID=America/Los_Angeles:20211120T180000
DTSTAMP:20260423T164118
CREATED:20210622T195131Z
LAST-MODIFIED:20210622T195131Z
UID:10252-1637389800-1637431200@alki152.org
SUMMARY:Holiday Bazaar
DESCRIPTION:Sue Gibbs- Alki Court #21
URL:https://alki152.org/event/holiday-bazaar-3/
CATEGORIES:Alki Court
END:VEVENT
BEGIN:VEVENT
DTSTART;TZID=America/Los_Angeles:20201121T060000
DTEND;TZID=America/Los_Angeles:20201121T170000
DTSTAMP:20260423T164118
CREATED:20191118T212049Z
LAST-MODIFIED:20191118T212049Z
UID:9238-1605938400-1605978000@alki152.org
SUMMARY:Holiday Bazaar: Alki Court
DESCRIPTION:
URL:https://alki152.org/event/holiday-bazaar-alki-court/
CATEGORIES:Masonic Family,Public Event
END:VEVENT
BEGIN:VEVENT
DTSTART;VALUE=DATE:20200531
DTEND;VALUE=DATE:20200601
DTSTAMP:20260423T164118
CREATED:20200114T010100Z
LAST-MODIFIED:20200114T010100Z
UID:9284-1590883200-1590969599@alki152.org
SUMMARY:Alki Court Installation
DESCRIPTION:
URL:https://alki152.org/event/alki-court-installation-3/
CATEGORIES:Masonic Family
END:VEVENT
END:VCALENDAR