BEGIN:VCALENDAR
VERSION:2.0
PRODID:-//Alki Masonic Lodge #152 - ECPv6.15.20//NONSGML v1.0//EN
CALSCALE:GREGORIAN
METHOD:PUBLISH
X-WR-CALNAME:Alki Masonic Lodge #152
X-ORIGINAL-URL:https://alki152.org
X-WR-CALDESC:Events for Alki Masonic Lodge #152
REFRESH-INTERVAL;VALUE=DURATION:PT1H
X-Robots-Tag:noindex
X-PUBLISHED-TTL:PT1H
BEGIN:VTIMEZONE
TZID:America/Los_Angeles
BEGIN:DAYLIGHT
TZOFFSETFROM:-0800
TZOFFSETTO:-0700
TZNAME:PDT
DTSTART:20250309T100000
END:DAYLIGHT
BEGIN:STANDARD
TZOFFSETFROM:-0700
TZOFFSETTO:-0800
TZNAME:PST
DTSTART:20251102T090000
END:STANDARD
BEGIN:DAYLIGHT
TZOFFSETFROM:-0800
TZOFFSETTO:-0700
TZNAME:PDT
DTSTART:20260308T100000
END:DAYLIGHT
BEGIN:STANDARD
TZOFFSETFROM:-0700
TZOFFSETTO:-0800
TZNAME:PST
DTSTART:20261101T090000
END:STANDARD
BEGIN:DAYLIGHT
TZOFFSETFROM:-0800
TZOFFSETTO:-0700
TZNAME:PDT
DTSTART:20270314T100000
END:DAYLIGHT
BEGIN:STANDARD
TZOFFSETFROM:-0700
TZOFFSETTO:-0800
TZNAME:PST
DTSTART:20271107T090000
END:STANDARD
END:VTIMEZONE
BEGIN:VEVENT
DTSTART;TZID=America/Los_Angeles:20260206T160000
DTEND;TZID=America/Los_Angeles:20260206T230000
DTSTAMP:20260423T152943
CREATED:20130628T211109Z
LAST-MODIFIED:20130628T211109Z
UID:11840-1770393600-1770418800@alki152.org
SUMMARY:Amaranth - Alki Court
DESCRIPTION:
URL:https://alki152.org/event/amaranth-westgate-court-2015-12-04-2016-12-02-2017-12-01/2026-02-06/
LOCATION:Alki Masonic Center\, 4736 40th Ave. SW\, Seattle\, WA\, 98116\, United States
CATEGORIES:Masonic Family,Westgate
ORGANIZER;CN="Sue Gibbs":MAILTO:westgateevents21@gmail.com
GEO:47.5600056;-122.3825589
X-APPLE-STRUCTURED-LOCATION;VALUE=URI;X-ADDRESS=Alki Masonic Center 4736 40th Ave. SW Seattle WA 98116 United States;X-APPLE-RADIUS=500;X-TITLE=4736 40th Ave. SW:geo:-122.3825589,47.5600056
END:VEVENT
BEGIN:VEVENT
DTSTART;TZID=America/Los_Angeles:20260207T140000
DTEND;TZID=America/Los_Angeles:20260207T220000
DTSTAMP:20260423T152943
CREATED:20230123T214146Z
LAST-MODIFIED:20230123T214146Z
UID:11841-1770472800-1770501600@alki152.org
SUMMARY:Lodge Alba Stated Meeting
DESCRIPTION:
URL:https://alki152.org/event/lodge-alba-stated-meeting-10/2026-02-07/
CATEGORIES:Lodge Alba
END:VEVENT
BEGIN:VEVENT
DTSTART;TZID=America/Los_Angeles:20260208T143000
DTEND;TZID=America/Los_Angeles:20260208T200000
DTSTAMP:20260423T152943
CREATED:20250919T133654Z
LAST-MODIFIED:20250919T133654Z
UID:13091-1770561000-1770580800@alki152.org
SUMMARY:Superbowl Viewing Party (3:30 pm kick off)
DESCRIPTION:
URL:https://alki152.org/event/superbowl-viewing-party-330-pm-kick-off/
CATEGORIES:Masonic Family,Public Event
END:VEVENT
BEGIN:VEVENT
DTSTART;TZID=America/Los_Angeles:20260209T110000
DTEND;TZID=America/Los_Angeles:20260209T160000
DTSTAMP:20260423T152943
CREATED:20251121T160606Z
LAST-MODIFIED:20251121T160606Z
UID:13376-1770634800-1770652800@alki152.org
SUMMARY:AARP Tax Preparation
DESCRIPTION:
URL:https://alki152.org/event/aarp-tax-preparation/2026-02-09/
CATEGORIES:Public Event
END:VEVENT
BEGIN:VEVENT
DTSTART;TZID=America/Los_Angeles:20260210T180000
DTEND;TZID=America/Los_Angeles:20260210T220000
DTSTAMP:20260423T152943
CREATED:20260127T012846Z
LAST-MODIFIED:20260127T012846Z
UID:13458-1770746400-1770760800@alki152.org
SUMMARY:Rainbow District Line Meeting
DESCRIPTION:
URL:https://alki152.org/event/rainbow-district-line-meeting/
CATEGORIES:Masonic Family
END:VEVENT
BEGIN:VEVENT
DTSTART;TZID=America/Los_Angeles:20260211T073000
DTEND;TZID=America/Los_Angeles:20260211T083000
DTSTAMP:20260423T152943
CREATED:20250801T191519Z
LAST-MODIFIED:20250801T191519Z
UID:13540-1770795000-1770798600@alki152.org
SUMMARY:BNI Professionals
DESCRIPTION:
URL:https://alki152.org/event/bni-professionals-2/2026-02-11/
CATEGORIES:Private Event
END:VEVENT
BEGIN:VEVENT
DTSTART;TZID=America/Los_Angeles:20260212T073000
DTEND;TZID=America/Los_Angeles:20260212T093000
DTSTAMP:20260423T152943
CREATED:20250713T031856Z
LAST-MODIFIED:20260329T213317Z
UID:12979-1770881400-1770888600@alki152.org
SUMMARY:BNI Champions
DESCRIPTION:
URL:https://alki152.org/event/bni-champions-2/2026-02-12/
CATEGORIES:Private Event
END:VEVENT
BEGIN:VEVENT
DTSTART;TZID=America/Los_Angeles:20260212T100000
DTEND;TZID=America/Los_Angeles:20260212T120000
DTSTAMP:20260423T152943
CREATED:20251002T213843Z
LAST-MODIFIED:20251002T213843Z
UID:13161-1770890400-1770897600@alki152.org
SUMMARY:Alki Lodge Social Gathering
DESCRIPTION:Time set aside for members (all Lodges) and friends to gather for social interaction. No set agenda\, no pressure. Chess available. Bring a guitar if you want. Provide a fishing story or two if you must.
URL:https://alki152.org/event/alki-lodge-social-gathering/2026-02-12/
END:VEVENT
BEGIN:VEVENT
DTSTART;TZID=America/Los_Angeles:20260213T170000
DTEND;TZID=America/Los_Angeles:20260213T220000
DTSTAMP:20260423T152943
CREATED:20230328T145554Z
LAST-MODIFIED:20230328T145554Z
UID:11845-1771002000-1771020000@alki152.org
SUMMARY:Rainbow Girls
DESCRIPTION:
URL:https://alki152.org/event/rainbow-girls-34/2026-02-13/
CATEGORIES:Masonic Family
END:VEVENT
BEGIN:VEVENT
DTSTART;VALUE=DATE:20260214
DTEND;VALUE=DATE:20260215
DTSTAMP:20260423T152943
CREATED:20251101T225236Z
LAST-MODIFIED:20251101T225236Z
UID:13353-1771027200-1771113599@alki152.org
SUMMARY:Amaranth
DESCRIPTION:
URL:https://alki152.org/event/amaranth/
CATEGORIES:Masonic Family
END:VEVENT
BEGIN:VEVENT
DTSTART;TZID=America/Los_Angeles:20260215T140000
DTEND;TZID=America/Los_Angeles:20260215T220000
DTSTAMP:20260423T152943
CREATED:20190319T034811Z
LAST-MODIFIED:20190319T034811Z
UID:12130-1771164000-1771192800@alki152.org
SUMMARY:Seattle Swing Dance
DESCRIPTION:
URL:https://alki152.org/event/seattle-swing-dance/2026-02-15/
LOCATION:Alki Masonic Center\, 4736 40th Ave. SW\, Seattle\, WA\, 98116\, United States
CATEGORIES:Private Event
GEO:47.5600056;-122.3825589
X-APPLE-STRUCTURED-LOCATION;VALUE=URI;X-ADDRESS=Alki Masonic Center 4736 40th Ave. SW Seattle WA 98116 United States;X-APPLE-RADIUS=500;X-TITLE=4736 40th Ave. SW:geo:-122.3825589,47.5600056
END:VEVENT
BEGIN:VEVENT
DTSTART;TZID=America/Los_Angeles:20260216T110000
DTEND;TZID=America/Los_Angeles:20260216T160000
DTSTAMP:20260423T152943
CREATED:20251121T160606Z
LAST-MODIFIED:20251121T160606Z
UID:13377-1771239600-1771257600@alki152.org
SUMMARY:AARP Tax Preparation
DESCRIPTION:
URL:https://alki152.org/event/aarp-tax-preparation/2026-02-16/
CATEGORIES:Public Event
END:VEVENT
BEGIN:VEVENT
DTSTART;TZID=America/Los_Angeles:20260216T180000
DTEND;TZID=America/Los_Angeles:20260216T213000
DTSTAMP:20260423T152943
CREATED:20250919T133802Z
LAST-MODIFIED:20250919T133802Z
UID:13093-1771264800-1771277400@alki152.org
SUMMARY:Alki Lodge #152 Education Night
DESCRIPTION:
URL:https://alki152.org/event/alki-lodge-152-education-night/
CATEGORIES:Masonic Family
END:VEVENT
BEGIN:VEVENT
DTSTART;TZID=America/Los_Angeles:20260218T073000
DTEND;TZID=America/Los_Angeles:20260218T083000
DTSTAMP:20260423T152943
CREATED:20250801T191519Z
LAST-MODIFIED:20250801T191519Z
UID:13541-1771399800-1771403400@alki152.org
SUMMARY:BNI Professionals
DESCRIPTION:
URL:https://alki152.org/event/bni-professionals-2/2026-02-18/
CATEGORIES:Private Event
END:VEVENT
BEGIN:VEVENT
DTSTART;TZID=America/Los_Angeles:20260219T073000
DTEND;TZID=America/Los_Angeles:20260219T093000
DTSTAMP:20260423T152943
CREATED:20250713T031856Z
LAST-MODIFIED:20260329T213318Z
UID:12980-1771486200-1771493400@alki152.org
SUMMARY:BNI Champions
DESCRIPTION:
URL:https://alki152.org/event/bni-champions-2/2026-02-19/
CATEGORIES:Private Event
END:VEVENT
BEGIN:VEVENT
DTSTART;TZID=America/Los_Angeles:20260219T100000
DTEND;TZID=America/Los_Angeles:20260219T120000
DTSTAMP:20260423T152943
CREATED:20251002T213843Z
LAST-MODIFIED:20251002T213843Z
UID:13162-1771495200-1771502400@alki152.org
SUMMARY:Alki Lodge Social Gathering
DESCRIPTION:Time set aside for members (all Lodges) and friends to gather for social interaction. No set agenda\, no pressure. Chess available. Bring a guitar if you want. Provide a fishing story or two if you must.
URL:https://alki152.org/event/alki-lodge-social-gathering/2026-02-19/
END:VEVENT
BEGIN:VEVENT
DTSTART;VALUE=DATE:20260222
DTEND;VALUE=DATE:20260223
DTSTAMP:20260423T152943
CREATED:20251101T224951Z
LAST-MODIFIED:20251206T181154Z
UID:13349-1771718400-1771804799@alki152.org
SUMMARY:TAMLAC Anniversary Celebration
DESCRIPTION:
URL:https://alki152.org/event/tamlac-anniversary-celebration/
CATEGORIES:Private Event
END:VEVENT
BEGIN:VEVENT
DTSTART;TZID=America/Los_Angeles:20260223T110000
DTEND;TZID=America/Los_Angeles:20260223T160000
DTSTAMP:20260423T152943
CREATED:20251121T160606Z
LAST-MODIFIED:20251121T160606Z
UID:13378-1771844400-1771862400@alki152.org
SUMMARY:AARP Tax Preparation
DESCRIPTION:
URL:https://alki152.org/event/aarp-tax-preparation/2026-02-23/
CATEGORIES:Public Event
END:VEVENT
BEGIN:VEVENT
DTSTART;TZID=America/Los_Angeles:20260224T160000
DTEND;TZID=America/Los_Angeles:20260224T200000
DTSTAMP:20260423T152943
CREATED:20240417T153708Z
LAST-MODIFIED:20240417T153708Z
UID:12655-1771948800-1771963200@alki152.org
SUMMARY:Amethyst Chapter Eastern Star Meeting
DESCRIPTION:
URL:https://alki152.org/event/amethyst-chapter-eastern-star-meeting/2026-02-24/
CATEGORIES:Masonic Family
END:VEVENT
BEGIN:VEVENT
DTSTART;TZID=America/Los_Angeles:20260225T073000
DTEND;TZID=America/Los_Angeles:20260225T083000
DTSTAMP:20260423T152943
CREATED:20250801T191519Z
LAST-MODIFIED:20250801T191519Z
UID:13542-1772004600-1772008200@alki152.org
SUMMARY:BNI Professionals
DESCRIPTION:
URL:https://alki152.org/event/bni-professionals-2/2026-02-25/
CATEGORIES:Private Event
END:VEVENT
BEGIN:VEVENT
DTSTART;TZID=America/Los_Angeles:20260226T073000
DTEND;TZID=America/Los_Angeles:20260226T093000
DTSTAMP:20260423T152943
CREATED:20250713T031856Z
LAST-MODIFIED:20260329T213318Z
UID:12981-1772091000-1772098200@alki152.org
SUMMARY:BNI Champions
DESCRIPTION:
URL:https://alki152.org/event/bni-champions-2/2026-02-26/
CATEGORIES:Private Event
END:VEVENT
BEGIN:VEVENT
DTSTART;TZID=America/Los_Angeles:20260226T100000
DTEND;TZID=America/Los_Angeles:20260226T120000
DTSTAMP:20260423T152943
CREATED:20251002T213843Z
LAST-MODIFIED:20251002T213843Z
UID:13163-1772100000-1772107200@alki152.org
SUMMARY:Alki Lodge Social Gathering
DESCRIPTION:Time set aside for members (all Lodges) and friends to gather for social interaction. No set agenda\, no pressure. Chess available. Bring a guitar if you want. Provide a fishing story or two if you must.
URL:https://alki152.org/event/alki-lodge-social-gathering/2026-02-26/
END:VEVENT
BEGIN:VEVENT
DTSTART;TZID=America/Los_Angeles:20260227T100000
DTEND;TZID=America/Los_Angeles:20260227T180000
DTSTAMP:20260423T152943
CREATED:20260105T142036Z
LAST-MODIFIED:20260105T142036Z
UID:13434-1772186400-1772215200@alki152.org
SUMMARY:West Seattle Tiger Baseball Fundraiser
DESCRIPTION:
URL:https://alki152.org/event/west-seattle-tiger-baseball-fundraiser/
CATEGORIES:Private Event
END:VEVENT
BEGIN:VEVENT
DTSTART;TZID=America/Los_Angeles:20260227T170000
DTEND;TZID=America/Los_Angeles:20260227T220000
DTSTAMP:20260423T152943
CREATED:20230123T211944Z
LAST-MODIFIED:20230123T211944Z
UID:12161-1772211600-1772229600@alki152.org
SUMMARY:Rainbow Girls
DESCRIPTION:
URL:https://alki152.org/event/rainbow-girls-33/2026-02-27/
CATEGORIES:Masonic Family
END:VEVENT
BEGIN:VEVENT
DTSTART;TZID=America/Los_Angeles:20260301T080000
DTEND;TZID=America/Los_Angeles:20260301T100000
DTSTAMP:20260423T152943
CREATED:20250920T140401Z
LAST-MODIFIED:20250920T140401Z
UID:13095-1772352000-1772359200@alki152.org
SUMMARY:Alki Lodge #152 First Sunday Breakfast
DESCRIPTION:
URL:https://alki152.org/event/alki-lodge-152-first-sunday-breakfast-2/
CATEGORIES:Masonic Family,Public Event
END:VEVENT
BEGIN:VEVENT
DTSTART;TZID=America/Los_Angeles:20260301T140000
DTEND;TZID=America/Los_Angeles:20260301T220000
DTSTAMP:20260423T152943
CREATED:20190319T034811Z
LAST-MODIFIED:20190319T034811Z
UID:12121-1772373600-1772402400@alki152.org
SUMMARY:Seattle Swing Dance
DESCRIPTION:
URL:https://alki152.org/event/seattle-swing-dance/2026-03-01/
LOCATION:Alki Masonic Center\, 4736 40th Ave. SW\, Seattle\, WA\, 98116\, United States
CATEGORIES:Private Event
GEO:47.5600056;-122.3825589
X-APPLE-STRUCTURED-LOCATION;VALUE=URI;X-ADDRESS=Alki Masonic Center 4736 40th Ave. SW Seattle WA 98116 United States;X-APPLE-RADIUS=500;X-TITLE=4736 40th Ave. SW:geo:-122.3825589,47.5600056
END:VEVENT
BEGIN:VEVENT
DTSTART;TZID=America/Los_Angeles:20260302T110000
DTEND;TZID=America/Los_Angeles:20260302T160000
DTSTAMP:20260423T152943
CREATED:20251121T160606Z
LAST-MODIFIED:20251121T160606Z
UID:13379-1772449200-1772467200@alki152.org
SUMMARY:AARP Tax Preparation
DESCRIPTION:
URL:https://alki152.org/event/aarp-tax-preparation/2026-03-02/
CATEGORIES:Public Event
END:VEVENT
BEGIN:VEVENT
DTSTART;TZID=America/Los_Angeles:20260302T183000
DTEND;TZID=America/Los_Angeles:20260302T213000
DTSTAMP:20260423T152943
CREATED:20241118T202924Z
LAST-MODIFIED:20241118T202924Z
UID:12069-1772476200-1772487000@alki152.org
SUMMARY:Alki Lodge #152
DESCRIPTION:
URL:https://alki152.org/event/alki-lodge-152/2026-03-02/
CATEGORIES:Alki Lodge
END:VEVENT
BEGIN:VEVENT
DTSTART;TZID=America/Los_Angeles:20260304T073000
DTEND;TZID=America/Los_Angeles:20260304T083000
DTSTAMP:20260423T152943
CREATED:20250801T191519Z
LAST-MODIFIED:20260329T212959Z
UID:13020-1772609400-1772613000@alki152.org
SUMMARY:BNI Professionals
DESCRIPTION:
URL:https://alki152.org/event/bni-professionals-2/2026-03-04/
CATEGORIES:Private Event
END:VEVENT
BEGIN:VEVENT
DTSTART;TZID=America/Los_Angeles:20260305T073000
DTEND;TZID=America/Los_Angeles:20260305T093000
DTSTAMP:20260423T152943
CREATED:20250713T031856Z
LAST-MODIFIED:20260329T213318Z
UID:12982-1772695800-1772703000@alki152.org
SUMMARY:BNI Champions
DESCRIPTION:
URL:https://alki152.org/event/bni-champions-2/2026-03-05/
CATEGORIES:Private Event
END:VEVENT
END:VCALENDAR