BEGIN:VCALENDAR
VERSION:2.0
PRODID:-//Alki Masonic Lodge #152 - ECPv6.15.20//NONSGML v1.0//EN
CALSCALE:GREGORIAN
METHOD:PUBLISH
X-WR-CALNAME:Alki Masonic Lodge #152
X-ORIGINAL-URL:https://alki152.org
X-WR-CALDESC:Events for Alki Masonic Lodge #152
REFRESH-INTERVAL;VALUE=DURATION:PT1H
X-Robots-Tag:noindex
X-PUBLISHED-TTL:PT1H
BEGIN:VTIMEZONE
TZID:America/Los_Angeles
BEGIN:DAYLIGHT
TZOFFSETFROM:-0800
TZOFFSETTO:-0700
TZNAME:PDT
DTSTART:20230312T100000
END:DAYLIGHT
BEGIN:STANDARD
TZOFFSETFROM:-0700
TZOFFSETTO:-0800
TZNAME:PST
DTSTART:20231105T090000
END:STANDARD
BEGIN:DAYLIGHT
TZOFFSETFROM:-0800
TZOFFSETTO:-0700
TZNAME:PDT
DTSTART:20240310T100000
END:DAYLIGHT
BEGIN:STANDARD
TZOFFSETFROM:-0700
TZOFFSETTO:-0800
TZNAME:PST
DTSTART:20241103T090000
END:STANDARD
BEGIN:DAYLIGHT
TZOFFSETFROM:-0800
TZOFFSETTO:-0700
TZNAME:PDT
DTSTART:20250309T100000
END:DAYLIGHT
BEGIN:STANDARD
TZOFFSETFROM:-0700
TZOFFSETTO:-0800
TZNAME:PST
DTSTART:20251102T090000
END:STANDARD
BEGIN:DAYLIGHT
TZOFFSETFROM:-0800
TZOFFSETTO:-0700
TZNAME:PDT
DTSTART:20260308T100000
END:DAYLIGHT
BEGIN:STANDARD
TZOFFSETFROM:-0700
TZOFFSETTO:-0800
TZNAME:PST
DTSTART:20261101T090000
END:STANDARD
BEGIN:DAYLIGHT
TZOFFSETFROM:-0800
TZOFFSETTO:-0700
TZNAME:PDT
DTSTART:20270314T100000
END:DAYLIGHT
BEGIN:STANDARD
TZOFFSETFROM:-0700
TZOFFSETTO:-0800
TZNAME:PST
DTSTART:20271107T090000
END:STANDARD
END:VTIMEZONE
BEGIN:VEVENT
DTSTART;TZID=America/Los_Angeles:20260123T170000
DTEND;TZID=America/Los_Angeles:20260123T220000
DTSTAMP:20260423T151508
CREATED:20230123T211944Z
LAST-MODIFIED:20230123T211944Z
UID:11837-1769187600-1769205600@alki152.org
SUMMARY:Rainbow Girls
DESCRIPTION:
URL:https://alki152.org/event/rainbow-girls-33/2026-01-23/
CATEGORIES:Masonic Family
END:VEVENT
BEGIN:VEVENT
DTSTART;TZID=America/Los_Angeles:20260109T170000
DTEND;TZID=America/Los_Angeles:20260109T220000
DTSTAMP:20260423T151508
CREATED:20230328T145554Z
LAST-MODIFIED:20230328T145554Z
UID:11822-1767978000-1767996000@alki152.org
SUMMARY:Rainbow Girls
DESCRIPTION:
URL:https://alki152.org/event/rainbow-girls-34/2026-01-09/
CATEGORIES:Masonic Family
END:VEVENT
BEGIN:VEVENT
DTSTART;TZID=America/Los_Angeles:20251226T170000
DTEND;TZID=America/Los_Angeles:20251226T220000
DTSTAMP:20260423T151508
CREATED:20230123T211944Z
LAST-MODIFIED:20230123T211944Z
UID:11809-1766768400-1766786400@alki152.org
SUMMARY:Rainbow Girls
DESCRIPTION:
URL:https://alki152.org/event/rainbow-girls-33/2025-12-26/
CATEGORIES:Masonic Family
END:VEVENT
BEGIN:VEVENT
DTSTART;TZID=America/Los_Angeles:20251212T170000
DTEND;TZID=America/Los_Angeles:20251212T220000
DTSTAMP:20260423T151508
CREATED:20230328T145554Z
LAST-MODIFIED:20230328T145554Z
UID:11787-1765558800-1765576800@alki152.org
SUMMARY:Rainbow Girls
DESCRIPTION:
URL:https://alki152.org/event/rainbow-girls-34/2025-12-12/
CATEGORIES:Masonic Family
END:VEVENT
BEGIN:VEVENT
DTSTART;TZID=America/Los_Angeles:20251128T170000
DTEND;TZID=America/Los_Angeles:20251128T220000
DTSTAMP:20260423T151508
CREATED:20230123T211944Z
LAST-MODIFIED:20230123T211944Z
UID:11765-1764349200-1764367200@alki152.org
SUMMARY:Rainbow Girls
DESCRIPTION:
URL:https://alki152.org/event/rainbow-girls-33/2025-11-28/
CATEGORIES:Masonic Family
END:VEVENT
BEGIN:VEVENT
DTSTART;TZID=America/Los_Angeles:20251114T170000
DTEND;TZID=America/Los_Angeles:20251114T220000
DTSTAMP:20260423T151508
CREATED:20230328T145554Z
LAST-MODIFIED:20230328T145554Z
UID:11756-1763139600-1763157600@alki152.org
SUMMARY:Rainbow Girls
DESCRIPTION:
URL:https://alki152.org/event/rainbow-girls-34/2025-11-14/
CATEGORIES:Masonic Family
END:VEVENT
BEGIN:VEVENT
DTSTART;TZID=America/Los_Angeles:20251024T170000
DTEND;TZID=America/Los_Angeles:20251024T220000
DTSTAMP:20260423T151508
CREATED:20230123T211944Z
LAST-MODIFIED:20230123T211944Z
UID:11746-1761325200-1761343200@alki152.org
SUMMARY:Rainbow Girls
DESCRIPTION:
URL:https://alki152.org/event/rainbow-girls-33/2025-10-24/
CATEGORIES:Masonic Family
END:VEVENT
BEGIN:VEVENT
DTSTART;TZID=America/Los_Angeles:20251014T180000
DTEND;TZID=America/Los_Angeles:20251014T210000
DTSTAMP:20260423T151508
CREATED:20251008T032330Z
LAST-MODIFIED:20251008T032330Z
UID:13211-1760464800-1760475600@alki152.org
SUMMARY:Rainbow Line Officer Meeting
DESCRIPTION:
URL:https://alki152.org/event/rainbow-line-officer-meeting/
CATEGORIES:Masonic Family,Rainbow
END:VEVENT
BEGIN:VEVENT
DTSTART;TZID=America/Los_Angeles:20251010T170000
DTEND;TZID=America/Los_Angeles:20251010T220000
DTSTAMP:20260423T151508
CREATED:20230328T145554Z
LAST-MODIFIED:20230328T145554Z
UID:11729-1760115600-1760133600@alki152.org
SUMMARY:Rainbow Girls
DESCRIPTION:
URL:https://alki152.org/event/rainbow-girls-34/2025-10-10/
CATEGORIES:Masonic Family
END:VEVENT
BEGIN:VEVENT
DTSTART;TZID=America/Los_Angeles:20250926T170000
DTEND;TZID=America/Los_Angeles:20250926T220000
DTSTAMP:20260423T151508
CREATED:20230123T211944Z
LAST-MODIFIED:20230123T211944Z
UID:11720-1758906000-1758924000@alki152.org
SUMMARY:Rainbow Girls
DESCRIPTION:
URL:https://alki152.org/event/rainbow-girls-33/2025-09-26/
CATEGORIES:Masonic Family
END:VEVENT
BEGIN:VEVENT
DTSTART;TZID=America/Los_Angeles:20250912T170000
DTEND;TZID=America/Los_Angeles:20250912T220000
DTSTAMP:20260423T151508
CREATED:20230328T145554Z
LAST-MODIFIED:20230328T145554Z
UID:11705-1757696400-1757714400@alki152.org
SUMMARY:Rainbow Girls
DESCRIPTION:
URL:https://alki152.org/event/rainbow-girls-34/2025-09-12/
CATEGORIES:Masonic Family
END:VEVENT
BEGIN:VEVENT
DTSTART;TZID=America/Los_Angeles:20250822T170000
DTEND;TZID=America/Los_Angeles:20250822T220000
DTSTAMP:20260423T151508
CREATED:20230123T211944Z
LAST-MODIFIED:20230123T211944Z
UID:11680-1755882000-1755900000@alki152.org
SUMMARY:Rainbow Girls
DESCRIPTION:
URL:https://alki152.org/event/rainbow-girls-33/2025-08-22/
CATEGORIES:Masonic Family
END:VEVENT
BEGIN:VEVENT
DTSTART;TZID=America/Los_Angeles:20250808T170000
DTEND;TZID=America/Los_Angeles:20250808T220000
DTSTAMP:20260423T151508
CREATED:20230328T145554Z
LAST-MODIFIED:20230328T145554Z
UID:11529-1754672400-1754690400@alki152.org
SUMMARY:Rainbow Girls
DESCRIPTION:
URL:https://alki152.org/event/rainbow-girls-34/2025-08-08/
CATEGORIES:Masonic Family
END:VEVENT
BEGIN:VEVENT
DTSTART;TZID=America/Los_Angeles:20250725T170000
DTEND;TZID=America/Los_Angeles:20250725T220000
DTSTAMP:20260423T151508
CREATED:20230123T211944Z
LAST-MODIFIED:20230123T211944Z
UID:11484-1753462800-1753480800@alki152.org
SUMMARY:Rainbow Girls
DESCRIPTION:
URL:https://alki152.org/event/rainbow-girls-33/2025-07-25/
CATEGORIES:Masonic Family
END:VEVENT
BEGIN:VEVENT
DTSTART;TZID=America/Los_Angeles:20250711T170000
DTEND;TZID=America/Los_Angeles:20250711T220000
DTSTAMP:20260423T151508
CREATED:20230328T145554Z
LAST-MODIFIED:20230328T145554Z
UID:11482-1752253200-1752271200@alki152.org
SUMMARY:Rainbow Girls
DESCRIPTION:
URL:https://alki152.org/event/rainbow-girls-34/2025-07-11/
CATEGORIES:Masonic Family
END:VEVENT
BEGIN:VEVENT
DTSTART;TZID=America/Los_Angeles:20250627T170000
DTEND;TZID=America/Los_Angeles:20250627T220000
DTSTAMP:20260423T151508
CREATED:20230123T211944Z
LAST-MODIFIED:20230123T211944Z
UID:11478-1751043600-1751061600@alki152.org
SUMMARY:Rainbow Girls
DESCRIPTION:
URL:https://alki152.org/event/rainbow-girls-33/2025-06-27/
CATEGORIES:Masonic Family
END:VEVENT
BEGIN:VEVENT
DTSTART;TZID=America/Los_Angeles:20250613T170000
DTEND;TZID=America/Los_Angeles:20250613T220000
DTSTAMP:20260423T151508
CREATED:20230328T145554Z
LAST-MODIFIED:20230328T145554Z
UID:11476-1749834000-1749852000@alki152.org
SUMMARY:Rainbow Girls
DESCRIPTION:
URL:https://alki152.org/event/rainbow-girls-34/2025-06-13/
CATEGORIES:Masonic Family
END:VEVENT
BEGIN:VEVENT
DTSTART;TZID=America/Los_Angeles:20250523T170000
DTEND;TZID=America/Los_Angeles:20250523T220000
DTSTAMP:20260423T151508
CREATED:20230123T211944Z
LAST-MODIFIED:20230123T211944Z
UID:11426-1748019600-1748037600@alki152.org
SUMMARY:Rainbow Girls
DESCRIPTION:
URL:https://alki152.org/event/rainbow-girls-33/2025-05-23/
CATEGORIES:Masonic Family
END:VEVENT
BEGIN:VEVENT
DTSTART;TZID=America/Los_Angeles:20250509T170000
DTEND;TZID=America/Los_Angeles:20250509T220000
DTSTAMP:20260423T151508
CREATED:20230328T145554Z
LAST-MODIFIED:20230328T145554Z
UID:11421-1746810000-1746828000@alki152.org
SUMMARY:Rainbow Girls
DESCRIPTION:
URL:https://alki152.org/event/rainbow-girls-34/2025-05-09/
CATEGORIES:Masonic Family
END:VEVENT
BEGIN:VEVENT
DTSTART;TZID=America/Los_Angeles:20250425T170000
DTEND;TZID=America/Los_Angeles:20250425T220000
DTSTAMP:20260423T151508
CREATED:20230123T211944Z
LAST-MODIFIED:20230123T211944Z
UID:11416-1745600400-1745618400@alki152.org
SUMMARY:Rainbow Girls
DESCRIPTION:
URL:https://alki152.org/event/rainbow-girls-33/2025-04-25/
CATEGORIES:Masonic Family
END:VEVENT
BEGIN:VEVENT
DTSTART;TZID=America/Los_Angeles:20250411T170000
DTEND;TZID=America/Los_Angeles:20250411T220000
DTSTAMP:20260423T151508
CREATED:20230328T145554Z
LAST-MODIFIED:20230328T145554Z
UID:11413-1744390800-1744408800@alki152.org
SUMMARY:Rainbow Girls
DESCRIPTION:
URL:https://alki152.org/event/rainbow-girls-34/2025-04-11/
CATEGORIES:Masonic Family
END:VEVENT
BEGIN:VEVENT
DTSTART;TZID=America/Los_Angeles:20250328T170000
DTEND;TZID=America/Los_Angeles:20250328T220000
DTSTAMP:20260423T151508
CREATED:20230123T211944Z
LAST-MODIFIED:20230123T211944Z
UID:11401-1743181200-1743199200@alki152.org
SUMMARY:Rainbow Girls
DESCRIPTION:
URL:https://alki152.org/event/rainbow-girls-33/2025-03-28/
CATEGORIES:Masonic Family
END:VEVENT
BEGIN:VEVENT
DTSTART;TZID=America/Los_Angeles:20250314T170000
DTEND;TZID=America/Los_Angeles:20250314T220000
DTSTAMP:20260423T151508
CREATED:20230328T145554Z
LAST-MODIFIED:20230328T145554Z
UID:11400-1741971600-1741989600@alki152.org
SUMMARY:Rainbow Girls
DESCRIPTION:
URL:https://alki152.org/event/rainbow-girls-34/2025-03-14/
CATEGORIES:Masonic Family
END:VEVENT
BEGIN:VEVENT
DTSTART;TZID=America/Los_Angeles:20250228T170000
DTEND;TZID=America/Los_Angeles:20250228T220000
DTSTAMP:20260423T151508
CREATED:20230123T211944Z
LAST-MODIFIED:20230123T211944Z
UID:11363-1740762000-1740780000@alki152.org
SUMMARY:Rainbow Girls
DESCRIPTION:
URL:https://alki152.org/event/rainbow-girls-33/2025-02-28/
CATEGORIES:Masonic Family
END:VEVENT
BEGIN:VEVENT
DTSTART;TZID=America/Los_Angeles:20250215T100000
DTEND;TZID=America/Los_Angeles:20250215T180000
DTSTAMP:20260423T151508
CREATED:20240624T213731Z
LAST-MODIFIED:20240624T213731Z
UID:11964-1739613600-1739642400@alki152.org
SUMMARY:Rainbow Grand Officer Reception
DESCRIPTION:
URL:https://alki152.org/event/rainbow-grand-officer-reception-2/
CATEGORIES:Masonic Family
END:VEVENT
BEGIN:VEVENT
DTSTART;TZID=America/Los_Angeles:20250214T170000
DTEND;TZID=America/Los_Angeles:20250214T220000
DTSTAMP:20260423T151508
CREATED:20230328T145554Z
LAST-MODIFIED:20230328T145554Z
UID:11399-1739552400-1739570400@alki152.org
SUMMARY:Rainbow Girls
DESCRIPTION:
URL:https://alki152.org/event/rainbow-girls-34/2025-02-14/
CATEGORIES:Masonic Family
END:VEVENT
BEGIN:VEVENT
DTSTART;TZID=America/Los_Angeles:20250124T170000
DTEND;TZID=America/Los_Angeles:20250124T220000
DTSTAMP:20260423T151508
CREATED:20230123T211944Z
LAST-MODIFIED:20230123T211944Z
UID:11332-1737738000-1737756000@alki152.org
SUMMARY:Rainbow Girls
DESCRIPTION:
URL:https://alki152.org/event/rainbow-girls-33/2025-01-24/
CATEGORIES:Masonic Family
END:VEVENT
BEGIN:VEVENT
DTSTART;TZID=America/Los_Angeles:20250114T180000
DTEND;TZID=America/Los_Angeles:20250114T210000
DTSTAMP:20260423T151508
CREATED:20241211T053447Z
LAST-MODIFIED:20241211T053447Z
UID:12559-1736877600-1736888400@alki152.org
SUMMARY:Rainbow District Meeting
DESCRIPTION:
URL:https://alki152.org/event/rainbow-district-meeting-2/
CATEGORIES:Masonic Family,Rainbow
END:VEVENT
BEGIN:VEVENT
DTSTART;TZID=America/Los_Angeles:20250110T170000
DTEND;TZID=America/Los_Angeles:20250110T220000
DTSTAMP:20260423T151508
CREATED:20230328T145554Z
LAST-MODIFIED:20230328T145554Z
UID:11398-1736528400-1736546400@alki152.org
SUMMARY:Rainbow Girls
DESCRIPTION:
URL:https://alki152.org/event/rainbow-girls-34/2025-01-10/
CATEGORIES:Masonic Family
END:VEVENT
BEGIN:VEVENT
DTSTART;TZID=America/Los_Angeles:20241227T170000
DTEND;TZID=America/Los_Angeles:20241227T220000
DTSTAMP:20260423T151508
CREATED:20230123T211944Z
LAST-MODIFIED:20230123T211944Z
UID:11263-1735318800-1735336800@alki152.org
SUMMARY:Rainbow Girls
DESCRIPTION:
URL:https://alki152.org/event/rainbow-girls-33/2024-12-27/
CATEGORIES:Masonic Family
END:VEVENT
END:VCALENDAR