BEGIN:VCALENDAR
VERSION:2.0
PRODID:-//Alki Masonic Lodge #152 - ECPv6.15.20//NONSGML v1.0//EN
CALSCALE:GREGORIAN
METHOD:PUBLISH
X-WR-CALNAME:Alki Masonic Lodge #152
X-ORIGINAL-URL:https://alki152.org
X-WR-CALDESC:Events for Alki Masonic Lodge #152
REFRESH-INTERVAL;VALUE=DURATION:PT1H
X-Robots-Tag:noindex
X-PUBLISHED-TTL:PT1H
BEGIN:VTIMEZONE
TZID:America/Los_Angeles
BEGIN:DAYLIGHT
TZOFFSETFROM:-0800
TZOFFSETTO:-0700
TZNAME:PDT
DTSTART:20110313T100000
END:DAYLIGHT
BEGIN:STANDARD
TZOFFSETFROM:-0700
TZOFFSETTO:-0800
TZNAME:PST
DTSTART:20111106T090000
END:STANDARD
BEGIN:DAYLIGHT
TZOFFSETFROM:-0800
TZOFFSETTO:-0700
TZNAME:PDT
DTSTART:20120311T100000
END:DAYLIGHT
BEGIN:STANDARD
TZOFFSETFROM:-0700
TZOFFSETTO:-0800
TZNAME:PST
DTSTART:20121104T090000
END:STANDARD
BEGIN:DAYLIGHT
TZOFFSETFROM:-0800
TZOFFSETTO:-0700
TZNAME:PDT
DTSTART:20130310T100000
END:DAYLIGHT
BEGIN:STANDARD
TZOFFSETFROM:-0700
TZOFFSETTO:-0800
TZNAME:PST
DTSTART:20131103T090000
END:STANDARD
END:VTIMEZONE
BEGIN:VEVENT
DTSTART;TZID=America/Los_Angeles:20120124T180000
DTEND;TZID=America/Los_Angeles:20120124T220000
DTSTAMP:20260425T033623
CREATED:20121109T205325Z
LAST-MODIFIED:20121124T025517Z
UID:897-1327428000-1327442400@alki152.org
SUMMARY:Eastern Star - Amethyst Chapter
DESCRIPTION:
URL:https://alki152.org/event/eastern-star-amethyst-chapter-12/2012-01-24/
LOCATION:Alki Masonic Center\, 4736 40th Ave. SW\, Seattle\, WA\, 98116\, United States
CATEGORIES:Amethyst,Masonic Family
GEO:47.5600056;-122.3825589
X-APPLE-STRUCTURED-LOCATION;VALUE=URI;X-ADDRESS=Alki Masonic Center 4736 40th Ave. SW Seattle WA 98116 United States;X-APPLE-RADIUS=500;X-TITLE=4736 40th Ave. SW:geo:-122.3825589,47.5600056
END:VEVENT
END:VCALENDAR