BEGIN:VCALENDAR
VERSION:2.0
PRODID:-//Alki Masonic Lodge #152 - ECPv6.15.20//NONSGML v1.0//EN
CALSCALE:GREGORIAN
METHOD:PUBLISH
X-ORIGINAL-URL:https://alki152.org
X-WR-CALDESC:Events for Alki Masonic Lodge #152
REFRESH-INTERVAL;VALUE=DURATION:PT1H
X-Robots-Tag:noindex
X-PUBLISHED-TTL:PT1H
BEGIN:VTIMEZONE
TZID:America/Los_Angeles
BEGIN:DAYLIGHT
TZOFFSETFROM:-0800
TZOFFSETTO:-0700
TZNAME:PDT
DTSTART:20240310T100000
END:DAYLIGHT
BEGIN:STANDARD
TZOFFSETFROM:-0700
TZOFFSETTO:-0800
TZNAME:PST
DTSTART:20241103T090000
END:STANDARD
BEGIN:DAYLIGHT
TZOFFSETFROM:-0800
TZOFFSETTO:-0700
TZNAME:PDT
DTSTART:20250309T100000
END:DAYLIGHT
BEGIN:STANDARD
TZOFFSETFROM:-0700
TZOFFSETTO:-0800
TZNAME:PST
DTSTART:20251102T090000
END:STANDARD
BEGIN:DAYLIGHT
TZOFFSETFROM:-0800
TZOFFSETTO:-0700
TZNAME:PDT
DTSTART:20260308T100000
END:DAYLIGHT
BEGIN:STANDARD
TZOFFSETFROM:-0700
TZOFFSETTO:-0800
TZNAME:PST
DTSTART:20261101T090000
END:STANDARD
END:VTIMEZONE
BEGIN:VEVENT
DTSTART;TZID=America/Los_Angeles:20250606T160000
DTEND;TZID=America/Los_Angeles:20250606T230000
DTSTAMP:20260425T083736
CREATED:20130628T211109Z
LAST-MODIFIED:20130628T211109Z
UID:11474-1749225600-1749250800@alki152.org
SUMMARY:Amaranth - Alki Court
DESCRIPTION:
URL:https://alki152.org/event/amaranth-westgate-court-2015-12-04-2016-12-02-2017-12-01/2025-06-06/
LOCATION:Alki Masonic Center\, 4736 40th Ave. SW\, Seattle\, WA\, 98116\, United States
CATEGORIES:Masonic Family,Westgate
ORGANIZER;CN="Sue Gibbs":MAILTO:westgateevents21@gmail.com
GEO:47.5600056;-122.3825589
X-APPLE-STRUCTURED-LOCATION;VALUE=URI;X-ADDRESS=Alki Masonic Center 4736 40th Ave. SW Seattle WA 98116 United States;X-APPLE-RADIUS=500;X-TITLE=4736 40th Ave. SW:geo:-122.3825589,47.5600056
END:VEVENT
BEGIN:VEVENT
DTSTART;TZID=America/Los_Angeles:20250605T160000
DTEND;TZID=America/Los_Angeles:20250605T200000
DTSTAMP:20260425T083736
CREATED:20241128T160151Z
LAST-MODIFIED:20241128T160151Z
UID:12509-1749139200-1749153600@alki152.org
SUMMARY:West Seattle Performing Arts
DESCRIPTION:
URL:https://alki152.org/event/west-seattle-performing-arts-2/2025-06-05/
CATEGORIES:Private Event
END:VEVENT
BEGIN:VEVENT
DTSTART;TZID=America/Los_Angeles:20250604T160000
DTEND;TZID=America/Los_Angeles:20250604T200000
DTSTAMP:20260425T083736
CREATED:20241128T160017Z
LAST-MODIFIED:20241128T160017Z
UID:12451-1749052800-1749067200@alki152.org
SUMMARY:West Seattle Performing Arts
DESCRIPTION:
URL:https://alki152.org/event/west-seattle-performing-arts/2025-06-04/
CATEGORIES:Private Event
END:VEVENT
BEGIN:VEVENT
DTSTART;TZID=America/Los_Angeles:20250603T170000
DTEND;TZID=America/Los_Angeles:20250603T210000
DTSTAMP:20260425T083736
CREATED:20250416T030919Z
LAST-MODIFIED:20250605T002338Z
UID:12776-1748970000-1748984400@alki152.org
SUMMARY:West Seattle Baseball
DESCRIPTION:
URL:https://alki152.org/event/west-seattle-baseball-3/
CATEGORIES:Private Event
END:VEVENT
BEGIN:VEVENT
DTSTART;TZID=America/Los_Angeles:20250602T183000
DTEND;TZID=America/Los_Angeles:20250602T213000
DTSTAMP:20260425T083736
CREATED:20241118T202924Z
LAST-MODIFIED:20241118T202924Z
UID:12059-1748889000-1748899800@alki152.org
SUMMARY:Alki Lodge #152
DESCRIPTION:
URL:https://alki152.org/event/alki-lodge-152/2025-06-02/
CATEGORIES:Alki Lodge
END:VEVENT
BEGIN:VEVENT
DTSTART;TZID=America/Los_Angeles:20250601T140000
DTEND;TZID=America/Los_Angeles:20250601T220000
DTSTAMP:20260425T083736
CREATED:20190319T034811Z
LAST-MODIFIED:20190319T034811Z
UID:11466-1748786400-1748815200@alki152.org
SUMMARY:Seattle Swing Dance
DESCRIPTION:
URL:https://alki152.org/event/seattle-swing-dance/2025-06-01/
LOCATION:Alki Masonic Center\, 4736 40th Ave. SW\, Seattle\, WA\, 98116\, United States
CATEGORIES:Private Event
GEO:47.5600056;-122.3825589
X-APPLE-STRUCTURED-LOCATION;VALUE=URI;X-ADDRESS=Alki Masonic Center 4736 40th Ave. SW Seattle WA 98116 United States;X-APPLE-RADIUS=500;X-TITLE=4736 40th Ave. SW:geo:-122.3825589,47.5600056
END:VEVENT
BEGIN:VEVENT
DTSTART;TZID=America/Los_Angeles:20250531T120000
DTEND;TZID=America/Los_Angeles:20250531T220000
DTSTAMP:20260425T083736
CREATED:20250207T164629Z
LAST-MODIFIED:20250303T231406Z
UID:12613-1748692800-1748728800@alki152.org
SUMMARY:Eastern Star Fundraising Talent Show
DESCRIPTION:
URL:https://alki152.org/event/eastern-star-fundraising-talent-show/
CATEGORIES:Masonic Family
END:VEVENT
BEGIN:VEVENT
DTSTART;TZID=America/Los_Angeles:20250529T160000
DTEND;TZID=America/Los_Angeles:20250529T200000
DTSTAMP:20260425T083736
CREATED:20241128T160151Z
LAST-MODIFIED:20241128T160151Z
UID:12508-1748534400-1748548800@alki152.org
SUMMARY:West Seattle Performing Arts
DESCRIPTION:
URL:https://alki152.org/event/west-seattle-performing-arts-2/2025-05-29/
CATEGORIES:Private Event
END:VEVENT
BEGIN:VEVENT
DTSTART;TZID=America/Los_Angeles:20250528T160000
DTEND;TZID=America/Los_Angeles:20250528T200000
DTSTAMP:20260425T083736
CREATED:20241128T160017Z
LAST-MODIFIED:20241128T160017Z
UID:12450-1748448000-1748462400@alki152.org
SUMMARY:West Seattle Performing Arts
DESCRIPTION:
URL:https://alki152.org/event/west-seattle-performing-arts/2025-05-28/
CATEGORIES:Private Event
END:VEVENT
BEGIN:VEVENT
DTSTART;TZID=America/Los_Angeles:20250527T160000
DTEND;TZID=America/Los_Angeles:20250527T200000
DTSTAMP:20260425T083736
CREATED:20240417T153708Z
LAST-MODIFIED:20240417T153708Z
UID:12646-1748361600-1748376000@alki152.org
SUMMARY:Amethyst Chapter Eastern Star Meeting
DESCRIPTION:
URL:https://alki152.org/event/amethyst-chapter-eastern-star-meeting/2025-05-27/
CATEGORIES:Masonic Family
END:VEVENT
BEGIN:VEVENT
DTSTART;TZID=America/Los_Angeles:20250527T100000
DTEND;TZID=America/Los_Angeles:20250527T160000
DTSTAMP:20260425T083736
CREATED:20241128T154159Z
LAST-MODIFIED:20241128T154159Z
UID:12183-1748340000-1748361600@alki152.org
SUMMARY:Longshoreman Luncheon
DESCRIPTION:
URL:https://alki152.org/event/longshoreman-luncheon/
CATEGORIES:Private Event
END:VEVENT
BEGIN:VEVENT
DTSTART;TZID=America/Los_Angeles:20250523T170000
DTEND;TZID=America/Los_Angeles:20250523T220000
DTSTAMP:20260425T083736
CREATED:20230123T211944Z
LAST-MODIFIED:20230123T211944Z
UID:11426-1748019600-1748037600@alki152.org
SUMMARY:Rainbow Girls
DESCRIPTION:
URL:https://alki152.org/event/rainbow-girls-33/2025-05-23/
CATEGORIES:Masonic Family
END:VEVENT
BEGIN:VEVENT
DTSTART;TZID=America/Los_Angeles:20250523T080000
DTEND;TZID=America/Los_Angeles:20250523T233000
DTSTAMP:20260425T083736
CREATED:20241128T154243Z
LAST-MODIFIED:20241128T154243Z
UID:12185-1747987200-1748043000@alki152.org
SUMMARY:Private Party
DESCRIPTION:
URL:https://alki152.org/event/private-party-7/
CATEGORIES:Private Event
END:VEVENT
BEGIN:VEVENT
DTSTART;TZID=America/Los_Angeles:20250522T160000
DTEND;TZID=America/Los_Angeles:20250522T200000
DTSTAMP:20260425T083736
CREATED:20241128T160151Z
LAST-MODIFIED:20241128T160151Z
UID:12507-1747929600-1747944000@alki152.org
SUMMARY:West Seattle Performing Arts
DESCRIPTION:
URL:https://alki152.org/event/west-seattle-performing-arts-2/2025-05-22/
CATEGORIES:Private Event
END:VEVENT
BEGIN:VEVENT
DTSTART;TZID=America/Los_Angeles:20250522T100000
DTEND;TZID=America/Los_Angeles:20250522T140000
DTSTAMP:20260425T083736
CREATED:20241118T203517Z
LAST-MODIFIED:20241118T203517Z
UID:12105-1747908000-1747922400@alki152.org
SUMMARY:TAMLAC Association
DESCRIPTION:
URL:https://alki152.org/event/tamlac-association-9/2025-05-22/
CATEGORIES:Private Event
END:VEVENT
BEGIN:VEVENT
DTSTART;TZID=America/Los_Angeles:20250521T160000
DTEND;TZID=America/Los_Angeles:20250521T200000
DTSTAMP:20260425T083736
CREATED:20241128T160017Z
LAST-MODIFIED:20241128T160017Z
UID:12449-1747843200-1747857600@alki152.org
SUMMARY:West Seattle Performing Arts
DESCRIPTION:
URL:https://alki152.org/event/west-seattle-performing-arts/2025-05-21/
CATEGORIES:Private Event
END:VEVENT
BEGIN:VEVENT
DTSTART;TZID=America/Los_Angeles:20250519T190000
DTEND;TZID=America/Los_Angeles:20250519T220000
DTSTAMP:20260425T083736
CREATED:20250511T225412Z
LAST-MODIFIED:20250511T225412Z
UID:12873-1747681200-1747692000@alki152.org
SUMMARY:Public Schools Awards Night
DESCRIPTION:
URL:https://alki152.org/event/public-schools-awards-night/
CATEGORIES:Public Event
END:VEVENT
BEGIN:VEVENT
DTSTART;TZID=America/Los_Angeles:20250518T140000
DTEND;TZID=America/Los_Angeles:20250518T220000
DTSTAMP:20260425T083736
CREATED:20190319T034811Z
LAST-MODIFIED:20190319T034811Z
UID:11467-1747576800-1747605600@alki152.org
SUMMARY:Seattle Swing Dance
DESCRIPTION:
URL:https://alki152.org/event/seattle-swing-dance/2025-05-18/
LOCATION:Alki Masonic Center\, 4736 40th Ave. SW\, Seattle\, WA\, 98116\, United States
CATEGORIES:Private Event
GEO:47.5600056;-122.3825589
X-APPLE-STRUCTURED-LOCATION;VALUE=URI;X-ADDRESS=Alki Masonic Center 4736 40th Ave. SW Seattle WA 98116 United States;X-APPLE-RADIUS=500;X-TITLE=4736 40th Ave. SW:geo:-122.3825589,47.5600056
END:VEVENT
BEGIN:VEVENT
DTSTART;TZID=America/Los_Angeles:20250517T080000
DTEND;TZID=America/Los_Angeles:20250517T233000
DTSTAMP:20260425T083736
CREATED:20241128T154329Z
LAST-MODIFIED:20241128T154329Z
UID:12187-1747468800-1747524600@alki152.org
SUMMARY:Graduation Party
DESCRIPTION:
URL:https://alki152.org/event/graduation-party-5/
CATEGORIES:Private Event
END:VEVENT
BEGIN:VEVENT
DTSTART;TZID=America/Los_Angeles:20250516T170000
DTEND;TZID=America/Los_Angeles:20250516T200000
DTSTAMP:20260425T083736
CREATED:20230123T215034Z
LAST-MODIFIED:20230123T215034Z
UID:12805-1747414800-1747425600@alki152.org
SUMMARY:West Seattle Yacht Club
DESCRIPTION:Contact: Dori Schnelz 206-851-8067\, dmschnelz@gmail.com
URL:https://alki152.org/event/west-seattle-yacht-club-19/2025-05-16/
END:VEVENT
BEGIN:VEVENT
DTSTART;TZID=America/Los_Angeles:20250515T160000
DTEND;TZID=America/Los_Angeles:20250515T200000
DTSTAMP:20260425T083736
CREATED:20241128T160151Z
LAST-MODIFIED:20241128T160151Z
UID:12506-1747324800-1747339200@alki152.org
SUMMARY:West Seattle Performing Arts
DESCRIPTION:
URL:https://alki152.org/event/west-seattle-performing-arts-2/2025-05-15/
CATEGORIES:Private Event
END:VEVENT
BEGIN:VEVENT
DTSTART;TZID=America/Los_Angeles:20250515T100000
DTEND;TZID=America/Los_Angeles:20250515T140000
DTSTAMP:20260425T083736
CREATED:20241118T203517Z
LAST-MODIFIED:20241118T203517Z
UID:12104-1747303200-1747317600@alki152.org
SUMMARY:TAMLAC Association
DESCRIPTION:
URL:https://alki152.org/event/tamlac-association-9/2025-05-15/
CATEGORIES:Private Event
END:VEVENT
BEGIN:VEVENT
DTSTART;TZID=America/Los_Angeles:20250514T160000
DTEND;TZID=America/Los_Angeles:20250514T200000
DTSTAMP:20260425T083736
CREATED:20241128T160017Z
LAST-MODIFIED:20241128T160017Z
UID:12448-1747238400-1747252800@alki152.org
SUMMARY:West Seattle Performing Arts
DESCRIPTION:
URL:https://alki152.org/event/west-seattle-performing-arts/2025-05-14/
CATEGORIES:Private Event
END:VEVENT
BEGIN:VEVENT
DTSTART;VALUE=DATE:20250510
DTEND;VALUE=DATE:20250511
DTSTAMP:20260425T083736
CREATED:20241128T154745Z
LAST-MODIFIED:20241128T154745Z
UID:12191-1746835200-1746921599@alki152.org
SUMMARY:Northwest Tool Collectors
DESCRIPTION:
URL:https://alki152.org/event/northwest-tool-collectors/2025-05-10/
CATEGORIES:Public Event
END:VEVENT
BEGIN:VEVENT
DTSTART;TZID=America/Los_Angeles:20250509T170000
DTEND;TZID=America/Los_Angeles:20250509T220000
DTSTAMP:20260425T083736
CREATED:20230328T145554Z
LAST-MODIFIED:20230328T145554Z
UID:11421-1746810000-1746828000@alki152.org
SUMMARY:Rainbow Girls
DESCRIPTION:
URL:https://alki152.org/event/rainbow-girls-34/2025-05-09/
CATEGORIES:Masonic Family
END:VEVENT
BEGIN:VEVENT
DTSTART;TZID=America/Los_Angeles:20250508T160000
DTEND;TZID=America/Los_Angeles:20250508T200000
DTSTAMP:20260425T083736
CREATED:20241128T160151Z
LAST-MODIFIED:20241128T160151Z
UID:12505-1746720000-1746734400@alki152.org
SUMMARY:West Seattle Performing Arts
DESCRIPTION:
URL:https://alki152.org/event/west-seattle-performing-arts-2/2025-05-08/
CATEGORIES:Private Event
END:VEVENT
BEGIN:VEVENT
DTSTART;TZID=America/Los_Angeles:20250508T100000
DTEND;TZID=America/Los_Angeles:20250508T140000
DTSTAMP:20260425T083736
CREATED:20241118T203517Z
LAST-MODIFIED:20241118T203517Z
UID:12103-1746698400-1746712800@alki152.org
SUMMARY:TAMLAC Association
DESCRIPTION:
URL:https://alki152.org/event/tamlac-association-9/2025-05-08/
CATEGORIES:Private Event
END:VEVENT
BEGIN:VEVENT
DTSTART;TZID=America/Los_Angeles:20250507T160000
DTEND;TZID=America/Los_Angeles:20250507T200000
DTSTAMP:20260425T083736
CREATED:20241128T160017Z
LAST-MODIFIED:20241128T160017Z
UID:12447-1746633600-1746648000@alki152.org
SUMMARY:West Seattle Performing Arts
DESCRIPTION:
URL:https://alki152.org/event/west-seattle-performing-arts/2025-05-07/
CATEGORIES:Private Event
END:VEVENT
BEGIN:VEVENT
DTSTART;TZID=America/Los_Angeles:20250506T060000
DTEND;TZID=America/Los_Angeles:20250506T120000
DTSTAMP:20260425T083736
CREATED:20250224T034633Z
LAST-MODIFIED:20250224T034633Z
UID:12640-1746511200-1746532800@alki152.org
SUMMARY:West Seattle Senior Center Breakfast
DESCRIPTION:
URL:https://alki152.org/event/west-seattle-senior-center-breakfast-3/
CATEGORIES:Private Event
END:VEVENT
BEGIN:VEVENT
DTSTART;TZID=America/Los_Angeles:20250505T183000
DTEND;TZID=America/Los_Angeles:20250505T213000
DTSTAMP:20260425T083736
CREATED:20241118T202924Z
LAST-MODIFIED:20241118T202924Z
UID:12058-1746469800-1746480600@alki152.org
SUMMARY:Alki Lodge #152
DESCRIPTION:
URL:https://alki152.org/event/alki-lodge-152/2025-05-05/
CATEGORIES:Alki Lodge
END:VEVENT
END:VCALENDAR