BEGIN:VCALENDAR
VERSION:2.0
PRODID:-//Alki Masonic Lodge #152 - ECPv6.15.20//NONSGML v1.0//EN
CALSCALE:GREGORIAN
METHOD:PUBLISH
X-ORIGINAL-URL:https://alki152.org
X-WR-CALDESC:Events for Alki Masonic Lodge #152
REFRESH-INTERVAL;VALUE=DURATION:PT1H
X-Robots-Tag:noindex
X-PUBLISHED-TTL:PT1H
BEGIN:VTIMEZONE
TZID:America/Los_Angeles
BEGIN:DAYLIGHT
TZOFFSETFROM:-0800
TZOFFSETTO:-0700
TZNAME:PDT
DTSTART:20240310T100000
END:DAYLIGHT
BEGIN:STANDARD
TZOFFSETFROM:-0700
TZOFFSETTO:-0800
TZNAME:PST
DTSTART:20241103T090000
END:STANDARD
BEGIN:DAYLIGHT
TZOFFSETFROM:-0800
TZOFFSETTO:-0700
TZNAME:PDT
DTSTART:20250309T100000
END:DAYLIGHT
BEGIN:STANDARD
TZOFFSETFROM:-0700
TZOFFSETTO:-0800
TZNAME:PST
DTSTART:20251102T090000
END:STANDARD
BEGIN:DAYLIGHT
TZOFFSETFROM:-0800
TZOFFSETTO:-0700
TZNAME:PDT
DTSTART:20260308T100000
END:DAYLIGHT
BEGIN:STANDARD
TZOFFSETFROM:-0700
TZOFFSETTO:-0800
TZNAME:PST
DTSTART:20261101T090000
END:STANDARD
END:VTIMEZONE
BEGIN:VEVENT
DTSTART;TZID=America/Los_Angeles:20250302T140000
DTEND;TZID=America/Los_Angeles:20250302T220000
DTSTAMP:20260425T074025
CREATED:20190319T034811Z
LAST-MODIFIED:20190319T034811Z
UID:11364-1740924000-1740952800@alki152.org
SUMMARY:Seattle Swing Dance
DESCRIPTION:
URL:https://alki152.org/event/seattle-swing-dance/2025-03-02/
LOCATION:Alki Masonic Center\, 4736 40th Ave. SW\, Seattle\, WA\, 98116\, United States
CATEGORIES:Private Event
GEO:47.5600056;-122.3825589
X-APPLE-STRUCTURED-LOCATION;VALUE=URI;X-ADDRESS=Alki Masonic Center 4736 40th Ave. SW Seattle WA 98116 United States;X-APPLE-RADIUS=500;X-TITLE=4736 40th Ave. SW:geo:-122.3825589,47.5600056
END:VEVENT
BEGIN:VEVENT
DTSTART;TZID=America/Los_Angeles:20250228T180000
DTEND;TZID=America/Los_Angeles:20250228T220000
DTSTAMP:20260425T074025
CREATED:20250210T170016Z
LAST-MODIFIED:20250210T170016Z
UID:12622-1740765600-1740780000@alki152.org
SUMMARY:Amethyst Chapter Quiz Night
DESCRIPTION:Benefiting Shriner’s Hospital for Children and Brigadoon Services Dogs. \nTickets are $15. \nBaked Potato Bar dinner beginning at 6 :00 p.m. Quiz begins at 7:00 p.m. \nTeams of 8 or less. \nContact Martin for tickets and questions.
URL:https://alki152.org/event/amethyst-chapter-quiz-night/
CATEGORIES:Amethyst,Masonic Family
END:VEVENT
BEGIN:VEVENT
DTSTART;TZID=America/Los_Angeles:20250228T170000
DTEND;TZID=America/Los_Angeles:20250228T220000
DTSTAMP:20260425T074025
CREATED:20230123T211944Z
LAST-MODIFIED:20230123T211944Z
UID:11363-1740762000-1740780000@alki152.org
SUMMARY:Rainbow Girls
DESCRIPTION:
URL:https://alki152.org/event/rainbow-girls-33/2025-02-28/
CATEGORIES:Masonic Family
END:VEVENT
BEGIN:VEVENT
DTSTART;TZID=America/Los_Angeles:20250227T160000
DTEND;TZID=America/Los_Angeles:20250227T200000
DTSTAMP:20260425T074025
CREATED:20241128T160151Z
LAST-MODIFIED:20241128T160151Z
UID:12495-1740672000-1740686400@alki152.org
SUMMARY:West Seattle Performing Arts
DESCRIPTION:
URL:https://alki152.org/event/west-seattle-performing-arts-2/2025-02-27/
CATEGORIES:Private Event
END:VEVENT
BEGIN:VEVENT
DTSTART;TZID=America/Los_Angeles:20250227T100000
DTEND;TZID=America/Los_Angeles:20250227T140000
DTSTAMP:20260425T074025
CREATED:20241118T203517Z
LAST-MODIFIED:20241118T203517Z
UID:12093-1740650400-1740664800@alki152.org
SUMMARY:TAMLAC Association
DESCRIPTION:
URL:https://alki152.org/event/tamlac-association-9/2025-02-27/
CATEGORIES:Private Event
END:VEVENT
BEGIN:VEVENT
DTSTART;TZID=America/Los_Angeles:20250226T160000
DTEND;TZID=America/Los_Angeles:20250226T200000
DTSTAMP:20260425T074025
CREATED:20241128T160017Z
LAST-MODIFIED:20241128T160017Z
UID:12437-1740585600-1740600000@alki152.org
SUMMARY:West Seattle Performing Arts
DESCRIPTION:
URL:https://alki152.org/event/west-seattle-performing-arts/2025-02-26/
CATEGORIES:Private Event
END:VEVENT
BEGIN:VEVENT
DTSTART;TZID=America/Los_Angeles:20250225T160000
DTEND;TZID=America/Los_Angeles:20250225T200000
DTSTAMP:20260425T074025
CREATED:20240417T153708Z
LAST-MODIFIED:20240417T153708Z
UID:12643-1740499200-1740513600@alki152.org
SUMMARY:Amethyst Chapter Eastern Star Meeting
DESCRIPTION:
URL:https://alki152.org/event/amethyst-chapter-eastern-star-meeting/2025-02-25/
CATEGORIES:Masonic Family
END:VEVENT
BEGIN:VEVENT
DTSTART;TZID=America/Los_Angeles:20250221T170000
DTEND;TZID=America/Los_Angeles:20250221T200000
DTSTAMP:20260425T074025
CREATED:20230123T215034Z
LAST-MODIFIED:20230123T215034Z
UID:12802-1740157200-1740168000@alki152.org
SUMMARY:West Seattle Yacht Club
DESCRIPTION:Contact: Dori Schnelz 206-851-8067\, dmschnelz@gmail.com
URL:https://alki152.org/event/west-seattle-yacht-club-19/2025-02-21/
END:VEVENT
BEGIN:VEVENT
DTSTART;TZID=America/Los_Angeles:20250220T160000
DTEND;TZID=America/Los_Angeles:20250220T200000
DTSTAMP:20260425T074025
CREATED:20241128T160151Z
LAST-MODIFIED:20241128T160151Z
UID:12494-1740067200-1740081600@alki152.org
SUMMARY:West Seattle Performing Arts
DESCRIPTION:
URL:https://alki152.org/event/west-seattle-performing-arts-2/2025-02-20/
CATEGORIES:Private Event
END:VEVENT
BEGIN:VEVENT
DTSTART;TZID=America/Los_Angeles:20250220T100000
DTEND;TZID=America/Los_Angeles:20250220T140000
DTSTAMP:20260425T074025
CREATED:20241118T203517Z
LAST-MODIFIED:20241118T203517Z
UID:12092-1740045600-1740060000@alki152.org
SUMMARY:TAMLAC Association
DESCRIPTION:
URL:https://alki152.org/event/tamlac-association-9/2025-02-20/
CATEGORIES:Private Event
END:VEVENT
BEGIN:VEVENT
DTSTART;TZID=America/Los_Angeles:20250219T160000
DTEND;TZID=America/Los_Angeles:20250219T200000
DTSTAMP:20260425T074025
CREATED:20241128T160017Z
LAST-MODIFIED:20241128T160017Z
UID:12436-1739980800-1739995200@alki152.org
SUMMARY:West Seattle Performing Arts
DESCRIPTION:
URL:https://alki152.org/event/west-seattle-performing-arts/2025-02-19/
CATEGORIES:Private Event
END:VEVENT
BEGIN:VEVENT
DTSTART;TZID=America/Los_Angeles:20250216T140000
DTEND;TZID=America/Los_Angeles:20250216T220000
DTSTAMP:20260425T074025
CREATED:20190319T034811Z
LAST-MODIFIED:20190319T034811Z
UID:11365-1739714400-1739743200@alki152.org
SUMMARY:Seattle Swing Dance
DESCRIPTION:
URL:https://alki152.org/event/seattle-swing-dance/2025-02-16/
LOCATION:Alki Masonic Center\, 4736 40th Ave. SW\, Seattle\, WA\, 98116\, United States
CATEGORIES:Private Event
GEO:47.5600056;-122.3825589
X-APPLE-STRUCTURED-LOCATION;VALUE=URI;X-ADDRESS=Alki Masonic Center 4736 40th Ave. SW Seattle WA 98116 United States;X-APPLE-RADIUS=500;X-TITLE=4736 40th Ave. SW:geo:-122.3825589,47.5600056
END:VEVENT
BEGIN:VEVENT
DTSTART;TZID=America/Los_Angeles:20250215T100000
DTEND;TZID=America/Los_Angeles:20250215T180000
DTSTAMP:20260425T074025
CREATED:20240624T213731Z
LAST-MODIFIED:20240624T213731Z
UID:11964-1739613600-1739642400@alki152.org
SUMMARY:Rainbow Grand Officer Reception
DESCRIPTION:
URL:https://alki152.org/event/rainbow-grand-officer-reception-2/
CATEGORIES:Masonic Family
END:VEVENT
BEGIN:VEVENT
DTSTART;TZID=America/Los_Angeles:20250214T170000
DTEND;TZID=America/Los_Angeles:20250214T220000
DTSTAMP:20260425T074025
CREATED:20230328T145554Z
LAST-MODIFIED:20230328T145554Z
UID:11399-1739552400-1739570400@alki152.org
SUMMARY:Rainbow Girls
DESCRIPTION:
URL:https://alki152.org/event/rainbow-girls-34/2025-02-14/
CATEGORIES:Masonic Family
END:VEVENT
BEGIN:VEVENT
DTSTART;TZID=America/Los_Angeles:20250213T160000
DTEND;TZID=America/Los_Angeles:20250213T200000
DTSTAMP:20260425T074025
CREATED:20241128T160151Z
LAST-MODIFIED:20241128T160151Z
UID:12492-1739462400-1739476800@alki152.org
SUMMARY:West Seattle Performing Arts
DESCRIPTION:
URL:https://alki152.org/event/west-seattle-performing-arts-2/2025-02-13/
CATEGORIES:Private Event
END:VEVENT
BEGIN:VEVENT
DTSTART;TZID=America/Los_Angeles:20250213T100000
DTEND;TZID=America/Los_Angeles:20250213T140000
DTSTAMP:20260425T074025
CREATED:20241118T203517Z
LAST-MODIFIED:20241118T203517Z
UID:12090-1739440800-1739455200@alki152.org
SUMMARY:TAMLAC Association
DESCRIPTION:
URL:https://alki152.org/event/tamlac-association-9/2025-02-13/
CATEGORIES:Private Event
END:VEVENT
BEGIN:VEVENT
DTSTART;TZID=America/Los_Angeles:20250212T160000
DTEND;TZID=America/Los_Angeles:20250212T200000
DTSTAMP:20260425T074025
CREATED:20241128T160017Z
LAST-MODIFIED:20241128T160017Z
UID:12434-1739376000-1739390400@alki152.org
SUMMARY:West Seattle Performing Arts
DESCRIPTION:
URL:https://alki152.org/event/west-seattle-performing-arts/2025-02-12/
CATEGORIES:Private Event
END:VEVENT
BEGIN:VEVENT
DTSTART;TZID=America/Los_Angeles:20250209T143000
DTEND;TZID=America/Los_Angeles:20250209T193000
DTSTAMP:20260425T074025
CREATED:20250129T160006Z
LAST-MODIFIED:20250129T160006Z
UID:12602-1739111400-1739129400@alki152.org
SUMMARY:Super Bowl Party
DESCRIPTION:
URL:https://alki152.org/event/super-bowl-party/
CATEGORIES:Masonic Family
END:VEVENT
BEGIN:VEVENT
DTSTART;TZID=America/Los_Angeles:20250208T080000
DTEND;TZID=America/Los_Angeles:20250208T160000
DTSTAMP:20260425T074025
CREATED:20240321T225637Z
LAST-MODIFIED:20240321T225637Z
UID:11902-1739001600-1739030400@alki152.org
SUMMARY:Eastern Star Grand Conductress Reception
DESCRIPTION:
URL:https://alki152.org/event/eastern-star-grand-conductress-reception/
CATEGORIES:Alki Court
END:VEVENT
BEGIN:VEVENT
DTSTART;TZID=America/Los_Angeles:20250207T160000
DTEND;TZID=America/Los_Angeles:20250207T230000
DTSTAMP:20260425T074025
CREATED:20130628T211109Z
LAST-MODIFIED:20130628T211109Z
UID:11336-1738944000-1738969200@alki152.org
SUMMARY:Amaranth - Alki Court
DESCRIPTION:
URL:https://alki152.org/event/amaranth-westgate-court-2015-12-04-2016-12-02-2017-12-01/2025-02-07/
LOCATION:Alki Masonic Center\, 4736 40th Ave. SW\, Seattle\, WA\, 98116\, United States
CATEGORIES:Masonic Family,Westgate
ORGANIZER;CN="Sue Gibbs":MAILTO:westgateevents21@gmail.com
GEO:47.5600056;-122.3825589
X-APPLE-STRUCTURED-LOCATION;VALUE=URI;X-ADDRESS=Alki Masonic Center 4736 40th Ave. SW Seattle WA 98116 United States;X-APPLE-RADIUS=500;X-TITLE=4736 40th Ave. SW:geo:-122.3825589,47.5600056
END:VEVENT
BEGIN:VEVENT
DTSTART;TZID=America/Los_Angeles:20250206T160000
DTEND;TZID=America/Los_Angeles:20250206T200000
DTSTAMP:20260425T074025
CREATED:20241128T160151Z
LAST-MODIFIED:20241128T160151Z
UID:12491-1738857600-1738872000@alki152.org
SUMMARY:West Seattle Performing Arts
DESCRIPTION:
URL:https://alki152.org/event/west-seattle-performing-arts-2/2025-02-06/
CATEGORIES:Private Event
END:VEVENT
BEGIN:VEVENT
DTSTART;TZID=America/Los_Angeles:20250206T100000
DTEND;TZID=America/Los_Angeles:20250206T140000
DTSTAMP:20260425T074025
CREATED:20241118T203517Z
LAST-MODIFIED:20241118T203517Z
UID:12089-1738836000-1738850400@alki152.org
SUMMARY:TAMLAC Association
DESCRIPTION:
URL:https://alki152.org/event/tamlac-association-9/2025-02-06/
CATEGORIES:Private Event
END:VEVENT
BEGIN:VEVENT
DTSTART;TZID=America/Los_Angeles:20250205T160000
DTEND;TZID=America/Los_Angeles:20250205T200000
DTSTAMP:20260425T074025
CREATED:20241128T160017Z
LAST-MODIFIED:20241128T160017Z
UID:12433-1738771200-1738785600@alki152.org
SUMMARY:West Seattle Performing Arts
DESCRIPTION:
URL:https://alki152.org/event/west-seattle-performing-arts/2025-02-05/
CATEGORIES:Private Event
END:VEVENT
BEGIN:VEVENT
DTSTART;TZID=America/Los_Angeles:20250203T183000
DTEND;TZID=America/Los_Angeles:20250203T213000
DTSTAMP:20260425T074025
CREATED:20241118T202924Z
LAST-MODIFIED:20241118T202924Z
UID:12055-1738607400-1738618200@alki152.org
SUMMARY:Alki Lodge #152
DESCRIPTION:
URL:https://alki152.org/event/alki-lodge-152/2025-02-03/
CATEGORIES:Alki Lodge
END:VEVENT
BEGIN:VEVENT
DTSTART;TZID=America/Los_Angeles:20250202T140000
DTEND;TZID=America/Los_Angeles:20250202T220000
DTSTAMP:20260425T074025
CREATED:20190319T034811Z
LAST-MODIFIED:20190319T034811Z
UID:11334-1738504800-1738533600@alki152.org
SUMMARY:Seattle Swing Dance
DESCRIPTION:
URL:https://alki152.org/event/seattle-swing-dance/2025-02-02/
LOCATION:Alki Masonic Center\, 4736 40th Ave. SW\, Seattle\, WA\, 98116\, United States
CATEGORIES:Private Event
GEO:47.5600056;-122.3825589
X-APPLE-STRUCTURED-LOCATION;VALUE=URI;X-ADDRESS=Alki Masonic Center 4736 40th Ave. SW Seattle WA 98116 United States;X-APPLE-RADIUS=500;X-TITLE=4736 40th Ave. SW:geo:-122.3825589,47.5600056
END:VEVENT
BEGIN:VEVENT
DTSTART;TZID=America/Los_Angeles:20250201T140000
DTEND;TZID=America/Los_Angeles:20250201T220000
DTSTAMP:20260425T074025
CREATED:20230123T214146Z
LAST-MODIFIED:20230123T214146Z
UID:11333-1738418400-1738447200@alki152.org
SUMMARY:Lodge Alba Stated Meeting
DESCRIPTION:
URL:https://alki152.org/event/lodge-alba-stated-meeting-10/2025-02-01/
CATEGORIES:Lodge Alba
END:VEVENT
BEGIN:VEVENT
DTSTART;TZID=America/Los_Angeles:20250130T160000
DTEND;TZID=America/Los_Angeles:20250130T200000
DTSTAMP:20260425T074025
CREATED:20241128T160151Z
LAST-MODIFIED:20241128T160151Z
UID:12490-1738252800-1738267200@alki152.org
SUMMARY:West Seattle Performing Arts
DESCRIPTION:
URL:https://alki152.org/event/west-seattle-performing-arts-2/2025-01-30/
CATEGORIES:Private Event
END:VEVENT
BEGIN:VEVENT
DTSTART;TZID=America/Los_Angeles:20250130T100000
DTEND;TZID=America/Los_Angeles:20250130T140000
DTSTAMP:20260425T074025
CREATED:20241118T203517Z
LAST-MODIFIED:20241118T203517Z
UID:12088-1738231200-1738245600@alki152.org
SUMMARY:TAMLAC Association
DESCRIPTION:
URL:https://alki152.org/event/tamlac-association-9/2025-01-30/
CATEGORIES:Private Event
END:VEVENT
BEGIN:VEVENT
DTSTART;TZID=America/Los_Angeles:20250129T160000
DTEND;TZID=America/Los_Angeles:20250129T200000
DTSTAMP:20260425T074025
CREATED:20241128T160017Z
LAST-MODIFIED:20241128T160017Z
UID:12432-1738166400-1738180800@alki152.org
SUMMARY:West Seattle Performing Arts
DESCRIPTION:
URL:https://alki152.org/event/west-seattle-performing-arts/2025-01-29/
CATEGORIES:Private Event
END:VEVENT
BEGIN:VEVENT
DTSTART;TZID=America/Los_Angeles:20250128T160000
DTEND;TZID=America/Los_Angeles:20250128T200000
DTSTAMP:20260425T074025
CREATED:20240417T153708Z
LAST-MODIFIED:20240417T153708Z
UID:12642-1738080000-1738094400@alki152.org
SUMMARY:Amethyst Chapter Eastern Star Meeting
DESCRIPTION:
URL:https://alki152.org/event/amethyst-chapter-eastern-star-meeting/2025-01-28/
CATEGORIES:Masonic Family
END:VEVENT
END:VCALENDAR