BEGIN:VCALENDAR
VERSION:2.0
PRODID:-//Alki Masonic Lodge #152 - ECPv6.15.20//NONSGML v1.0//EN
CALSCALE:GREGORIAN
METHOD:PUBLISH
X-WR-CALNAME:Alki Masonic Lodge #152
X-ORIGINAL-URL:https://alki152.org
X-WR-CALDESC:Events for Alki Masonic Lodge #152
REFRESH-INTERVAL;VALUE=DURATION:PT1H
X-Robots-Tag:noindex
X-PUBLISHED-TTL:PT1H
BEGIN:VTIMEZONE
TZID:America/Los_Angeles
BEGIN:DAYLIGHT
TZOFFSETFROM:-0800
TZOFFSETTO:-0700
TZNAME:PDT
DTSTART:20110313T100000
END:DAYLIGHT
BEGIN:STANDARD
TZOFFSETFROM:-0700
TZOFFSETTO:-0800
TZNAME:PST
DTSTART:20111106T090000
END:STANDARD
BEGIN:DAYLIGHT
TZOFFSETFROM:-0800
TZOFFSETTO:-0700
TZNAME:PDT
DTSTART:20120311T100000
END:DAYLIGHT
BEGIN:STANDARD
TZOFFSETFROM:-0700
TZOFFSETTO:-0800
TZNAME:PST
DTSTART:20121104T090000
END:STANDARD
BEGIN:DAYLIGHT
TZOFFSETFROM:-0800
TZOFFSETTO:-0700
TZNAME:PDT
DTSTART:20130310T100000
END:DAYLIGHT
BEGIN:STANDARD
TZOFFSETFROM:-0700
TZOFFSETTO:-0800
TZNAME:PST
DTSTART:20131103T090000
END:STANDARD
BEGIN:DAYLIGHT
TZOFFSETFROM:-0800
TZOFFSETTO:-0700
TZNAME:PDT
DTSTART:20140309T100000
END:DAYLIGHT
BEGIN:STANDARD
TZOFFSETFROM:-0700
TZOFFSETTO:-0800
TZNAME:PST
DTSTART:20141102T090000
END:STANDARD
END:VTIMEZONE
BEGIN:VEVENT
DTSTART;TZID=America/Los_Angeles:20121109T190000
DTEND;TZID=America/Los_Angeles:20121109T200000
DTSTAMP:20260424T073935
CREATED:20120927T232017Z
LAST-MODIFIED:20121124T041525Z
UID:504-1352487600-1352491200@alki152.org
SUMMARY:Rainbow Girls - Movie Night
DESCRIPTION:Movie Night!
URL:https://alki152.org/event/rainbow-girls-5/
LOCATION:Alki Masonic Center – Lodge Room\, 4736 40th Ave. SW\, Seattle\, WA\, 98116\, United States
CATEGORIES:Masonic Family,Rainbow
GEO:47.5600056;-122.3825589
X-APPLE-STRUCTURED-LOCATION;VALUE=URI;X-ADDRESS=Alki Masonic Center – Lodge Room 4736 40th Ave. SW Seattle WA 98116 United States;X-APPLE-RADIUS=500;X-TITLE=4736 40th Ave. SW:geo:-122.3825589,47.5600056
END:VEVENT
BEGIN:VEVENT
DTSTART;TZID=America/Los_Angeles:20121110T150000
DTEND;TZID=America/Los_Angeles:20121110T210000
DTSTAMP:20260424T073935
CREATED:20120928T060812Z
LAST-MODIFIED:20121124T044423Z
UID:582-1352559600-1352581200@alki152.org
SUMMARY:Job's Daughters Bethel #40 Grand Visit
DESCRIPTION:Dinner at 6:30\, discount\n  Labor at 7:30 Election Night\nGrand Visitation – Most activity will be in Lodge Room\, bronchi\n  with refreshments served in Banquet Hall 1.5 hrs in Banquet Hall.
URL:https://alki152.org/event/jobs-daughters-bethel-40-9/
LOCATION:Alki Masonic Center\, 4736 40th Ave. SW\, Seattle\, WA\, 98116\, United States
CATEGORIES:Bethel,Masonic Family
GEO:47.5600056;-122.3825589
X-APPLE-STRUCTURED-LOCATION;VALUE=URI;X-ADDRESS=Alki Masonic Center 4736 40th Ave. SW Seattle WA 98116 United States;X-APPLE-RADIUS=500;X-TITLE=4736 40th Ave. SW:geo:-122.3825589,47.5600056
END:VEVENT
BEGIN:VEVENT
DTSTART;TZID=America/Los_Angeles:20121112T170000
DTEND;TZID=America/Los_Angeles:20121112T230000
DTSTAMP:20260424T073935
CREATED:20120927T210934Z
LAST-MODIFIED:20121124T053331Z
UID:452-1352739600-1352761200@alki152.org
SUMMARY:Alki Lodge #152 Table Lodge
DESCRIPTION:Wednesday Night Lodge with Lodges from South Puget Sound \nDinner at 6:30 Lodge 7:30\nTable Lodge for brothers and their guests.  Good food\, mind\n  and formal toasts.  Starts at 5:00 pm \n \n 
URL:https://alki152.org/event/alki-lodge-152-table-lodge/
LOCATION:Alki Masonic Center\, 4736 40th Ave. SW\, Seattle\, WA\, 98116\, United States
CATEGORIES:Alki Lodge,Masonic Family
ORGANIZER;CN="Dick Syson%2C Secretary":MAILTO:nosys@comcast.net
GEO:47.5600056;-122.3825589
X-APPLE-STRUCTURED-LOCATION;VALUE=URI;X-ADDRESS=Alki Masonic Center 4736 40th Ave. SW Seattle WA 98116 United States;X-APPLE-RADIUS=500;X-TITLE=4736 40th Ave. SW:geo:-122.3825589,47.5600056
END:VEVENT
BEGIN:VEVENT
DTSTART;TZID=America/Los_Angeles:20121113T060000
DTEND;TZID=America/Los_Angeles:20121113T230000
DTSTAMP:20260424T073935
CREATED:20121102T043519Z
LAST-MODIFIED:20121124T053359Z
UID:757-1352786400-1352847600@alki152.org
SUMMARY:Fellow Craft Degree - Alki Lodge
DESCRIPTION:
URL:https://alki152.org/event/fellow-craft-degree-alki-lodge/
LOCATION:Alki Masonic Center\, 4736 40th Ave. SW\, Seattle\, WA\, 98116\, United States
CATEGORIES:Alki Lodge
GEO:47.5600056;-122.3825589
X-APPLE-STRUCTURED-LOCATION;VALUE=URI;X-ADDRESS=Alki Masonic Center 4736 40th Ave. SW Seattle WA 98116 United States;X-APPLE-RADIUS=500;X-TITLE=4736 40th Ave. SW:geo:-122.3825589,47.5600056
END:VEVENT
BEGIN:VEVENT
DTSTART;TZID=America/Los_Angeles:20121117T100000
DTEND;TZID=America/Los_Angeles:20121117T160000
DTSTAMP:20260424T073935
CREATED:20120928T015056Z
LAST-MODIFIED:20121011T194753Z
UID:552-1353146400-1353168000@alki152.org
SUMMARY:Holiday Bazaar - Westgate Court
DESCRIPTION:
URL:https://alki152.org/event/holiday-bazaar-westgate-court/
LOCATION:Alki Masonic Center\, 4736 40th Ave. SW\, Seattle\, WA\, 98116\, United States
CATEGORIES:Masonic Family,Public Event,Westgate
ORGANIZER;CN="Sue Gibbs":MAILTO:westgateevents21@gmail.com
GEO:47.5600056;-122.3825589
X-APPLE-STRUCTURED-LOCATION;VALUE=URI;X-ADDRESS=Alki Masonic Center 4736 40th Ave. SW Seattle WA 98116 United States;X-APPLE-RADIUS=500;X-TITLE=4736 40th Ave. SW:geo:-122.3825589,47.5600056
END:VEVENT
BEGIN:VEVENT
DTSTART;TZID=America/Los_Angeles:20121117T160000
DTEND;TZID=America/Los_Angeles:20121117T220000
DTSTAMP:20260424T073935
CREATED:20120928T061500Z
LAST-MODIFIED:20120929T193622Z
UID:585-1353168000-1353189600@alki152.org
SUMMARY:Seattle Swing Dance Club
DESCRIPTION:
URL:https://alki152.org/event/seattle-swing-dance-club-6/
LOCATION:Alki Masonic Center\, 4736 40th Ave. SW\, Seattle\, WA\, 98116\, United States
CATEGORIES:Public Event
GEO:47.5600056;-122.3825589
X-APPLE-STRUCTURED-LOCATION;VALUE=URI;X-ADDRESS=Alki Masonic Center 4736 40th Ave. SW Seattle WA 98116 United States;X-APPLE-RADIUS=500;X-TITLE=4736 40th Ave. SW:geo:-122.3825589,47.5600056
END:VEVENT
BEGIN:VEVENT
DTSTART;TZID=America/Los_Angeles:20121118T144500
DTEND;TZID=America/Los_Angeles:20121118T220000
DTSTAMP:20260424T073935
CREATED:20120928T062347Z
LAST-MODIFIED:20120929T193651Z
UID:586-1353249900-1353276000@alki152.org
SUMMARY:Seattle Swing Dance Club
DESCRIPTION:
URL:https://alki152.org/event/seattle-swing-dance-club-7/
LOCATION:Alki Masonic Center\, 4736 40th Ave. SW\, Seattle\, WA\, 98116\, United States
CATEGORIES:Public Event
GEO:47.5600056;-122.3825589
X-APPLE-STRUCTURED-LOCATION;VALUE=URI;X-ADDRESS=Alki Masonic Center 4736 40th Ave. SW Seattle WA 98116 United States;X-APPLE-RADIUS=500;X-TITLE=4736 40th Ave. SW:geo:-122.3825589,47.5600056
END:VEVENT
BEGIN:VEVENT
DTSTART;TZID=America/Los_Angeles:20121122T120000
DTEND;TZID=America/Los_Angeles:20121122T170000
DTSTAMP:20260424T073935
CREATED:20121202T231713Z
LAST-MODIFIED:20121202T231825Z
UID:989-1353585600-1353603600@alki152.org
SUMMARY:Private Rental
DESCRIPTION:Content is protected.
URL:https://alki152.org/event/private-rental-20/
LOCATION:Alki Masonic Center\, 4736 40th Ave. SW\, Seattle\, WA\, 98116\, United States
CATEGORIES:Private Event
GEO:47.5600056;-122.3825589
X-APPLE-STRUCTURED-LOCATION;VALUE=URI;X-ADDRESS=Alki Masonic Center 4736 40th Ave. SW Seattle WA 98116 United States;X-APPLE-RADIUS=500;X-TITLE=4736 40th Ave. SW:geo:-122.3825589,47.5600056
END:VEVENT
BEGIN:VEVENT
DTSTART;TZID=America/Los_Angeles:20121126T180000
DTEND;TZID=America/Los_Angeles:20121126T220000
DTSTAMP:20260424T073935
CREATED:20120927T213950Z
LAST-MODIFIED:20121124T053426Z
UID:458-1353952800-1353967200@alki152.org
SUMMARY:Master Mason Degree - Alki Lodge
DESCRIPTION:
URL:https://alki152.org/event/temple-board-3/
LOCATION:Alki Masonic Center 3rd Floor\, 4736 40th Ave. SW\, Seattle\, WA\, 98116\, United States
CATEGORIES:Alki Lodge
GEO:47.5600056;-122.3825589
X-APPLE-STRUCTURED-LOCATION;VALUE=URI;X-ADDRESS=Alki Masonic Center 3rd Floor 4736 40th Ave. SW Seattle WA 98116 United States;X-APPLE-RADIUS=500;X-TITLE=4736 40th Ave. SW:geo:-122.3825589,47.5600056
END:VEVENT
BEGIN:VEVENT
DTSTART;TZID=America/Los_Angeles:20121129T190000
DTEND;TZID=America/Los_Angeles:20121129T210000
DTSTAMP:20260424T073935
CREATED:20120927T225748Z
LAST-MODIFIED:20121124T030324Z
UID:482-1354215600-1354222800@alki152.org
SUMMARY:Eastern Star - Amethyst Chapter
DESCRIPTION:
URL:https://alki152.org/event/eastern-star-amethyst-chapter-2/
LOCATION:Alki Masonic Center\, 4736 40th Ave. SW\, Seattle\, WA\, 98116\, United States
CATEGORIES:Amethyst,Masonic Family
GEO:47.5600056;-122.3825589
X-APPLE-STRUCTURED-LOCATION;VALUE=URI;X-ADDRESS=Alki Masonic Center 4736 40th Ave. SW Seattle WA 98116 United States;X-APPLE-RADIUS=500;X-TITLE=4736 40th Ave. SW:geo:-122.3825589,47.5600056
END:VEVENT
BEGIN:VEVENT
DTSTART;TZID=America/Los_Angeles:20121201T080000
DTEND;TZID=America/Los_Angeles:20121201T120000
DTSTAMP:20260424T073935
CREATED:20120928T065317Z
LAST-MODIFIED:20121104T080123Z
UID:589-1354348800-1354363200@alki152.org
SUMMARY:Kiwanis Breakfast
DESCRIPTION:
URL:https://alki152.org/event/kiwanis-breakfast/
LOCATION:Alki Masonic Center\, 4736 40th Ave. SW\, Seattle\, WA\, 98116\, United States
CATEGORIES:Public Event
GEO:47.5600056;-122.3825589
X-APPLE-STRUCTURED-LOCATION;VALUE=URI;X-ADDRESS=Alki Masonic Center 4736 40th Ave. SW Seattle WA 98116 United States;X-APPLE-RADIUS=500;X-TITLE=4736 40th Ave. SW:geo:-122.3825589,47.5600056
END:VEVENT
BEGIN:VEVENT
DTSTART;TZID=America/Los_Angeles:20121201T130000
DTEND;TZID=America/Los_Angeles:20121201T230000
DTSTAMP:20260424T073935
CREATED:20120928T065210Z
LAST-MODIFIED:20121104T080218Z
UID:588-1354366800-1354402800@alki152.org
SUMMARY:Lafayette Lodge 241
DESCRIPTION:
URL:https://alki152.org/event/lafayette-lodge-241/
LOCATION:Alki Masonic Center\, 4736 40th Ave. SW\, Seattle\, WA\, 98116\, United States
CATEGORIES:Masonic Family
GEO:47.5600056;-122.3825589
X-APPLE-STRUCTURED-LOCATION;VALUE=URI;X-ADDRESS=Alki Masonic Center 4736 40th Ave. SW Seattle WA 98116 United States;X-APPLE-RADIUS=500;X-TITLE=4736 40th Ave. SW:geo:-122.3825589,47.5600056
END:VEVENT
BEGIN:VEVENT
DTSTART;TZID=America/Los_Angeles:20121204T120000
DTEND;TZID=America/Los_Angeles:20121204T210000
DTSTAMP:20260424T073935
CREATED:20120928T065751Z
LAST-MODIFIED:20121104T080326Z
UID:591-1354622400-1354654800@alki152.org
SUMMARY:Pasta Feed for the Arts
DESCRIPTION:West Seattle Montessori School
URL:https://alki152.org/event/pasta-dinner/
LOCATION:Alki Masonic Center\, 4736 40th Ave. SW\, Seattle\, WA\, 98116\, United States
CATEGORIES:Public Event
GEO:47.5600056;-122.3825589
X-APPLE-STRUCTURED-LOCATION;VALUE=URI;X-ADDRESS=Alki Masonic Center 4736 40th Ave. SW Seattle WA 98116 United States;X-APPLE-RADIUS=500;X-TITLE=4736 40th Ave. SW:geo:-122.3825589,47.5600056
END:VEVENT
BEGIN:VEVENT
DTSTART;TZID=America/Los_Angeles:20121208T170000
DTEND;TZID=America/Los_Angeles:20121208T220000
DTSTAMP:20260424T073935
CREATED:20120927T214146Z
LAST-MODIFIED:20121129T075414Z
UID:461-1354986000-1355004000@alki152.org
SUMMARY:Alki Lodge #152 Officers Installation
DESCRIPTION:Contact Lloyd Dow for more information 253-740-8014\n \nInstallation begins at 5:00pm\, try\n  with a reception and entertainment to follow. \nPlease join us for a fun filled evening welcoming the 2013 officers into their new positions.
URL:https://alki152.org/event/alki-lodge-152-officers-installation/
LOCATION:Alki Masonic Center\, 4736 40th Ave. SW\, Seattle\, WA\, 98116\, United States
CATEGORIES:Alki Lodge,Masonic Family,Public Event
ORGANIZER;CN="Dick Syson%2C Secretary":MAILTO:nosys@comcast.net
GEO:47.5600056;-122.3825589
X-APPLE-STRUCTURED-LOCATION;VALUE=URI;X-ADDRESS=Alki Masonic Center 4736 40th Ave. SW Seattle WA 98116 United States;X-APPLE-RADIUS=500;X-TITLE=4736 40th Ave. SW:geo:-122.3825589,47.5600056
END:VEVENT
BEGIN:VEVENT
DTSTART;TZID=America/Los_Angeles:20121209T150000
DTEND;TZID=America/Los_Angeles:20121209T190000
DTSTAMP:20260424T073935
CREATED:20120928T065616Z
LAST-MODIFIED:20121124T054439Z
UID:590-1355065200-1355079600@alki152.org
SUMMARY:Alki Lodge #152 Christmas Party
DESCRIPTION:
URL:https://alki152.org/event/alki-lodge-152-christmas-party/
LOCATION:Alki Masonic Center\, 4736 40th Ave. SW\, Seattle\, WA\, 98116\, United States
CATEGORIES:Alki Lodge,Masonic Family,Public Event
ORGANIZER;CN="Dick Syson%2C Secretary":MAILTO:nosys@comcast.net
GEO:47.5600056;-122.3825589
X-APPLE-STRUCTURED-LOCATION;VALUE=URI;X-ADDRESS=Alki Masonic Center 4736 40th Ave. SW Seattle WA 98116 United States;X-APPLE-RADIUS=500;X-TITLE=4736 40th Ave. SW:geo:-122.3825589,47.5600056
END:VEVENT
BEGIN:VEVENT
DTSTART;TZID=America/Los_Angeles:20121214T170000
DTEND;TZID=America/Los_Angeles:20121214T170000
DTSTAMP:20260424T073935
CREATED:20120928T070022Z
LAST-MODIFIED:20121202T225254Z
UID:592-1355504400-1355504400@alki152.org
SUMMARY:Private Rental
DESCRIPTION:Content is protected.
URL:https://alki152.org/event/private-rental-5/
LOCATION:Alki Masonic Center\, 4736 40th Ave. SW\, Seattle\, WA\, 98116\, United States
CATEGORIES:Private Event
GEO:47.5600056;-122.3825589
X-APPLE-STRUCTURED-LOCATION;VALUE=URI;X-ADDRESS=Alki Masonic Center 4736 40th Ave. SW Seattle WA 98116 United States;X-APPLE-RADIUS=500;X-TITLE=4736 40th Ave. SW:geo:-122.3825589,47.5600056
END:VEVENT
BEGIN:VEVENT
DTSTART;TZID=America/Los_Angeles:20121214T190000
DTEND;TZID=America/Los_Angeles:20121214T200000
DTSTAMP:20260424T073935
CREATED:20120927T232106Z
LAST-MODIFIED:20121124T041601Z
UID:505-1355511600-1355515200@alki152.org
SUMMARY:Rainbow Girls
DESCRIPTION:
URL:https://alki152.org/event/rainbow-girls-6/
LOCATION:Alki Masonic Center – Lodge Room\, 4736 40th Ave. SW\, Seattle\, WA\, 98116\, United States
CATEGORIES:Masonic Family,Rainbow
GEO:47.5600056;-122.3825589
X-APPLE-STRUCTURED-LOCATION;VALUE=URI;X-ADDRESS=Alki Masonic Center – Lodge Room 4736 40th Ave. SW Seattle WA 98116 United States;X-APPLE-RADIUS=500;X-TITLE=4736 40th Ave. SW:geo:-122.3825589,47.5600056
END:VEVENT
BEGIN:VEVENT
DTSTART;TZID=America/Los_Angeles:20121215T170000
DTEND;TZID=America/Los_Angeles:20121215T170000
DTSTAMP:20260424T073935
CREATED:20120928T070149Z
LAST-MODIFIED:20120929T175746Z
UID:593-1355590800-1355590800@alki152.org
SUMMARY:Private Rental - Old Rides
DESCRIPTION:
URL:https://alki152.org/event/private-rental-old-rides-2/
LOCATION:Alki Masonic Center\, 4736 40th Ave. SW\, Seattle\, WA\, 98116\, United States
CATEGORIES:Private Event
GEO:47.5600056;-122.3825589
X-APPLE-STRUCTURED-LOCATION;VALUE=URI;X-ADDRESS=Alki Masonic Center 4736 40th Ave. SW Seattle WA 98116 United States;X-APPLE-RADIUS=500;X-TITLE=4736 40th Ave. SW:geo:-122.3825589,47.5600056
END:VEVENT
BEGIN:VEVENT
DTSTART;TZID=America/Los_Angeles:20121216T144500
DTEND;TZID=America/Los_Angeles:20121216T220000
DTSTAMP:20260424T073935
CREATED:20120928T070428Z
LAST-MODIFIED:20120929T175714Z
UID:594-1355669100-1355695200@alki152.org
SUMMARY:Seattle Swing Dance Club
DESCRIPTION:
URL:https://alki152.org/event/seattle-swing-dance-club-8/
LOCATION:Alki Masonic Center\, 4736 40th Ave. SW\, Seattle\, WA\, 98116\, United States
CATEGORIES:Public Event
GEO:47.5600056;-122.3825589
X-APPLE-STRUCTURED-LOCATION;VALUE=URI;X-ADDRESS=Alki Masonic Center 4736 40th Ave. SW Seattle WA 98116 United States;X-APPLE-RADIUS=500;X-TITLE=4736 40th Ave. SW:geo:-122.3825589,47.5600056
END:VEVENT
BEGIN:VEVENT
DTSTART;TZID=America/Los_Angeles:20121217T190000
DTEND;TZID=America/Los_Angeles:20121217T200000
DTSTAMP:20260424T073935
CREATED:20121207T202206Z
LAST-MODIFIED:20121207T202207Z
UID:1006-1355770800-1355774400@alki152.org
SUMMARY:Temple Board
DESCRIPTION:
URL:https://alki152.org/event/temple-board-7/
LOCATION:Alki Masonic Center 3rd Floor\, 4736 40th Ave. SW\, Seattle\, WA\, 98116\, United States
CATEGORIES:Masonic Family,Private Event
GEO:47.5600056;-122.3825589
X-APPLE-STRUCTURED-LOCATION;VALUE=URI;X-ADDRESS=Alki Masonic Center 3rd Floor 4736 40th Ave. SW Seattle WA 98116 United States;X-APPLE-RADIUS=500;X-TITLE=4736 40th Ave. SW:geo:-122.3825589,47.5600056
END:VEVENT
BEGIN:VEVENT
DTSTART;TZID=America/Los_Angeles:20121221T180000
DTEND;TZID=America/Los_Angeles:20121221T200000
DTSTAMP:20260424T073935
CREATED:20120927T231348Z
LAST-MODIFIED:20121124T044556Z
UID:498-1356112800-1356120000@alki152.org
SUMMARY:Job's Daughters - Bethel #40
DESCRIPTION:
URL:https://alki152.org/event/jobs-daughters-bethel-40-8/
LOCATION:Alki Masonic Center – Lodge Room\, 4736 40th Ave. SW\, Seattle\, WA\, 98116\, United States
CATEGORIES:Bethel,Masonic Family
GEO:47.5600056;-122.3825589
X-APPLE-STRUCTURED-LOCATION;VALUE=URI;X-ADDRESS=Alki Masonic Center – Lodge Room 4736 40th Ave. SW Seattle WA 98116 United States;X-APPLE-RADIUS=500;X-TITLE=4736 40th Ave. SW:geo:-122.3825589,47.5600056
END:VEVENT
BEGIN:VEVENT
DTSTART;VALUE=DATE:20121222
DTEND;VALUE=DATE:20121223
DTSTAMP:20260424T073935
CREATED:20120929T165731Z
LAST-MODIFIED:20130513T193738Z
UID:602-1356134400-1356220799@alki152.org
SUMMARY:Private Rental - CANCELLED
DESCRIPTION:Content is protected.
URL:https://alki152.org/event/private-rental-6/
LOCATION:Alki Masonic Center\, 4736 40th Ave. SW\, Seattle\, WA\, 98116\, United States
CATEGORIES:Private Event
GEO:47.5600056;-122.3825589
X-APPLE-STRUCTURED-LOCATION;VALUE=URI;X-ADDRESS=Alki Masonic Center 4736 40th Ave. SW Seattle WA 98116 United States;X-APPLE-RADIUS=500;X-TITLE=4736 40th Ave. SW:geo:-122.3825589,47.5600056
END:VEVENT
BEGIN:VEVENT
DTSTART;TZID=America/Los_Angeles:20121227T190000
DTEND;TZID=America/Los_Angeles:20121227T200000
DTSTAMP:20260424T073935
CREATED:20120927T232218Z
LAST-MODIFIED:20121124T041641Z
UID:506-1356634800-1356638400@alki152.org
SUMMARY:Rainbow Girls
DESCRIPTION:
URL:https://alki152.org/event/rainbow-girls-7/
LOCATION:Alki Masonic Center – Lodge Room\, 4736 40th Ave. SW\, Seattle\, WA\, 98116\, United States
CATEGORIES:Masonic Family,Rainbow
GEO:47.5600056;-122.3825589
X-APPLE-STRUCTURED-LOCATION;VALUE=URI;X-ADDRESS=Alki Masonic Center – Lodge Room 4736 40th Ave. SW Seattle WA 98116 United States;X-APPLE-RADIUS=500;X-TITLE=4736 40th Ave. SW:geo:-122.3825589,47.5600056
END:VEVENT
BEGIN:VEVENT
DTSTART;TZID=America/Los_Angeles:20121228T190000
DTEND;TZID=America/Los_Angeles:20121228T210000
DTSTAMP:20260424T073935
CREATED:20120927T225917Z
LAST-MODIFIED:20121124T030509Z
UID:483-1356721200-1356728400@alki152.org
SUMMARY:Eastern Star - Amethyst Chapter
DESCRIPTION:
URL:https://alki152.org/event/eastern-star-amethyst-chapter-3/
LOCATION:Alki Masonic Center\, 4736 40th Ave. SW\, Seattle\, WA\, 98116\, United States
CATEGORIES:Amethyst,Masonic Family
GEO:47.5600056;-122.3825589
X-APPLE-STRUCTURED-LOCATION;VALUE=URI;X-ADDRESS=Alki Masonic Center 4736 40th Ave. SW Seattle WA 98116 United States;X-APPLE-RADIUS=500;X-TITLE=4736 40th Ave. SW:geo:-122.3825589,47.5600056
END:VEVENT
BEGIN:VEVENT
DTSTART;TZID=America/Los_Angeles:20121229T080000
DTEND;TZID=America/Los_Angeles:20121229T220000
DTSTAMP:20260424T073935
CREATED:20121123T215840Z
LAST-MODIFIED:20121204T182947Z
UID:953-1356768000-1356818400@alki152.org
SUMMARY:Private Rental
DESCRIPTION:Content is protected.
URL:https://alki152.org/event/private-rental-18/
LOCATION:Alki Masonic Center\, 4736 40th Ave. SW\, Seattle\, WA\, 98116\, United States
CATEGORIES:Private Event
GEO:47.5600056;-122.3825589
X-APPLE-STRUCTURED-LOCATION;VALUE=URI;X-ADDRESS=Alki Masonic Center 4736 40th Ave. SW Seattle WA 98116 United States;X-APPLE-RADIUS=500;X-TITLE=4736 40th Ave. SW:geo:-122.3825589,47.5600056
END:VEVENT
BEGIN:VEVENT
DTSTART;TZID=America/Los_Angeles:20130105T100000
DTEND;TZID=America/Los_Angeles:20130105T140000
DTSTAMP:20260424T073935
CREATED:20121207T214454Z
LAST-MODIFIED:20121207T214454Z
UID:1007-1357380000-1357394400@alki152.org
SUMMARY:Rainbow Girls - Christmas Tree Recycle
DESCRIPTION:
URL:https://alki152.org/event/rainbow-girls-christmas-tree-recycle/
LOCATION:Alki Masonic Center – Lodge Room\, 4736 40th Ave. SW\, Seattle\, WA\, 98116\, United States
CATEGORIES:Masonic Family,Rainbow
GEO:47.5600056;-122.3825589
X-APPLE-STRUCTURED-LOCATION;VALUE=URI;X-ADDRESS=Alki Masonic Center – Lodge Room 4736 40th Ave. SW Seattle WA 98116 United States;X-APPLE-RADIUS=500;X-TITLE=4736 40th Ave. SW:geo:-122.3825589,47.5600056
END:VEVENT
BEGIN:VEVENT
DTSTART;TZID=America/Los_Angeles:20130106T144500
DTEND;TZID=America/Los_Angeles:20130106T220000
DTSTAMP:20260424T073935
CREATED:20120930T220915Z
LAST-MODIFIED:20121124T060251Z
UID:641-1357483500-1357509600@alki152.org
SUMMARY:Seattle Swing Dance Club
DESCRIPTION:
URL:https://alki152.org/event/seattle-swing-dance-club-12/2013-01-06/
LOCATION:Alki Masonic Center\, 4736 40th Ave. SW\, Seattle\, WA\, 98116\, United States
CATEGORIES:Public Event
GEO:47.5600056;-122.3825589
X-APPLE-STRUCTURED-LOCATION;VALUE=URI;X-ADDRESS=Alki Masonic Center 4736 40th Ave. SW Seattle WA 98116 United States;X-APPLE-RADIUS=500;X-TITLE=4736 40th Ave. SW:geo:-122.3825589,47.5600056
END:VEVENT
BEGIN:VEVENT
DTSTART;TZID=America/Los_Angeles:20130111T190000
DTEND;TZID=America/Los_Angeles:20130111T200000
DTSTAMP:20260424T073935
CREATED:20120927T232303Z
LAST-MODIFIED:20121124T041723Z
UID:507-1357930800-1357934400@alki152.org
SUMMARY:Rainbow Girls
DESCRIPTION:
URL:https://alki152.org/event/rainbow-girls-8/
LOCATION:Alki Masonic Center – Lodge Room\, 4736 40th Ave. SW\, Seattle\, WA\, 98116\, United States
CATEGORIES:Masonic Family,Rainbow
GEO:47.5600056;-122.3825589
X-APPLE-STRUCTURED-LOCATION;VALUE=URI;X-ADDRESS=Alki Masonic Center – Lodge Room 4736 40th Ave. SW Seattle WA 98116 United States;X-APPLE-RADIUS=500;X-TITLE=4736 40th Ave. SW:geo:-122.3825589,47.5600056
END:VEVENT
BEGIN:VEVENT
DTSTART;TZID=America/Los_Angeles:20130112T130000
DTEND;TZID=America/Los_Angeles:20130112T220000
DTSTAMP:20260424T073935
CREATED:20120929T194621Z
LAST-MODIFIED:20121124T051729Z
UID:609-1357995600-1358028000@alki152.org
SUMMARY:Lodge Alba #315 Installation
DESCRIPTION:
URL:https://alki152.org/event/lodge-alba-installation/
LOCATION:Alki Masonic Center\, 4736 40th Ave. SW\, Seattle\, WA\, 98116\, United States
CATEGORIES:Lodge Alba,Masonic Family,Public Event
GEO:47.5600056;-122.3825589
X-APPLE-STRUCTURED-LOCATION;VALUE=URI;X-ADDRESS=Alki Masonic Center 4736 40th Ave. SW Seattle WA 98116 United States;X-APPLE-RADIUS=500;X-TITLE=4736 40th Ave. SW:geo:-122.3825589,47.5600056
END:VEVENT
BEGIN:VEVENT
DTSTART;TZID=America/Los_Angeles:20130113T100000
DTEND;TZID=America/Los_Angeles:20130113T150000
DTSTAMP:20260424T073935
CREATED:20130112T010754Z
LAST-MODIFIED:20130112T010831Z
UID:1090-1358071200-1358089200@alki152.org
SUMMARY:Alki Masonic Lodge - Seahawks Watch Party
DESCRIPTION:Join us on Sunday for the Playoff game against the Atlanta Falcons at 10:00 Saturday Morning on the Biggest Big Screen in West Seattle. \nFun fellowship and food.  BYOB
URL:https://alki152.org/event/alki-masonic-lodge-seahawk-watch-party/
LOCATION:Alki Masonic Center\, 4736 40th Ave. SW\, Seattle\, WA\, 98116\, United States
CATEGORIES:Alki Lodge,Lodge Alba,LuzViMinda #317,Masonic Family
GEO:47.5600056;-122.3825589
X-APPLE-STRUCTURED-LOCATION;VALUE=URI;X-ADDRESS=Alki Masonic Center 4736 40th Ave. SW Seattle WA 98116 United States;X-APPLE-RADIUS=500;X-TITLE=4736 40th Ave. SW:geo:-122.3825589,47.5600056
END:VEVENT
END:VCALENDAR