BEGIN:VCALENDAR
VERSION:2.0
PRODID:-//Alki Masonic Lodge #152 - ECPv6.15.20//NONSGML v1.0//EN
CALSCALE:GREGORIAN
METHOD:PUBLISH
X-WR-CALNAME:Alki Masonic Lodge #152
X-ORIGINAL-URL:https://alki152.org
X-WR-CALDESC:Events for Alki Masonic Lodge #152
REFRESH-INTERVAL;VALUE=DURATION:PT1H
X-Robots-Tag:noindex
X-PUBLISHED-TTL:PT1H
BEGIN:VTIMEZONE
TZID:America/Los_Angeles
BEGIN:DAYLIGHT
TZOFFSETFROM:-0800
TZOFFSETTO:-0700
TZNAME:PDT
DTSTART:20150308T100000
END:DAYLIGHT
BEGIN:STANDARD
TZOFFSETFROM:-0700
TZOFFSETTO:-0800
TZNAME:PST
DTSTART:20151101T090000
END:STANDARD
BEGIN:DAYLIGHT
TZOFFSETFROM:-0800
TZOFFSETTO:-0700
TZNAME:PDT
DTSTART:20160313T100000
END:DAYLIGHT
BEGIN:STANDARD
TZOFFSETFROM:-0700
TZOFFSETTO:-0800
TZNAME:PST
DTSTART:20161106T090000
END:STANDARD
BEGIN:DAYLIGHT
TZOFFSETFROM:-0800
TZOFFSETTO:-0700
TZNAME:PDT
DTSTART:20170312T100000
END:DAYLIGHT
BEGIN:STANDARD
TZOFFSETFROM:-0700
TZOFFSETTO:-0800
TZNAME:PST
DTSTART:20171105T090000
END:STANDARD
BEGIN:DAYLIGHT
TZOFFSETFROM:-0800
TZOFFSETTO:-0700
TZNAME:PDT
DTSTART:20180311T100000
END:DAYLIGHT
BEGIN:STANDARD
TZOFFSETFROM:-0700
TZOFFSETTO:-0800
TZNAME:PST
DTSTART:20181104T090000
END:STANDARD
BEGIN:DAYLIGHT
TZOFFSETFROM:-0800
TZOFFSETTO:-0700
TZNAME:PDT
DTSTART:20190310T100000
END:DAYLIGHT
BEGIN:STANDARD
TZOFFSETFROM:-0700
TZOFFSETTO:-0800
TZNAME:PST
DTSTART:20191103T090000
END:STANDARD
BEGIN:DAYLIGHT
TZOFFSETFROM:-0800
TZOFFSETTO:-0700
TZNAME:PDT
DTSTART:20200308T100000
END:DAYLIGHT
BEGIN:STANDARD
TZOFFSETFROM:-0700
TZOFFSETTO:-0800
TZNAME:PST
DTSTART:20201101T090000
END:STANDARD
BEGIN:DAYLIGHT
TZOFFSETFROM:-0800
TZOFFSETTO:-0700
TZNAME:PDT
DTSTART:20210314T100000
END:DAYLIGHT
BEGIN:STANDARD
TZOFFSETFROM:-0700
TZOFFSETTO:-0800
TZNAME:PST
DTSTART:20211107T090000
END:STANDARD
BEGIN:DAYLIGHT
TZOFFSETFROM:-0800
TZOFFSETTO:-0700
TZNAME:PDT
DTSTART:20220313T100000
END:DAYLIGHT
BEGIN:STANDARD
TZOFFSETFROM:-0700
TZOFFSETTO:-0800
TZNAME:PST
DTSTART:20221106T090000
END:STANDARD
BEGIN:DAYLIGHT
TZOFFSETFROM:-0800
TZOFFSETTO:-0700
TZNAME:PDT
DTSTART:20230312T100000
END:DAYLIGHT
BEGIN:STANDARD
TZOFFSETFROM:-0700
TZOFFSETTO:-0800
TZNAME:PST
DTSTART:20231105T090000
END:STANDARD
BEGIN:DAYLIGHT
TZOFFSETFROM:-0800
TZOFFSETTO:-0700
TZNAME:PDT
DTSTART:20240310T100000
END:DAYLIGHT
BEGIN:STANDARD
TZOFFSETFROM:-0700
TZOFFSETTO:-0800
TZNAME:PST
DTSTART:20241103T090000
END:STANDARD
END:VTIMEZONE
BEGIN:VEVENT
DTSTART;TZID=America/Los_Angeles:20160922T190000
DTEND;TZID=America/Los_Angeles:20160922T210000
DTSTAMP:20260423T161256
CREATED:20120927T233629Z
LAST-MODIFIED:20150211T211948Z
UID:3745-1474570800-1474578000@alki152.org
SUMMARY:Rainbow Girls
DESCRIPTION:
URL:https://alki152.org/event/rainbow-girls-18-2015-04-10-2015-08-14-2016-09-22/2016-09-22/
LOCATION:Alki Masonic Center – Lodge Room\, 4736 40th Ave. SW\, Seattle\, WA\, 98116\, United States
CATEGORIES:Masonic Family,Rainbow
GEO:47.5600056;-122.3825589
X-APPLE-STRUCTURED-LOCATION;VALUE=URI;X-ADDRESS=Alki Masonic Center – Lodge Room 4736 40th Ave. SW Seattle WA 98116 United States;X-APPLE-RADIUS=500;X-TITLE=4736 40th Ave. SW:geo:-122.3825589,47.5600056
END:VEVENT
BEGIN:VEVENT
DTSTART;TZID=America/Los_Angeles:20161209T190000
DTEND;TZID=America/Los_Angeles:20161209T210000
DTSTAMP:20260423T161256
CREATED:20120927T233629Z
LAST-MODIFIED:20160322T052253Z
UID:3845-1481310000-1481317200@alki152.org
SUMMARY:Rainbow Girls
DESCRIPTION:
URL:https://alki152.org/event/rainbow-girls-18-2015-04-10-2016-09-09-2016-12-09/2016-12-09/
LOCATION:Alki Masonic Center – Lodge Room\, 4736 40th Ave. SW\, Seattle\, WA\, 98116\, United States
CATEGORIES:Masonic Family,Rainbow
GEO:47.5600056;-122.3825589
X-APPLE-STRUCTURED-LOCATION;VALUE=URI;X-ADDRESS=Alki Masonic Center – Lodge Room 4736 40th Ave. SW Seattle WA 98116 United States;X-APPLE-RADIUS=500;X-TITLE=4736 40th Ave. SW:geo:-122.3825589,47.5600056
END:VEVENT
BEGIN:VEVENT
DTSTART;TZID=America/Los_Angeles:20161222T190000
DTEND;TZID=America/Los_Angeles:20161222T210000
DTSTAMP:20260423T161256
CREATED:20120927T233629Z
LAST-MODIFIED:20160322T052657Z
UID:3842-1482433200-1482440400@alki152.org
SUMMARY:Rainbow Girls
DESCRIPTION:
URL:https://alki152.org/event/rainbow-girls-18-2015-04-10-2015-08-14-2016-09-22-2016-12-22/2016-12-22/
LOCATION:Alki Masonic Center – Lodge Room\, 4736 40th Ave. SW\, Seattle\, WA\, 98116\, United States
CATEGORIES:Masonic Family,Rainbow
GEO:47.5600056;-122.3825589
X-APPLE-STRUCTURED-LOCATION;VALUE=URI;X-ADDRESS=Alki Masonic Center – Lodge Room 4736 40th Ave. SW Seattle WA 98116 United States;X-APPLE-RADIUS=500;X-TITLE=4736 40th Ave. SW:geo:-122.3825589,47.5600056
END:VEVENT
BEGIN:VEVENT
DTSTART;TZID=America/Los_Angeles:20170107T080000
DTEND;TZID=America/Los_Angeles:20170107T170000
DTSTAMP:20260423T161256
CREATED:20160429T005757Z
LAST-MODIFIED:20161019T205651Z
UID:4467-1483776000-1483808400@alki152.org
SUMMARY:Rainbow - Christmas Tree Recycling
DESCRIPTION:
URL:https://alki152.org/event/rainbow-christmas-tree-recycling/
LOCATION:Alki Masonic Center\, 4736 40th Ave. SW\, Seattle\, WA\, 98116\, United States
CATEGORIES:Masonic Family,Rainbow
GEO:47.5600056;-122.3825589
X-APPLE-STRUCTURED-LOCATION;VALUE=URI;X-ADDRESS=Alki Masonic Center 4736 40th Ave. SW Seattle WA 98116 United States;X-APPLE-RADIUS=500;X-TITLE=4736 40th Ave. SW:geo:-122.3825589,47.5600056
END:VEVENT
BEGIN:VEVENT
DTSTART;TZID=America/Los_Angeles:20170128T130000
DTEND;TZID=America/Los_Angeles:20170128T180000
DTSTAMP:20260423T161256
CREATED:20160429T010137Z
LAST-MODIFIED:20160502T154625Z
UID:4468-1485608400-1485626400@alki152.org
SUMMARY:Rainbow - Installation
DESCRIPTION:
URL:https://alki152.org/event/rainbow-installation-6/
LOCATION:Alki Masonic Center\, 4736 40th Ave. SW\, Seattle\, WA\, 98116\, United States
CATEGORIES:Masonic Family,Rainbow
GEO:47.5600056;-122.3825589
X-APPLE-STRUCTURED-LOCATION;VALUE=URI;X-ADDRESS=Alki Masonic Center 4736 40th Ave. SW Seattle WA 98116 United States;X-APPLE-RADIUS=500;X-TITLE=4736 40th Ave. SW:geo:-122.3825589,47.5600056
END:VEVENT
BEGIN:VEVENT
DTSTART;TZID=America/Los_Angeles:20170226T080000
DTEND;TZID=America/Los_Angeles:20170226T180000
DTSTAMP:20260423T161256
CREATED:20160429T010432Z
LAST-MODIFIED:20160502T154524Z
UID:4469-1488096000-1488132000@alki152.org
SUMMARY:Rainbow District Event - GOR
DESCRIPTION:
URL:https://alki152.org/event/rainbow-district-event-grand-officer-reception/
LOCATION:Alki Masonic Center\, 4736 40th Ave. SW\, Seattle\, WA\, 98116\, United States
CATEGORIES:Masonic Family,Rainbow
GEO:47.5600056;-122.3825589
X-APPLE-STRUCTURED-LOCATION;VALUE=URI;X-ADDRESS=Alki Masonic Center 4736 40th Ave. SW Seattle WA 98116 United States;X-APPLE-RADIUS=500;X-TITLE=4736 40th Ave. SW:geo:-122.3825589,47.5600056
END:VEVENT
BEGIN:VEVENT
DTSTART;TZID=America/Los_Angeles:20170326T140000
DTEND;TZID=America/Los_Angeles:20170326T170000
DTSTAMP:20260423T161256
CREATED:20170311T052121Z
LAST-MODIFIED:20170311T052121Z
UID:4750-1490536800-1490547600@alki152.org
SUMMARY:West Seattle Rainbow - Majority Tea
DESCRIPTION:
URL:https://alki152.org/event/west-seattle-rainbow-majority-tea/
LOCATION:Alki Masonic Center\, 4736 40th Ave. SW\, Seattle\, WA\, 98116\, United States
CATEGORIES:Masonic Family,Rainbow
GEO:47.5600056;-122.3825589
X-APPLE-STRUCTURED-LOCATION;VALUE=URI;X-ADDRESS=Alki Masonic Center 4736 40th Ave. SW Seattle WA 98116 United States;X-APPLE-RADIUS=500;X-TITLE=4736 40th Ave. SW:geo:-122.3825589,47.5600056
END:VEVENT
BEGIN:VEVENT
DTSTART;TZID=America/Los_Angeles:20170722T170000
DTEND;TZID=America/Los_Angeles:20170722T210000
DTSTAMP:20260423T161256
CREATED:20170605T202311Z
LAST-MODIFIED:20170605T202311Z
UID:4787-1500742800-1500757200@alki152.org
SUMMARY:Rainbow Installation
DESCRIPTION:
URL:https://alki152.org/event/rainbow-installation-7/
LOCATION:Alki Masonic Center\, 4736 40th Ave. SW\, Seattle\, WA\, 98116\, United States
CATEGORIES:Masonic Family,Rainbow
GEO:47.5600056;-122.3825589
X-APPLE-STRUCTURED-LOCATION;VALUE=URI;X-ADDRESS=Alki Masonic Center 4736 40th Ave. SW Seattle WA 98116 United States;X-APPLE-RADIUS=500;X-TITLE=4736 40th Ave. SW:geo:-122.3825589,47.5600056
END:VEVENT
BEGIN:VEVENT
DTSTART;TZID=America/Los_Angeles:20171228T190000
DTEND;TZID=America/Los_Angeles:20171228T210000
DTSTAMP:20260423T161256
CREATED:20120927T233629Z
LAST-MODIFIED:20180921T034208Z
UID:4445-1514487600-1514494800@alki152.org
SUMMARY:Rainbow Girls
DESCRIPTION:
URL:https://alki152.org/event/rainbow-girls-18-2015-04-10-2015-08-14-2016-09-22-2016-12-22-2017-12-28/2017-12-28/
LOCATION:Alki Masonic Center – Lodge Room\, 4736 40th Ave. SW\, Seattle\, WA\, 98116\, United States
CATEGORIES:Masonic Family,Rainbow
GEO:47.5600056;-122.3825589
X-APPLE-STRUCTURED-LOCATION;VALUE=URI;X-ADDRESS=Alki Masonic Center – Lodge Room 4736 40th Ave. SW Seattle WA 98116 United States;X-APPLE-RADIUS=500;X-TITLE=4736 40th Ave. SW:geo:-122.3825589,47.5600056
END:VEVENT
BEGIN:VEVENT
DTSTART;TZID=America/Los_Angeles:20180126T190000
DTEND;TZID=America/Los_Angeles:20180126T210000
DTSTAMP:20260423T161256
CREATED:20171213T004516Z
LAST-MODIFIED:20171213T004516Z
UID:7852-1516993200-1517000400@alki152.org
SUMMARY:Rainbow Installation
DESCRIPTION:
URL:https://alki152.org/event/rainbow-installation-8/
LOCATION:Alki Masonic Center\, 4736 40th Ave. SW\, Seattle\, WA\, 98116\, United States
CATEGORIES:Masonic Family,Rainbow
GEO:47.5600056;-122.3825589
X-APPLE-STRUCTURED-LOCATION;VALUE=URI;X-ADDRESS=Alki Masonic Center 4736 40th Ave. SW Seattle WA 98116 United States;X-APPLE-RADIUS=500;X-TITLE=4736 40th Ave. SW:geo:-122.3825589,47.5600056
END:VEVENT
BEGIN:VEVENT
DTSTART;TZID=America/Los_Angeles:20180225T130000
DTEND;TZID=America/Los_Angeles:20180225T200000
DTSTAMP:20260423T161256
CREATED:20170716T013439Z
LAST-MODIFIED:20170716T013439Z
UID:7690-1519563600-1519588800@alki152.org
SUMMARY:Rainbow GOR
DESCRIPTION:
URL:https://alki152.org/event/rainbow-gor-2/
LOCATION:Alki Masonic Center\, 4736 40th Ave. SW\, Seattle\, WA\, 98116\, United States
CATEGORIES:Masonic Family,Public Event,Rainbow
GEO:47.5600056;-122.3825589
X-APPLE-STRUCTURED-LOCATION;VALUE=URI;X-ADDRESS=Alki Masonic Center 4736 40th Ave. SW Seattle WA 98116 United States;X-APPLE-RADIUS=500;X-TITLE=4736 40th Ave. SW:geo:-122.3825589,47.5600056
END:VEVENT
BEGIN:VEVENT
DTSTART;TZID=America/Los_Angeles:20190112T140000
DTEND;TZID=America/Los_Angeles:20190112T220000
DTSTAMP:20260423T161256
CREATED:20180921T041800Z
LAST-MODIFIED:20180921T041800Z
UID:8410-1547301600-1547330400@alki152.org
SUMMARY:West Seattle Rainbow Installation
DESCRIPTION:
URL:https://alki152.org/event/west-seattle-rainbow-installation/
LOCATION:Alki Masonic Center\, 4736 40th Ave. SW\, Seattle\, WA\, 98116\, United States
CATEGORIES:Rainbow
GEO:47.5600056;-122.3825589
X-APPLE-STRUCTURED-LOCATION;VALUE=URI;X-ADDRESS=Alki Masonic Center 4736 40th Ave. SW Seattle WA 98116 United States;X-APPLE-RADIUS=500;X-TITLE=4736 40th Ave. SW:geo:-122.3825589,47.5600056
END:VEVENT
BEGIN:VEVENT
DTSTART;TZID=America/Los_Angeles:20190208T190000
DTEND;TZID=America/Los_Angeles:20190208T210000
DTSTAMP:20260423T161256
CREATED:20120927T233629Z
LAST-MODIFIED:20190211T022244Z
UID:7368-1549652400-1549659600@alki152.org
SUMMARY:Rainbow Girls-Canceled due to snow
DESCRIPTION:
URL:https://alki152.org/event/rainbow-girls-18-2015-04-10-2016-09-09-2016-12-09-2017-12-08-2019-02-08/
LOCATION:Alki Masonic Center – Lodge Room\, 4736 40th Ave. SW\, Seattle\, WA\, 98116\, United States
CATEGORIES:Masonic Family,Rainbow
GEO:47.5600056;-122.3825589
X-APPLE-STRUCTURED-LOCATION;VALUE=URI;X-ADDRESS=Alki Masonic Center – Lodge Room 4736 40th Ave. SW Seattle WA 98116 United States;X-APPLE-RADIUS=500;X-TITLE=4736 40th Ave. SW:geo:-122.3825589,47.5600056
END:VEVENT
BEGIN:VEVENT
DTSTART;VALUE=DATE:20190310
DTEND;VALUE=DATE:20190312
DTSTAMP:20260423T161256
CREATED:20190125T041736Z
LAST-MODIFIED:20190125T041736Z
UID:8517-1552183200-1552269599@alki152.org
SUMMARY:Rainbow GOR
DESCRIPTION:
URL:https://alki152.org/event/rainbow-gor-3/
LOCATION:Alki Masonic Center\, 4736 40th Ave. SW\, Seattle\, WA\, 98116\, United States
CATEGORIES:Masonic Family,Rainbow
GEO:47.5600056;-122.3825589
X-APPLE-STRUCTURED-LOCATION;VALUE=URI;X-ADDRESS=Alki Masonic Center 4736 40th Ave. SW Seattle WA 98116 United States;X-APPLE-RADIUS=500;X-TITLE=4736 40th Ave. SW:geo:-122.3825589,47.5600056
END:VEVENT
BEGIN:VEVENT
DTSTART;TZID=America/Los_Angeles:20190504T080000
DTEND;TZID=America/Los_Angeles:20190504T120000
DTSTAMP:20260423T161256
CREATED:20190226T020104Z
LAST-MODIFIED:20190226T020104Z
UID:8619-1556956800-1556971200@alki152.org
SUMMARY:Rainbow Ritual Competition
DESCRIPTION:
URL:https://alki152.org/event/rainbow-ritual-competition/
LOCATION:Alki Masonic Center\, 4736 40th Ave. SW\, Seattle\, WA\, 98116\, United States
GEO:47.5600056;-122.3825589
X-APPLE-STRUCTURED-LOCATION;VALUE=URI;X-ADDRESS=Alki Masonic Center 4736 40th Ave. SW Seattle WA 98116 United States;X-APPLE-RADIUS=500;X-TITLE=4736 40th Ave. SW:geo:-122.3825589,47.5600056
END:VEVENT
BEGIN:VEVENT
DTSTART;TZID=America/Los_Angeles:20190525T170000
DTEND;TZID=America/Los_Angeles:20190525T210000
DTSTAMP:20260423T161256
CREATED:20190226T020345Z
LAST-MODIFIED:20190226T020345Z
UID:8621-1558803600-1558818000@alki152.org
SUMMARY:South King County Rainbow Quiz Night
DESCRIPTION:
URL:https://alki152.org/event/south-king-county-rainbow-quiz-night/
LOCATION:Alki Masonic Center\, 4736 40th Ave. SW\, Seattle\, WA\, 98116\, United States
GEO:47.5600056;-122.3825589
X-APPLE-STRUCTURED-LOCATION;VALUE=URI;X-ADDRESS=Alki Masonic Center 4736 40th Ave. SW Seattle WA 98116 United States;X-APPLE-RADIUS=500;X-TITLE=4736 40th Ave. SW:geo:-122.3825589,47.5600056
END:VEVENT
BEGIN:VEVENT
DTSTART;TZID=America/Los_Angeles:20190627T190000
DTEND;TZID=America/Los_Angeles:20190627T210000
DTSTAMP:20260423T161256
CREATED:20120927T233629Z
LAST-MODIFIED:20180526T055617Z
UID:7681-1561662000-1561669200@alki152.org
SUMMARY:Rainbow Girls
DESCRIPTION:
URL:https://alki152.org/event/rainbow-girls-18-2015-04-10-2015-08-14-2016-09-22-2016-12-22-2017-12-28-2019-06-27/2019-06-27/
LOCATION:Alki Masonic Center – Lodge Room\, 4736 40th Ave. SW\, Seattle\, WA\, 98116\, United States
CATEGORIES:Masonic Family,Rainbow
GEO:47.5600056;-122.3825589
X-APPLE-STRUCTURED-LOCATION;VALUE=URI;X-ADDRESS=Alki Masonic Center – Lodge Room 4736 40th Ave. SW Seattle WA 98116 United States;X-APPLE-RADIUS=500;X-TITLE=4736 40th Ave. SW:geo:-122.3825589,47.5600056
END:VEVENT
BEGIN:VEVENT
DTSTART;VALUE=DATE:20190727
DTEND;VALUE=DATE:20190729
DTSTAMP:20260423T161256
CREATED:20190319T032451Z
LAST-MODIFIED:20190319T032646Z
UID:8647-1564192800-1564279199@alki152.org
SUMMARY:West Seattle Rainbow Installation
DESCRIPTION:
URL:https://alki152.org/event/west-seattle-rainbow-installation-2/
LOCATION:Alki Masonic Center\, 4736 40th Ave. SW\, Seattle\, WA\, 98116\, United States
CATEGORIES:Masonic Family,Rainbow
GEO:47.5600056;-122.3825589
X-APPLE-STRUCTURED-LOCATION;VALUE=URI;X-ADDRESS=Alki Masonic Center 4736 40th Ave. SW Seattle WA 98116 United States;X-APPLE-RADIUS=500;X-TITLE=4736 40th Ave. SW:geo:-122.3825589,47.5600056
END:VEVENT
BEGIN:VEVENT
DTSTART;VALUE=DATE:20191005
DTEND;VALUE=DATE:20191007
DTSTAMP:20260423T161256
CREATED:20190701T172305Z
LAST-MODIFIED:20190701T172305Z
UID:9086-1570240800-1570327199@alki152.org
SUMMARY:West Seattle Rainbow Girls
DESCRIPTION:
URL:https://alki152.org/event/west-seattle-rainbow-girls/
LOCATION:Alki Masonic Center\, 4736 40th Ave. SW\, Seattle\, WA\, 98116\, United States
CATEGORIES:Masonic Family
GEO:47.5600056;-122.3825589
X-APPLE-STRUCTURED-LOCATION;VALUE=URI;X-ADDRESS=Alki Masonic Center 4736 40th Ave. SW Seattle WA 98116 United States;X-APPLE-RADIUS=500;X-TITLE=4736 40th Ave. SW:geo:-122.3825589,47.5600056
END:VEVENT
BEGIN:VEVENT
DTSTART;TZID=America/Los_Angeles:20191019T080000
DTEND;TZID=America/Los_Angeles:20191019T170000
DTSTAMP:20260423T161256
CREATED:20190904T230158Z
LAST-MODIFIED:20190904T230226Z
UID:9161-1571472000-1571504400@alki152.org
SUMMARY:Rainbow Official Visit
DESCRIPTION:
URL:https://alki152.org/event/rainbow-official-visit/
LOCATION:Alki Masonic Center\, 4736 40th Ave. SW\, Seattle\, WA\, 98116\, United States
CATEGORIES:Masonic Family
GEO:47.5600056;-122.3825589
X-APPLE-STRUCTURED-LOCATION;VALUE=URI;X-ADDRESS=Alki Masonic Center 4736 40th Ave. SW Seattle WA 98116 United States;X-APPLE-RADIUS=500;X-TITLE=4736 40th Ave. SW:geo:-122.3825589,47.5600056
END:VEVENT
BEGIN:VEVENT
DTSTART;TZID=America/Los_Angeles:20191027T150000
DTEND;TZID=America/Los_Angeles:20191027T220000
DTSTAMP:20260423T161256
CREATED:20190701T172508Z
LAST-MODIFIED:20190701T172508Z
UID:9090-1572188400-1572213600@alki152.org
SUMMARY:West Seattle Rainbow Girls
DESCRIPTION:
URL:https://alki152.org/event/west-seattle-rainbow-girls-2/
LOCATION:Alki Masonic Center\, 4736 40th Ave. SW\, Seattle\, WA\, 98116\, United States
CATEGORIES:Masonic Family
GEO:47.5600056;-122.3825589
X-APPLE-STRUCTURED-LOCATION;VALUE=URI;X-ADDRESS=Alki Masonic Center 4736 40th Ave. SW Seattle WA 98116 United States;X-APPLE-RADIUS=500;X-TITLE=4736 40th Ave. SW:geo:-122.3825589,47.5600056
END:VEVENT
BEGIN:VEVENT
DTSTART;TZID=America/Los_Angeles:20191122T180000
DTEND;TZID=America/Los_Angeles:20191122T210000
DTSTAMP:20260423T161256
CREATED:20191118T195050Z
LAST-MODIFIED:20191118T195324Z
UID:9196-1574445600-1574456400@alki152.org
SUMMARY:Board Meeting: Seattle Rainbow Assembly
DESCRIPTION:
URL:https://alki152.org/event/private-party-seattle-performing-arts-3/
CATEGORIES:Masonic Family
END:VEVENT
BEGIN:VEVENT
DTSTART;TZID=America/Los_Angeles:20210128T170000
DTEND;TZID=America/Los_Angeles:20210128T220000
DTSTAMP:20260423T161256
CREATED:20201207T174504Z
LAST-MODIFIED:20230123T210403Z
UID:9875-1611853200-1611871200@alki152.org
SUMMARY:Rainbow Girls
DESCRIPTION:
URL:https://alki152.org/event/rainbow-girls-29/
CATEGORIES:Masonic Family
END:VEVENT
BEGIN:VEVENT
DTSTART;TZID=America/Los_Angeles:20210130T100000
DTEND;TZID=America/Los_Angeles:20210130T220000
DTSTAMP:20260423T161256
CREATED:20201207T175407Z
LAST-MODIFIED:20201207T175407Z
UID:10048-1612000800-1612044000@alki152.org
SUMMARY:West Seattle Rainbow Girls Installation
DESCRIPTION:Mary Beasley is the contact person.
URL:https://alki152.org/event/west-seattle-rainbow-girls-installation/
CATEGORIES:Masonic Family
END:VEVENT
BEGIN:VEVENT
DTSTART;TZID=America/Los_Angeles:20211010T120000
DTEND;TZID=America/Los_Angeles:20211010T180000
DTSTAMP:20260423T161256
CREATED:20210921T011658Z
LAST-MODIFIED:20210921T011658Z
UID:10323-1633867200-1633888800@alki152.org
SUMMARY:West Seattle Rainbow Painting Party
DESCRIPTION:Contact Jenny Harsin-Reed
URL:https://alki152.org/event/west-seattle-rainbow-painting-party/
CATEGORIES:Rainbow
END:VEVENT
BEGIN:VEVENT
DTSTART;TZID=America/Los_Angeles:20211227T180000
DTEND;TZID=America/Los_Angeles:20211227T220000
DTSTAMP:20260423T161256
CREATED:20211115T192539Z
LAST-MODIFIED:20211115T192600Z
UID:10466-1640628000-1640642400@alki152.org
SUMMARY:Rainbow Girls
DESCRIPTION:Contact: Jenny Harsin
URL:https://alki152.org/event/rainbow-girls-31/
CATEGORIES:Masonic Family,Rainbow
END:VEVENT
BEGIN:VEVENT
DTSTART;VALUE=DATE:20220129
DTEND;VALUE=DATE:20220130
DTSTAMP:20260423T161256
CREATED:20211115T193508Z
LAST-MODIFIED:20211115T193508Z
UID:10480-1643414400-1643500799@alki152.org
SUMMARY:West Seattle Rainbow Installation
DESCRIPTION:Contact: Jenny Harsin
URL:https://alki152.org/event/west-seattle-rainbow-installation-3/
CATEGORIES:Masonic Family,Rainbow
END:VEVENT
BEGIN:VEVENT
DTSTART;TZID=America/Los_Angeles:20220226T080000
DTEND;TZID=America/Los_Angeles:20220227T100000
DTSTAMP:20260423T161256
CREATED:20211115T193806Z
LAST-MODIFIED:20211115T193806Z
UID:10484-1645862400-1645956000@alki152.org
SUMMARY:South King County Rainbow GOR
DESCRIPTION:Contact: Stacy Christie
URL:https://alki152.org/event/south-king-county-rainbow-gor/
CATEGORIES:Masonic Family,Rainbow
END:VEVENT
BEGIN:VEVENT
DTSTART;TZID=America/Los_Angeles:20220522T100000
DTEND;TZID=America/Los_Angeles:20220522T160000
DTSTAMP:20260423T161256
CREATED:20220307T232202Z
LAST-MODIFIED:20220307T232202Z
UID:10592-1653213600-1653235200@alki152.org
SUMMARY:West Seattle Rainbow Chili Competition
DESCRIPTION:
URL:https://alki152.org/event/west-seattle-rainbow-chili-competition/
CATEGORIES:Rainbow
END:VEVENT
BEGIN:VEVENT
DTSTART;TZID=America/Los_Angeles:20230114T150000
DTEND;TZID=America/Los_Angeles:20230114T220000
DTSTAMP:20260423T161256
CREATED:20230123T220355Z
LAST-MODIFIED:20230123T220355Z
UID:11303-1673708400-1673733600@alki152.org
SUMMARY:Rainbow Foundation Comedy Show
DESCRIPTION:Contact: Tom Christie
URL:https://alki152.org/event/rainbow-foundation-comedy-show/
CATEGORIES:Masonic Family
END:VEVENT
END:VCALENDAR