BEGIN:VCALENDAR
VERSION:2.0
PRODID:-//Alki Masonic Lodge #152 - ECPv6.15.20//NONSGML v1.0//EN
CALSCALE:GREGORIAN
METHOD:PUBLISH
X-WR-CALNAME:Alki Masonic Lodge #152
X-ORIGINAL-URL:https://alki152.org
X-WR-CALDESC:Events for Alki Masonic Lodge #152
REFRESH-INTERVAL;VALUE=DURATION:PT1H
X-Robots-Tag:noindex
X-PUBLISHED-TTL:PT1H
BEGIN:VTIMEZONE
TZID:America/Los_Angeles
BEGIN:DAYLIGHT
TZOFFSETFROM:-0800
TZOFFSETTO:-0700
TZNAME:PDT
DTSTART:20240310T100000
END:DAYLIGHT
BEGIN:STANDARD
TZOFFSETFROM:-0700
TZOFFSETTO:-0800
TZNAME:PST
DTSTART:20241103T090000
END:STANDARD
BEGIN:DAYLIGHT
TZOFFSETFROM:-0800
TZOFFSETTO:-0700
TZNAME:PDT
DTSTART:20250309T100000
END:DAYLIGHT
BEGIN:STANDARD
TZOFFSETFROM:-0700
TZOFFSETTO:-0800
TZNAME:PST
DTSTART:20251102T090000
END:STANDARD
BEGIN:DAYLIGHT
TZOFFSETFROM:-0800
TZOFFSETTO:-0700
TZNAME:PDT
DTSTART:20260308T100000
END:DAYLIGHT
BEGIN:STANDARD
TZOFFSETFROM:-0700
TZOFFSETTO:-0800
TZNAME:PST
DTSTART:20261101T090000
END:STANDARD
BEGIN:DAYLIGHT
TZOFFSETFROM:-0800
TZOFFSETTO:-0700
TZNAME:PDT
DTSTART:20270314T100000
END:DAYLIGHT
BEGIN:STANDARD
TZOFFSETFROM:-0700
TZOFFSETTO:-0800
TZNAME:PST
DTSTART:20271107T090000
END:STANDARD
END:VTIMEZONE
BEGIN:VEVENT
DTSTART;TZID=America/Los_Angeles:20250225T160000
DTEND;TZID=America/Los_Angeles:20250225T200000
DTSTAMP:20260423T161255
CREATED:20240417T153708Z
LAST-MODIFIED:20240417T153708Z
UID:12643-1740499200-1740513600@alki152.org
SUMMARY:Amethyst Chapter Eastern Star Meeting
DESCRIPTION:
URL:https://alki152.org/event/amethyst-chapter-eastern-star-meeting/2025-02-25/
CATEGORIES:Masonic Family
END:VEVENT
BEGIN:VEVENT
DTSTART;TZID=America/Los_Angeles:20250228T180000
DTEND;TZID=America/Los_Angeles:20250228T220000
DTSTAMP:20260423T161255
CREATED:20250210T170016Z
LAST-MODIFIED:20250210T170016Z
UID:12622-1740765600-1740780000@alki152.org
SUMMARY:Amethyst Chapter Quiz Night
DESCRIPTION:Benefiting Shriner’s Hospital for Children and Brigadoon Services Dogs. \nTickets are $15. \nBaked Potato Bar dinner beginning at 6 :00 p.m. Quiz begins at 7:00 p.m. \nTeams of 8 or less. \nContact Martin for tickets and questions.
URL:https://alki152.org/event/amethyst-chapter-quiz-night/
CATEGORIES:Amethyst,Masonic Family
END:VEVENT
BEGIN:VEVENT
DTSTART;TZID=America/Los_Angeles:20250325T160000
DTEND;TZID=America/Los_Angeles:20250325T200000
DTSTAMP:20260423T161255
CREATED:20240417T153708Z
LAST-MODIFIED:20240417T153708Z
UID:12644-1742918400-1742932800@alki152.org
SUMMARY:Amethyst Chapter Eastern Star Meeting
DESCRIPTION:
URL:https://alki152.org/event/amethyst-chapter-eastern-star-meeting/2025-03-25/
CATEGORIES:Masonic Family
END:VEVENT
BEGIN:VEVENT
DTSTART;VALUE=DATE:20250405
DTEND;VALUE=DATE:20250406
DTSTAMP:20260423T161255
CREATED:20240414T015114Z
LAST-MODIFIED:20240414T015114Z
UID:11929-1743811200-1743897599@alki152.org
SUMMARY:Eastern Star Amethyst Installation
DESCRIPTION:
URL:https://alki152.org/event/eastern-star-amethyst-installation-2/
CATEGORIES:Masonic Family
END:VEVENT
BEGIN:VEVENT
DTSTART;TZID=America/Los_Angeles:20250422T160000
DTEND;TZID=America/Los_Angeles:20250422T200000
DTSTAMP:20260423T161255
CREATED:20240417T153708Z
LAST-MODIFIED:20240417T153708Z
UID:12645-1745337600-1745352000@alki152.org
SUMMARY:Amethyst Chapter Eastern Star Meeting
DESCRIPTION:
URL:https://alki152.org/event/amethyst-chapter-eastern-star-meeting/2025-04-22/
CATEGORIES:Masonic Family
END:VEVENT
BEGIN:VEVENT
DTSTART;TZID=America/Los_Angeles:20250527T160000
DTEND;TZID=America/Los_Angeles:20250527T200000
DTSTAMP:20260423T161255
CREATED:20240417T153708Z
LAST-MODIFIED:20240417T153708Z
UID:12646-1748361600-1748376000@alki152.org
SUMMARY:Amethyst Chapter Eastern Star Meeting
DESCRIPTION:
URL:https://alki152.org/event/amethyst-chapter-eastern-star-meeting/2025-05-27/
CATEGORIES:Masonic Family
END:VEVENT
BEGIN:VEVENT
DTSTART;TZID=America/Los_Angeles:20250826T160000
DTEND;TZID=America/Los_Angeles:20250826T200000
DTSTAMP:20260423T161255
CREATED:20240417T153708Z
LAST-MODIFIED:20240417T153708Z
UID:12649-1756224000-1756238400@alki152.org
SUMMARY:Amethyst Chapter Eastern Star Meeting
DESCRIPTION:
URL:https://alki152.org/event/amethyst-chapter-eastern-star-meeting/2025-08-26/
CATEGORIES:Masonic Family
END:VEVENT
BEGIN:VEVENT
DTSTART;TZID=America/Los_Angeles:20250923T160000
DTEND;TZID=America/Los_Angeles:20250923T200000
DTSTAMP:20260423T161255
CREATED:20240417T153708Z
LAST-MODIFIED:20240417T153708Z
UID:12650-1758643200-1758657600@alki152.org
SUMMARY:Amethyst Chapter Eastern Star Meeting
DESCRIPTION:
URL:https://alki152.org/event/amethyst-chapter-eastern-star-meeting/2025-09-23/
CATEGORIES:Masonic Family
END:VEVENT
BEGIN:VEVENT
DTSTART;TZID=America/Los_Angeles:20251026T120000
DTEND;TZID=America/Los_Angeles:20251026T180000
DTSTAMP:20260423T161255
CREATED:20250816T143601Z
LAST-MODIFIED:20250816T143601Z
UID:13057-1761480000-1761501600@alki152.org
SUMMARY:Amethyst Fall Tea
DESCRIPTION:
URL:https://alki152.org/event/amethyst-fall-tea/
CATEGORIES:Amethyst,Masonic Family
END:VEVENT
BEGIN:VEVENT
DTSTART;TZID=America/Los_Angeles:20251028T160000
DTEND;TZID=America/Los_Angeles:20251028T200000
DTSTAMP:20260423T161255
CREATED:20240417T153708Z
LAST-MODIFIED:20240417T153708Z
UID:12651-1761667200-1761681600@alki152.org
SUMMARY:Amethyst Chapter Eastern Star Meeting
DESCRIPTION:
URL:https://alki152.org/event/amethyst-chapter-eastern-star-meeting/2025-10-28/
CATEGORIES:Masonic Family
END:VEVENT
BEGIN:VEVENT
DTSTART;TZID=America/Los_Angeles:20251125T160000
DTEND;TZID=America/Los_Angeles:20251125T200000
DTSTAMP:20260423T161255
CREATED:20240417T153708Z
LAST-MODIFIED:20240417T153708Z
UID:12652-1764086400-1764100800@alki152.org
SUMMARY:Amethyst Chapter Eastern Star Meeting
DESCRIPTION:
URL:https://alki152.org/event/amethyst-chapter-eastern-star-meeting/2025-11-25/
CATEGORIES:Masonic Family
END:VEVENT
BEGIN:VEVENT
DTSTART;TZID=America/Los_Angeles:20251223T160000
DTEND;TZID=America/Los_Angeles:20251223T200000
DTSTAMP:20260423T161255
CREATED:20240417T153708Z
LAST-MODIFIED:20240417T153708Z
UID:12653-1766505600-1766520000@alki152.org
SUMMARY:Amethyst Chapter Eastern Star Meeting
DESCRIPTION:
URL:https://alki152.org/event/amethyst-chapter-eastern-star-meeting/2025-12-23/
CATEGORIES:Masonic Family
END:VEVENT
BEGIN:VEVENT
DTSTART;TZID=America/Los_Angeles:20251227T100000
DTEND;TZID=America/Los_Angeles:20251227T160000
DTSTAMP:20260423T161255
CREATED:20250507T182942Z
LAST-MODIFIED:20250507T182942Z
UID:12861-1766829600-1766851200@alki152.org
SUMMARY:Amethyst Chapter Meeting
DESCRIPTION:
URL:https://alki152.org/event/amethyst-chapter-meeting/
CATEGORIES:Amethyst,Masonic Family
END:VEVENT
BEGIN:VEVENT
DTSTART;TZID=America/Los_Angeles:20260127T160000
DTEND;TZID=America/Los_Angeles:20260127T200000
DTSTAMP:20260423T161255
CREATED:20240417T153708Z
LAST-MODIFIED:20240417T153708Z
UID:12654-1769529600-1769544000@alki152.org
SUMMARY:Amethyst Chapter Eastern Star Meeting
DESCRIPTION:
URL:https://alki152.org/event/amethyst-chapter-eastern-star-meeting/2026-01-27/
CATEGORIES:Masonic Family
END:VEVENT
BEGIN:VEVENT
DTSTART;TZID=America/Los_Angeles:20260224T160000
DTEND;TZID=America/Los_Angeles:20260224T200000
DTSTAMP:20260423T161255
CREATED:20240417T153708Z
LAST-MODIFIED:20240417T153708Z
UID:12655-1771948800-1771963200@alki152.org
SUMMARY:Amethyst Chapter Eastern Star Meeting
DESCRIPTION:
URL:https://alki152.org/event/amethyst-chapter-eastern-star-meeting/2026-02-24/
CATEGORIES:Masonic Family
END:VEVENT
BEGIN:VEVENT
DTSTART;TZID=America/Los_Angeles:20260324T160000
DTEND;TZID=America/Los_Angeles:20260324T200000
DTSTAMP:20260423T161255
CREATED:20240417T153708Z
LAST-MODIFIED:20240417T153708Z
UID:12656-1774368000-1774382400@alki152.org
SUMMARY:Amethyst Chapter Eastern Star Meeting
DESCRIPTION:
URL:https://alki152.org/event/amethyst-chapter-eastern-star-meeting/2026-03-24/
CATEGORIES:Masonic Family
END:VEVENT
BEGIN:VEVENT
DTSTART;TZID=America/Los_Angeles:20260411T100000
DTEND;TZID=America/Los_Angeles:20260411T180000
DTSTAMP:20260423T161255
CREATED:20260105T141943Z
LAST-MODIFIED:20260105T141943Z
UID:13432-1775901600-1775930400@alki152.org
SUMMARY:Amethyst Chapter Eastern Star Installation
DESCRIPTION:
URL:https://alki152.org/event/amethyst-chapter-eastern-star-installation/
CATEGORIES:Amethyst,Masonic Family
END:VEVENT
END:VCALENDAR