BEGIN:VCALENDAR
VERSION:2.0
PRODID:-//Alki Masonic Lodge #152 - ECPv6.15.20//NONSGML v1.0//EN
CALSCALE:GREGORIAN
METHOD:PUBLISH
X-WR-CALNAME:Alki Masonic Lodge #152
X-ORIGINAL-URL:https://alki152.org
X-WR-CALDESC:Events for Alki Masonic Lodge #152
REFRESH-INTERVAL;VALUE=DURATION:PT1H
X-Robots-Tag:noindex
X-PUBLISHED-TTL:PT1H
BEGIN:VTIMEZONE
TZID:America/Los_Angeles
BEGIN:DAYLIGHT
TZOFFSETFROM:-0800
TZOFFSETTO:-0700
TZNAME:PDT
DTSTART:20110313T100000
END:DAYLIGHT
BEGIN:STANDARD
TZOFFSETFROM:-0700
TZOFFSETTO:-0800
TZNAME:PST
DTSTART:20111106T090000
END:STANDARD
BEGIN:DAYLIGHT
TZOFFSETFROM:-0800
TZOFFSETTO:-0700
TZNAME:PDT
DTSTART:20120311T100000
END:DAYLIGHT
BEGIN:STANDARD
TZOFFSETFROM:-0700
TZOFFSETTO:-0800
TZNAME:PST
DTSTART:20121104T090000
END:STANDARD
BEGIN:DAYLIGHT
TZOFFSETFROM:-0800
TZOFFSETTO:-0700
TZNAME:PDT
DTSTART:20130310T100000
END:DAYLIGHT
BEGIN:STANDARD
TZOFFSETFROM:-0700
TZOFFSETTO:-0800
TZNAME:PST
DTSTART:20131103T090000
END:STANDARD
END:VTIMEZONE
BEGIN:VEVENT
DTSTART;TZID=America/Los_Angeles:20120703T130000
DTEND;TZID=America/Los_Angeles:20120703T230000
DTSTAMP:20260423T161352
CREATED:20130513T180222Z
LAST-MODIFIED:20130513T181836Z
UID:1211-1341320400-1341356400@alki152.org
SUMMARY:Private Event
DESCRIPTION:Content is protected.
URL:https://alki152.org/event/private-event-25/
LOCATION:Alki Masonic Center\, 4736 40th Ave. SW\, Seattle\, WA\, 98116\, United States
CATEGORIES:Private Event
GEO:47.5600056;-122.3825589
X-APPLE-STRUCTURED-LOCATION;VALUE=URI;X-ADDRESS=Alki Masonic Center 4736 40th Ave. SW Seattle WA 98116 United States;X-APPLE-RADIUS=500;X-TITLE=4736 40th Ave. SW:geo:-122.3825589,47.5600056
END:VEVENT
BEGIN:VEVENT
DTSTART;TZID=America/Los_Angeles:20120706T090000
DTEND;TZID=America/Los_Angeles:20120706T110000
DTSTAMP:20260423T161352
CREATED:20130513T182502Z
LAST-MODIFIED:20130513T182520Z
UID:1212-1341565200-1341572400@alki152.org
SUMMARY:Private Event
DESCRIPTION:Content is protected.
URL:https://alki152.org/event/private-event-26/
LOCATION:Alki Masonic Center\, 4736 40th Ave. SW\, Seattle\, WA\, 98116\, United States
CATEGORIES:Private Event
GEO:47.5600056;-122.3825589
X-APPLE-STRUCTURED-LOCATION;VALUE=URI;X-ADDRESS=Alki Masonic Center 4736 40th Ave. SW Seattle WA 98116 United States;X-APPLE-RADIUS=500;X-TITLE=4736 40th Ave. SW:geo:-122.3825589,47.5600056
END:VEVENT
BEGIN:VEVENT
DTSTART;TZID=America/Los_Angeles:20120714T180000
DTEND;TZID=America/Los_Angeles:20120714T180000
DTSTAMP:20260423T161352
CREATED:20130513T182701Z
LAST-MODIFIED:20130513T182701Z
UID:1213-1342288800-1342288800@alki152.org
SUMMARY:Private Event
DESCRIPTION:Content is protected.
URL:https://alki152.org/event/private-event-27/
LOCATION:Alki Masonic Center\, 4736 40th Ave. SW\, Seattle\, WA\, 98116\, United States
CATEGORIES:Private Event
GEO:47.5600056;-122.3825589
X-APPLE-STRUCTURED-LOCATION;VALUE=URI;X-ADDRESS=Alki Masonic Center 4736 40th Ave. SW Seattle WA 98116 United States;X-APPLE-RADIUS=500;X-TITLE=4736 40th Ave. SW:geo:-122.3825589,47.5600056
END:VEVENT
BEGIN:VEVENT
DTSTART;TZID=America/Los_Angeles:20120721T150000
DTEND;TZID=America/Los_Angeles:20120721T150000
DTSTAMP:20260423T161352
CREATED:20130513T182934Z
LAST-MODIFIED:20130513T182934Z
UID:1214-1342882800-1342882800@alki152.org
SUMMARY:Private Rental - Old Rides
DESCRIPTION:
URL:https://alki152.org/event/private-rental-old-rides-8/
LOCATION:Alki Masonic Center\, 4736 40th Ave. SW\, Seattle\, WA\, 98116\, United States
CATEGORIES:Private Event
GEO:47.5600056;-122.3825589
X-APPLE-STRUCTURED-LOCATION;VALUE=URI;X-ADDRESS=Alki Masonic Center 4736 40th Ave. SW Seattle WA 98116 United States;X-APPLE-RADIUS=500;X-TITLE=4736 40th Ave. SW:geo:-122.3825589,47.5600056
END:VEVENT
BEGIN:VEVENT
DTSTART;TZID=America/Los_Angeles:20120722T080000
DTEND;TZID=America/Los_Angeles:20120722T120000
DTSTAMP:20260423T161352
CREATED:20130513T183052Z
LAST-MODIFIED:20130513T183052Z
UID:1215-1342944000-1342958400@alki152.org
SUMMARY:Hi Yu Brunch
DESCRIPTION:
URL:https://alki152.org/event/hi-yu-brunch/
LOCATION:Alki Masonic Center\, 4736 40th Ave. SW\, Seattle\, WA\, 98116\, United States
CATEGORIES:Alki Lodge,Masonic Family,Public Event
ORGANIZER;CN="Dick Syson%2C Secretary":MAILTO:nosys@comcast.net
GEO:47.5600056;-122.3825589
X-APPLE-STRUCTURED-LOCATION;VALUE=URI;X-ADDRESS=Alki Masonic Center 4736 40th Ave. SW Seattle WA 98116 United States;X-APPLE-RADIUS=500;X-TITLE=4736 40th Ave. SW:geo:-122.3825589,47.5600056
END:VEVENT
BEGIN:VEVENT
DTSTART;TZID=America/Los_Angeles:20120727T030000
DTEND;TZID=America/Los_Angeles:20120727T120000
DTSTAMP:20260423T161352
CREATED:20130513T183232Z
LAST-MODIFIED:20130513T183232Z
UID:1216-1343358000-1343390400@alki152.org
SUMMARY:Public Event - Fundraiser
DESCRIPTION:Tony Todd Grandparent Fundraiser – Irish Dancers
URL:https://alki152.org/event/public-event-fundraiser/
LOCATION:Alki Masonic Center\, 4736 40th Ave. SW\, Seattle\, WA\, 98116\, United States
CATEGORIES:Public Event
GEO:47.5600056;-122.3825589
X-APPLE-STRUCTURED-LOCATION;VALUE=URI;X-ADDRESS=Alki Masonic Center 4736 40th Ave. SW Seattle WA 98116 United States;X-APPLE-RADIUS=500;X-TITLE=4736 40th Ave. SW:geo:-122.3825589,47.5600056
END:VEVENT
BEGIN:VEVENT
DTSTART;TZID=America/Los_Angeles:20120728T120000
DTEND;TZID=America/Los_Angeles:20120728T220000
DTSTAMP:20260423T161352
CREATED:20130513T183403Z
LAST-MODIFIED:20130513T183403Z
UID:1217-1343476800-1343512800@alki152.org
SUMMARY:Rainbow - Installation
DESCRIPTION:
URL:https://alki152.org/event/rainbow-installation-2/
LOCATION:Alki Masonic Center\, 4736 40th Ave. SW\, Seattle\, WA\, 98116\, United States
CATEGORIES:Masonic Family,Public Event,Rainbow
GEO:47.5600056;-122.3825589
X-APPLE-STRUCTURED-LOCATION;VALUE=URI;X-ADDRESS=Alki Masonic Center 4736 40th Ave. SW Seattle WA 98116 United States;X-APPLE-RADIUS=500;X-TITLE=4736 40th Ave. SW:geo:-122.3825589,47.5600056
END:VEVENT
BEGIN:VEVENT
DTSTART;TZID=America/Los_Angeles:20120804T120000
DTEND;TZID=America/Los_Angeles:20120804T220000
DTSTAMP:20260423T161352
CREATED:20130513T184116Z
LAST-MODIFIED:20130513T184116Z
UID:1218-1344081600-1344117600@alki152.org
SUMMARY:Lodge Alba #315
DESCRIPTION:
URL:https://alki152.org/event/lodge-alba-315-5/
LOCATION:Alki Masonic Center\, 4736 40th Ave. SW\, Seattle\, WA\, 98116\, United States
CATEGORIES:Lodge Alba,Masonic Family
GEO:47.5600056;-122.3825589
X-APPLE-STRUCTURED-LOCATION;VALUE=URI;X-ADDRESS=Alki Masonic Center 4736 40th Ave. SW Seattle WA 98116 United States;X-APPLE-RADIUS=500;X-TITLE=4736 40th Ave. SW:geo:-122.3825589,47.5600056
END:VEVENT
BEGIN:VEVENT
DTSTART;TZID=America/Los_Angeles:20120811T110000
DTEND;TZID=America/Los_Angeles:20120811T220000
DTSTAMP:20260423T161352
CREATED:20130513T184313Z
LAST-MODIFIED:20130513T184313Z
UID:1219-1344682800-1344722400@alki152.org
SUMMARY:O.E.S. Grand Reception
DESCRIPTION:Gerry Mosler – Grand Matron
URL:https://alki152.org/event/o-e-s-grand-reception/
LOCATION:Alki Masonic Center\, 4736 40th Ave. SW\, Seattle\, WA\, 98116\, United States
CATEGORIES:Masonic Family,Public Event
GEO:47.5600056;-122.3825589
X-APPLE-STRUCTURED-LOCATION;VALUE=URI;X-ADDRESS=Alki Masonic Center 4736 40th Ave. SW Seattle WA 98116 United States;X-APPLE-RADIUS=500;X-TITLE=4736 40th Ave. SW:geo:-122.3825589,47.5600056
END:VEVENT
BEGIN:VEVENT
DTSTART;TZID=America/Los_Angeles:20120825T150000
DTEND;TZID=America/Los_Angeles:20120825T150000
DTSTAMP:20260423T161352
CREATED:20130513T184811Z
LAST-MODIFIED:20130513T184811Z
UID:1221-1345906800-1345906800@alki152.org
SUMMARY:Private Event
DESCRIPTION:Content is protected.
URL:https://alki152.org/event/private-event-28/
LOCATION:Alki Masonic Center\, 4736 40th Ave. SW\, Seattle\, WA\, 98116\, United States
CATEGORIES:Private Event
GEO:47.5600056;-122.3825589
X-APPLE-STRUCTURED-LOCATION;VALUE=URI;X-ADDRESS=Alki Masonic Center 4736 40th Ave. SW Seattle WA 98116 United States;X-APPLE-RADIUS=500;X-TITLE=4736 40th Ave. SW:geo:-122.3825589,47.5600056
END:VEVENT
BEGIN:VEVENT
DTSTART;TZID=America/Los_Angeles:20120828T180000
DTEND;TZID=America/Los_Angeles:20120828T220000
DTSTAMP:20260423T161352
CREATED:20121109T205424Z
LAST-MODIFIED:20121124T025826Z
UID:898-1346176800-1346191200@alki152.org
SUMMARY:Eastern Star - Amethyst Chapter
DESCRIPTION:
URL:https://alki152.org/event/eastern-star-amethyst-chapter-13/
LOCATION:Alki Masonic Center\, 4736 40th Ave. SW\, Seattle\, WA\, 98116\, United States
CATEGORIES:Amethyst,Masonic Family
GEO:47.5600056;-122.3825589
X-APPLE-STRUCTURED-LOCATION;VALUE=URI;X-ADDRESS=Alki Masonic Center 4736 40th Ave. SW Seattle WA 98116 United States;X-APPLE-RADIUS=500;X-TITLE=4736 40th Ave. SW:geo:-122.3825589,47.5600056
END:VEVENT
BEGIN:VEVENT
DTSTART;TZID=America/Los_Angeles:20120901T100000
DTEND;TZID=America/Los_Angeles:20120901T100000
DTSTAMP:20260423T161352
CREATED:20130513T192422Z
LAST-MODIFIED:20130513T192422Z
UID:1223-1346493600-1346493600@alki152.org
SUMMARY:Private Event - CANCELLED
DESCRIPTION:
URL:https://alki152.org/event/private-event-cancelled/
LOCATION:Alki Masonic Center\, 4736 40th Ave. SW\, Seattle\, WA\, 98116\, United States
CATEGORIES:Private Event
GEO:47.5600056;-122.3825589
X-APPLE-STRUCTURED-LOCATION;VALUE=URI;X-ADDRESS=Alki Masonic Center 4736 40th Ave. SW Seattle WA 98116 United States;X-APPLE-RADIUS=500;X-TITLE=4736 40th Ave. SW:geo:-122.3825589,47.5600056
END:VEVENT
BEGIN:VEVENT
DTSTART;TZID=America/Los_Angeles:20120902T150000
DTEND;TZID=America/Los_Angeles:20120902T220000
DTSTAMP:20260423T161352
CREATED:20120928T020814Z
LAST-MODIFIED:20120929T173413Z
UID:553-1346598000-1346623200@alki152.org
SUMMARY:Seattle Swing Dance Club
DESCRIPTION:
URL:https://alki152.org/event/seattle-swing-dance-club/
LOCATION:Alki Masonic Center\, 4736 40th Ave. SW\, Seattle\, WA\, 98116\, United States
CATEGORIES:Public Event
GEO:47.5600056;-122.3825589
X-APPLE-STRUCTURED-LOCATION;VALUE=URI;X-ADDRESS=Alki Masonic Center 4736 40th Ave. SW Seattle WA 98116 United States;X-APPLE-RADIUS=500;X-TITLE=4736 40th Ave. SW:geo:-122.3825589,47.5600056
END:VEVENT
BEGIN:VEVENT
DTSTART;TZID=America/Los_Angeles:20120903T120000
DTEND;TZID=America/Los_Angeles:20120903T150000
DTSTAMP:20260423T161352
CREATED:20120927T210222Z
LAST-MODIFIED:20121011T194530Z
UID:447-1346673600-1346684400@alki152.org
SUMMARY:Alki Masonic Center Flag Dedication
DESCRIPTION:
URL:https://alki152.org/event/alki-masonic-center-flag-dedication/
LOCATION:Alki Masonic Center\, 4736 40th Ave. SW\, Seattle\, WA\, 98116\, United States
CATEGORIES:Alki Lodge,Masonic Family
ORGANIZER;CN="Martin Monk":MAILTO:Martinmonk@yahoo.com
GEO:47.5600056;-122.3825589
X-APPLE-STRUCTURED-LOCATION;VALUE=URI;X-ADDRESS=Alki Masonic Center 4736 40th Ave. SW Seattle WA 98116 United States;X-APPLE-RADIUS=500;X-TITLE=4736 40th Ave. SW:geo:-122.3825589,47.5600056
END:VEVENT
BEGIN:VEVENT
DTSTART;TZID=America/Los_Angeles:20120905T180000
DTEND;TZID=America/Los_Angeles:20120905T200000
DTSTAMP:20260423T161352
CREATED:20120927T195224Z
LAST-MODIFIED:20121124T043040Z
UID:432-1346868000-1346875200@alki152.org
SUMMARY:Job's Daughters - Bethel #40
DESCRIPTION:
URL:https://alki152.org/event/jobs-daughters-bethel-40/
LOCATION:Alki Masonic Center – Lodge Room\, 4736 40th Ave. SW\, Seattle\, WA\, 98116\, United States
CATEGORIES:Bethel,Masonic Family
GEO:47.5600056;-122.3825589
X-APPLE-STRUCTURED-LOCATION;VALUE=URI;X-ADDRESS=Alki Masonic Center – Lodge Room 4736 40th Ave. SW Seattle WA 98116 United States;X-APPLE-RADIUS=500;X-TITLE=4736 40th Ave. SW:geo:-122.3825589,47.5600056
END:VEVENT
BEGIN:VEVENT
DTSTART;TZID=America/Los_Angeles:20120908T100000
DTEND;TZID=America/Los_Angeles:20120908T100000
DTSTAMP:20260423T161352
CREATED:20130513T192525Z
LAST-MODIFIED:20130513T192525Z
UID:1224-1347098400-1347098400@alki152.org
SUMMARY:Private Event - CANCELLED
DESCRIPTION:
URL:https://alki152.org/event/private-event-cancelled-2/
LOCATION:Alki Masonic Center\, 4736 40th Ave. SW\, Seattle\, WA\, 98116\, United States
CATEGORIES:Private Event
GEO:47.5600056;-122.3825589
X-APPLE-STRUCTURED-LOCATION;VALUE=URI;X-ADDRESS=Alki Masonic Center 4736 40th Ave. SW Seattle WA 98116 United States;X-APPLE-RADIUS=500;X-TITLE=4736 40th Ave. SW:geo:-122.3825589,47.5600056
END:VEVENT
BEGIN:VEVENT
DTSTART;TZID=America/Los_Angeles:20120914T190000
DTEND;TZID=America/Los_Angeles:20120914T200000
DTSTAMP:20260423T161352
CREATED:20120927T231701Z
LAST-MODIFIED:20121124T041240Z
UID:499-1347649200-1347652800@alki152.org
SUMMARY:Rainbow Girls
DESCRIPTION:
URL:https://alki152.org/event/rainbow-girls/
LOCATION:Alki Masonic Center – Lodge Room\, 4736 40th Ave. SW\, Seattle\, WA\, 98116\, United States
CATEGORIES:Masonic Family,Rainbow
GEO:47.5600056;-122.3825589
X-APPLE-STRUCTURED-LOCATION;VALUE=URI;X-ADDRESS=Alki Masonic Center – Lodge Room 4736 40th Ave. SW Seattle WA 98116 United States;X-APPLE-RADIUS=500;X-TITLE=4736 40th Ave. SW:geo:-122.3825589,47.5600056
END:VEVENT
BEGIN:VEVENT
DTSTART;TZID=America/Los_Angeles:20120914T190000
DTEND;TZID=America/Los_Angeles:20120915T020000
DTSTAMP:20260423T161352
CREATED:20120928T050309Z
LAST-MODIFIED:20121202T223833Z
UID:560-1347649200-1347674400@alki152.org
SUMMARY:Private Rental - Wedding
DESCRIPTION:Content is protected.
URL:https://alki152.org/event/private-event-wedding/
LOCATION:Alki Masonic Center\, 4736 40th Ave. SW\, Seattle\, WA\, 98116\, United States
CATEGORIES:Private Event
GEO:47.5600056;-122.3825589
X-APPLE-STRUCTURED-LOCATION;VALUE=URI;X-ADDRESS=Alki Masonic Center 4736 40th Ave. SW Seattle WA 98116 United States;X-APPLE-RADIUS=500;X-TITLE=4736 40th Ave. SW:geo:-122.3825589,47.5600056
END:VEVENT
BEGIN:VEVENT
DTSTART;TZID=America/Los_Angeles:20120915T070000
DTEND;TZID=America/Los_Angeles:20120915T070000
DTSTAMP:20260423T161352
CREATED:20120928T043953Z
LAST-MODIFIED:20121202T223707Z
UID:557-1347692400-1347692400@alki152.org
SUMMARY:Private Rental - Wedding - CANCELLED
DESCRIPTION:Content is protected.
URL:https://alki152.org/event/private-rental/
LOCATION:Alki Masonic Center\, 4736 40th Ave. SW\, Seattle\, WA\, 98116\, United States
CATEGORIES:Private Event
GEO:47.5600056;-122.3825589
X-APPLE-STRUCTURED-LOCATION;VALUE=URI;X-ADDRESS=Alki Masonic Center 4736 40th Ave. SW Seattle WA 98116 United States;X-APPLE-RADIUS=500;X-TITLE=4736 40th Ave. SW:geo:-122.3825589,47.5600056
END:VEVENT
BEGIN:VEVENT
DTSTART;TZID=America/Los_Angeles:20120916T144500
DTEND;TZID=America/Los_Angeles:20120916T220000
DTSTAMP:20260423T161352
CREATED:20120928T043345Z
LAST-MODIFIED:20120929T192313Z
UID:554-1347806700-1347832800@alki152.org
SUMMARY:Seattle Swing Dance Club
DESCRIPTION:
URL:https://alki152.org/event/seattle-swing-dance-club-2/
LOCATION:Alki Masonic Center\, 4736 40th Ave. SW\, Seattle\, WA\, 98116\, United States
CATEGORIES:Public Event
GEO:47.5600056;-122.3825589
X-APPLE-STRUCTURED-LOCATION;VALUE=URI;X-ADDRESS=Alki Masonic Center 4736 40th Ave. SW Seattle WA 98116 United States;X-APPLE-RADIUS=500;X-TITLE=4736 40th Ave. SW:geo:-122.3825589,47.5600056
END:VEVENT
BEGIN:VEVENT
DTSTART;TZID=America/Los_Angeles:20120919T190000
DTEND;TZID=America/Los_Angeles:20120919T200000
DTSTAMP:20260423T161352
CREATED:20120927T213822Z
LAST-MODIFIED:20120929T191159Z
UID:456-1348081200-1348084800@alki152.org
SUMMARY:Temple Board
DESCRIPTION:
URL:https://alki152.org/event/temple-board/
LOCATION:Alki Masonic Center 3rd Floor\, 4736 40th Ave. SW\, Seattle\, WA\, 98116\, United States
CATEGORIES:Masonic Family
ORGANIZER;CN="Martin Monk":MAILTO:Martinmonk@yahoo.com
GEO:47.5600056;-122.3825589
X-APPLE-STRUCTURED-LOCATION;VALUE=URI;X-ADDRESS=Alki Masonic Center 3rd Floor 4736 40th Ave. SW Seattle WA 98116 United States;X-APPLE-RADIUS=500;X-TITLE=4736 40th Ave. SW:geo:-122.3825589,47.5600056
END:VEVENT
BEGIN:VEVENT
DTSTART;TZID=America/Los_Angeles:20120921T180000
DTEND;TZID=America/Los_Angeles:20120921T200000
DTSTAMP:20260423T161352
CREATED:20120927T195413Z
LAST-MODIFIED:20121124T043113Z
UID:435-1348250400-1348257600@alki152.org
SUMMARY:Job's Daughters - Bethel #40
DESCRIPTION:
URL:https://alki152.org/event/jobs-daughters-bethel-40-2/
LOCATION:Alki Masonic Center – Lodge Room\, 4736 40th Ave. SW\, Seattle\, WA\, 98116\, United States
CATEGORIES:Bethel,Masonic Family
GEO:47.5600056;-122.3825589
X-APPLE-STRUCTURED-LOCATION;VALUE=URI;X-ADDRESS=Alki Masonic Center – Lodge Room 4736 40th Ave. SW Seattle WA 98116 United States;X-APPLE-RADIUS=500;X-TITLE=4736 40th Ave. SW:geo:-122.3825589,47.5600056
END:VEVENT
BEGIN:VEVENT
DTSTART;TZID=America/Los_Angeles:20120924T190000
DTEND;TZID=America/Los_Angeles:20120924T200000
DTSTAMP:20260423T161352
CREATED:20120927T213249Z
LAST-MODIFIED:20120929T190553Z
UID:454-1348513200-1348516800@alki152.org
SUMMARY:Temple Board - All Tenant Meeting
DESCRIPTION:
URL:https://alki152.org/event/temple-board-meeting/
LOCATION:Alki Masonic Center\, 4736 40th Ave. SW\, Seattle\, WA\, 98116\, United States
CATEGORIES:Masonic Family
ORGANIZER;CN="Martin Monk":MAILTO:Martinmonk@yahoo.com
GEO:47.5600056;-122.3825589
X-APPLE-STRUCTURED-LOCATION;VALUE=URI;X-ADDRESS=Alki Masonic Center 4736 40th Ave. SW Seattle WA 98116 United States;X-APPLE-RADIUS=500;X-TITLE=4736 40th Ave. SW:geo:-122.3825589,47.5600056
END:VEVENT
BEGIN:VEVENT
DTSTART;TZID=America/Los_Angeles:20120925T190000
DTEND;TZID=America/Los_Angeles:20120925T210000
DTSTAMP:20260423T161352
CREATED:20120927T223514Z
LAST-MODIFIED:20121124T030114Z
UID:479-1348599600-1348606800@alki152.org
SUMMARY:Eastern Star - Amethyst Chapter
DESCRIPTION:
URL:https://alki152.org/event/eastern-star-amethyst-chapter/
LOCATION:Alki Masonic Center\, 4736 40th Ave. SW\, Seattle\, WA\, 98116\, United States
CATEGORIES:Amethyst,Masonic Family
GEO:47.5600056;-122.3825589
X-APPLE-STRUCTURED-LOCATION;VALUE=URI;X-ADDRESS=Alki Masonic Center 4736 40th Ave. SW Seattle WA 98116 United States;X-APPLE-RADIUS=500;X-TITLE=4736 40th Ave. SW:geo:-122.3825589,47.5600056
END:VEVENT
BEGIN:VEVENT
DTSTART;TZID=America/Los_Angeles:20120929T170000
DTEND;TZID=America/Los_Angeles:20120929T210000
DTSTAMP:20260423T161352
CREATED:20120927T235312Z
LAST-MODIFIED:20121011T194753Z
UID:532-1348938000-1348952400@alki152.org
SUMMARY:Spaghetti Feed - Westgate Court
DESCRIPTION:Ameranth – Westgate Court fund raiser
URL:https://alki152.org/event/spaghetti-feed/
LOCATION:Alki Masonic Center\, 4736 40th Ave. SW\, Seattle\, WA\, 98116\, United States
CATEGORIES:Masonic Family,Public Event,Westgate
ORGANIZER;CN="Sue Gibbs":MAILTO:westgateevents21@gmail.com
GEO:47.5600056;-122.3825589
X-APPLE-STRUCTURED-LOCATION;VALUE=URI;X-ADDRESS=Alki Masonic Center 4736 40th Ave. SW Seattle WA 98116 United States;X-APPLE-RADIUS=500;X-TITLE=4736 40th Ave. SW:geo:-122.3825589,47.5600056
END:VEVENT
BEGIN:VEVENT
DTSTART;TZID=America/Los_Angeles:20120930T090000
DTEND;TZID=America/Los_Angeles:20120930T220000
DTSTAMP:20260423T161352
CREATED:20120928T051543Z
LAST-MODIFIED:20121202T224351Z
UID:566-1348995600-1349042400@alki152.org
SUMMARY:Private Rental
DESCRIPTION:Content is protected.
URL:https://alki152.org/event/private-event-3/
LOCATION:Alki Masonic Center\, 4736 40th Ave. SW\, Seattle\, WA\, 98116\, United States
CATEGORIES:Private Event
GEO:47.5600056;-122.3825589
X-APPLE-STRUCTURED-LOCATION;VALUE=URI;X-ADDRESS=Alki Masonic Center 4736 40th Ave. SW Seattle WA 98116 United States;X-APPLE-RADIUS=500;X-TITLE=4736 40th Ave. SW:geo:-122.3825589,47.5600056
END:VEVENT
BEGIN:VEVENT
DTSTART;TZID=America/Los_Angeles:20121003T180000
DTEND;TZID=America/Los_Angeles:20121003T210000
DTSTAMP:20260423T161352
CREATED:20121124T043926Z
LAST-MODIFIED:20121124T044225Z
UID:963-1349287200-1349298000@alki152.org
SUMMARY:Job's Daughters Bethel #40
DESCRIPTION:
URL:https://alki152.org/event/jobs-daughters-bethel-40-3/
LOCATION:Alki Masonic Center\, 4736 40th Ave. SW\, Seattle\, WA\, 98116\, United States
CATEGORIES:Bethel,Masonic Family
GEO:47.5600056;-122.3825589
X-APPLE-STRUCTURED-LOCATION;VALUE=URI;X-ADDRESS=Alki Masonic Center 4736 40th Ave. SW Seattle WA 98116 United States;X-APPLE-RADIUS=500;X-TITLE=4736 40th Ave. SW:geo:-122.3825589,47.5600056
END:VEVENT
BEGIN:VEVENT
DTSTART;TZID=America/Los_Angeles:20121006T080000
DTEND;TZID=America/Los_Angeles:20121006T120000
DTSTAMP:20260423T161352
CREATED:20120928T000258Z
LAST-MODIFIED:20121124T052811Z
UID:545-1349510400-1349524800@alki152.org
SUMMARY:Pancake Feed - Alki Lodge
DESCRIPTION:
URL:https://alki152.org/event/pancake-feed/
LOCATION:Alki Masonic Center\, 4736 40th Ave. SW\, Seattle\, WA\, 98116\, United States
CATEGORIES:Alki Lodge,Masonic Family,Public Event
GEO:47.5600056;-122.3825589
X-APPLE-STRUCTURED-LOCATION;VALUE=URI;X-ADDRESS=Alki Masonic Center 4736 40th Ave. SW Seattle WA 98116 United States;X-APPLE-RADIUS=500;X-TITLE=4736 40th Ave. SW:geo:-122.3825589,47.5600056
END:VEVENT
BEGIN:VEVENT
DTSTART;TZID=America/Los_Angeles:20121006T140000
DTEND;TZID=America/Los_Angeles:20121006T140000
DTSTAMP:20260423T161352
CREATED:20120928T052814Z
LAST-MODIFIED:20121202T224514Z
UID:568-1349532000-1349532000@alki152.org
SUMMARY:Private Rental
DESCRIPTION:Content is protected.
URL:https://alki152.org/event/private-rental-2/
LOCATION:Alki Masonic Center\, 4736 40th Ave. SW\, Seattle\, WA\, 98116\, United States
CATEGORIES:Private Event
GEO:47.5600056;-122.3825589
X-APPLE-STRUCTURED-LOCATION;VALUE=URI;X-ADDRESS=Alki Masonic Center 4736 40th Ave. SW Seattle WA 98116 United States;X-APPLE-RADIUS=500;X-TITLE=4736 40th Ave. SW:geo:-122.3825589,47.5600056
END:VEVENT
BEGIN:VEVENT
DTSTART;TZID=America/Los_Angeles:20121007T144500
DTEND;TZID=America/Los_Angeles:20121007T220000
DTSTAMP:20260423T161352
CREATED:20120928T052659Z
LAST-MODIFIED:20120929T192904Z
UID:567-1349621100-1349647200@alki152.org
SUMMARY:Seattle Swing Dance Club
DESCRIPTION:
URL:https://alki152.org/event/seattle-swing-dance-club-4/
LOCATION:Alki Masonic Center\, 4736 40th Ave. SW\, Seattle\, WA\, 98116\, United States
CATEGORIES:Public Event
GEO:47.5600056;-122.3825589
X-APPLE-STRUCTURED-LOCATION;VALUE=URI;X-ADDRESS=Alki Masonic Center 4736 40th Ave. SW Seattle WA 98116 United States;X-APPLE-RADIUS=500;X-TITLE=4736 40th Ave. SW:geo:-122.3825589,47.5600056
END:VEVENT
END:VCALENDAR