BEGIN:VCALENDAR
VERSION:2.0
PRODID:-//Alki Masonic Lodge #152 - ECPv6.15.20//NONSGML v1.0//EN
CALSCALE:GREGORIAN
METHOD:PUBLISH
X-WR-CALNAME:Alki Masonic Lodge #152
X-ORIGINAL-URL:https://alki152.org
X-WR-CALDESC:Events for Alki Masonic Lodge #152
REFRESH-INTERVAL;VALUE=DURATION:PT1H
X-Robots-Tag:noindex
X-PUBLISHED-TTL:PT1H
BEGIN:VTIMEZONE
TZID:America/Los_Angeles
BEGIN:DAYLIGHT
TZOFFSETFROM:-0800
TZOFFSETTO:-0700
TZNAME:PDT
DTSTART:20250309T100000
END:DAYLIGHT
BEGIN:STANDARD
TZOFFSETFROM:-0700
TZOFFSETTO:-0800
TZNAME:PST
DTSTART:20251102T090000
END:STANDARD
BEGIN:DAYLIGHT
TZOFFSETFROM:-0800
TZOFFSETTO:-0700
TZNAME:PDT
DTSTART:20260308T100000
END:DAYLIGHT
BEGIN:STANDARD
TZOFFSETFROM:-0700
TZOFFSETTO:-0800
TZNAME:PST
DTSTART:20261101T090000
END:STANDARD
BEGIN:DAYLIGHT
TZOFFSETFROM:-0800
TZOFFSETTO:-0700
TZNAME:PDT
DTSTART:20270314T100000
END:DAYLIGHT
BEGIN:STANDARD
TZOFFSETFROM:-0700
TZOFFSETTO:-0800
TZNAME:PST
DTSTART:20271107T090000
END:STANDARD
BEGIN:DAYLIGHT
TZOFFSETFROM:-0800
TZOFFSETTO:-0700
TZNAME:PDT
DTSTART:20280312T100000
END:DAYLIGHT
BEGIN:STANDARD
TZOFFSETFROM:-0700
TZOFFSETTO:-0800
TZNAME:PST
DTSTART:20281105T090000
END:STANDARD
END:VTIMEZONE
BEGIN:VEVENT
DTSTART;TZID=America/Los_Angeles:20261224T100000
DTEND;TZID=America/Los_Angeles:20261224T120000
DTSTAMP:20260425T050314
CREATED:20251002T213843Z
LAST-MODIFIED:20251002T213843Z
UID:13206-1798106400-1798113600@alki152.org
SUMMARY:Alki Lodge Social Gathering
DESCRIPTION:Time set aside for members (all Lodges) and friends to gather for social interaction. No set agenda\, no pressure. Chess available. Bring a guitar if you want. Provide a fishing story or two if you must.
URL:https://alki152.org/event/alki-lodge-social-gathering/2026-12-24/
END:VEVENT
BEGIN:VEVENT
DTSTART;TZID=America/Los_Angeles:20261225T170000
DTEND;TZID=America/Los_Angeles:20261225T220000
DTSTAMP:20260425T050314
CREATED:20230123T211944Z
LAST-MODIFIED:20230123T211944Z
UID:12580-1798218000-1798236000@alki152.org
SUMMARY:Rainbow Girls
DESCRIPTION:
URL:https://alki152.org/event/rainbow-girls-33/2026-12-25/
CATEGORIES:Masonic Family
END:VEVENT
BEGIN:VEVENT
DTSTART;TZID=America/Los_Angeles:20261226T180000
DTEND;TZID=America/Los_Angeles:20261226T220000
DTSTAMP:20260425T050314
CREATED:20250923T152049Z
LAST-MODIFIED:20250923T152049Z
UID:13132-1798308000-1798322400@alki152.org
SUMMARY:Annual Festive Board (Saint John the Evangelist's)
DESCRIPTION:
URL:https://alki152.org/event/annual-festive-board-saint-john-the-evangelists-2/
CATEGORIES:Masonic Family
END:VEVENT
BEGIN:VEVENT
DTSTART;TZID=America/Los_Angeles:20261230T073000
DTEND;TZID=America/Los_Angeles:20261230T083000
DTSTAMP:20260425T050314
CREATED:20250801T191519Z
LAST-MODIFIED:20250801T191519Z
UID:13580-1798615800-1798619400@alki152.org
SUMMARY:BNI Professionals
DESCRIPTION:
URL:https://alki152.org/event/bni-professionals-2/2026-12-30/
CATEGORIES:Private Event
END:VEVENT
BEGIN:VEVENT
DTSTART;TZID=America/Los_Angeles:20261231T073000
DTEND;TZID=America/Los_Angeles:20261231T093000
DTSTAMP:20260425T050314
CREATED:20250713T031856Z
LAST-MODIFIED:20250713T031856Z
UID:13618-1798702200-1798709400@alki152.org
SUMMARY:BNI Champions
DESCRIPTION:
URL:https://alki152.org/event/bni-champions-2/2026-12-31/
CATEGORIES:Private Event
END:VEVENT
BEGIN:VEVENT
DTSTART;TZID=America/Los_Angeles:20261231T100000
DTEND;TZID=America/Los_Angeles:20261231T120000
DTSTAMP:20260425T050314
CREATED:20251002T213843Z
LAST-MODIFIED:20251002T213843Z
UID:13207-1798711200-1798718400@alki152.org
SUMMARY:Alki Lodge Social Gathering
DESCRIPTION:Time set aside for members (all Lodges) and friends to gather for social interaction. No set agenda\, no pressure. Chess available. Bring a guitar if you want. Provide a fishing story or two if you must.
URL:https://alki152.org/event/alki-lodge-social-gathering/2026-12-31/
END:VEVENT
BEGIN:VEVENT
DTSTART;TZID=America/Los_Angeles:20270101T160000
DTEND;TZID=America/Los_Angeles:20270101T230000
DTSTAMP:20260425T050314
CREATED:20130628T211109Z
LAST-MODIFIED:20130628T211109Z
UID:12582-1798819200-1798844400@alki152.org
SUMMARY:Amaranth - Alki Court
DESCRIPTION:
URL:https://alki152.org/event/amaranth-westgate-court-2015-12-04-2016-12-02-2017-12-01/2027-01-01/
LOCATION:Alki Masonic Center\, 4736 40th Ave. SW\, Seattle\, WA\, 98116\, United States
CATEGORIES:Masonic Family,Westgate
ORGANIZER;CN="Sue Gibbs":MAILTO:westgateevents21@gmail.com
GEO:47.5600056;-122.3825589
X-APPLE-STRUCTURED-LOCATION;VALUE=URI;X-ADDRESS=Alki Masonic Center 4736 40th Ave. SW Seattle WA 98116 United States;X-APPLE-RADIUS=500;X-TITLE=4736 40th Ave. SW:geo:-122.3825589,47.5600056
END:VEVENT
BEGIN:VEVENT
DTSTART;TZID=America/Los_Angeles:20270103T140000
DTEND;TZID=America/Los_Angeles:20270103T220000
DTSTAMP:20260425T050314
CREATED:20190319T034811Z
LAST-MODIFIED:20190319T034811Z
UID:12587-1798984800-1799013600@alki152.org
SUMMARY:Seattle Swing Dance
DESCRIPTION:
URL:https://alki152.org/event/seattle-swing-dance/2027-01-03/
LOCATION:Alki Masonic Center\, 4736 40th Ave. SW\, Seattle\, WA\, 98116\, United States
CATEGORIES:Private Event
GEO:47.5600056;-122.3825589
X-APPLE-STRUCTURED-LOCATION;VALUE=URI;X-ADDRESS=Alki Masonic Center 4736 40th Ave. SW Seattle WA 98116 United States;X-APPLE-RADIUS=500;X-TITLE=4736 40th Ave. SW:geo:-122.3825589,47.5600056
END:VEVENT
BEGIN:VEVENT
DTSTART;TZID=America/Los_Angeles:20270104T183000
DTEND;TZID=America/Los_Angeles:20270104T213000
DTSTAMP:20260425T050314
CREATED:20241118T202924Z
LAST-MODIFIED:20241118T202924Z
UID:12589-1799087400-1799098200@alki152.org
SUMMARY:Alki Lodge #152
DESCRIPTION:
URL:https://alki152.org/event/alki-lodge-152/2027-01-04/
CATEGORIES:Alki Lodge
END:VEVENT
BEGIN:VEVENT
DTSTART;TZID=America/Los_Angeles:20270106T073000
DTEND;TZID=America/Los_Angeles:20270106T083000
DTSTAMP:20260425T050314
CREATED:20250801T191519Z
LAST-MODIFIED:20250801T191519Z
UID:13581-1799220600-1799224200@alki152.org
SUMMARY:BNI Professionals
DESCRIPTION:
URL:https://alki152.org/event/bni-professionals-2/2027-01-06/
CATEGORIES:Private Event
END:VEVENT
BEGIN:VEVENT
DTSTART;TZID=America/Los_Angeles:20270107T073000
DTEND;TZID=America/Los_Angeles:20270107T093000
DTSTAMP:20260425T050314
CREATED:20250713T031856Z
LAST-MODIFIED:20250713T031856Z
UID:13619-1799307000-1799314200@alki152.org
SUMMARY:BNI Champions
DESCRIPTION:
URL:https://alki152.org/event/bni-champions-2/2027-01-07/
CATEGORIES:Private Event
END:VEVENT
BEGIN:VEVENT
DTSTART;TZID=America/Los_Angeles:20270108T170000
DTEND;TZID=America/Los_Angeles:20270108T220000
DTSTAMP:20260425T050314
CREATED:20230328T145554Z
LAST-MODIFIED:20230328T145554Z
UID:12592-1799427600-1799445600@alki152.org
SUMMARY:Rainbow Girls
DESCRIPTION:
URL:https://alki152.org/event/rainbow-girls-34/2027-01-08/
CATEGORIES:Masonic Family
END:VEVENT
BEGIN:VEVENT
DTSTART;TZID=America/Los_Angeles:20270113T073000
DTEND;TZID=America/Los_Angeles:20270113T083000
DTSTAMP:20260425T050314
CREATED:20250801T191519Z
LAST-MODIFIED:20250801T191519Z
UID:13582-1799825400-1799829000@alki152.org
SUMMARY:BNI Professionals
DESCRIPTION:
URL:https://alki152.org/event/bni-professionals-2/2027-01-13/
CATEGORIES:Private Event
END:VEVENT
BEGIN:VEVENT
DTSTART;TZID=America/Los_Angeles:20270114T073000
DTEND;TZID=America/Los_Angeles:20270114T093000
DTSTAMP:20260425T050314
CREATED:20250713T031856Z
LAST-MODIFIED:20250713T031856Z
UID:13620-1799911800-1799919000@alki152.org
SUMMARY:BNI Champions
DESCRIPTION:
URL:https://alki152.org/event/bni-champions-2/2027-01-14/
CATEGORIES:Private Event
END:VEVENT
BEGIN:VEVENT
DTSTART;TZID=America/Los_Angeles:20270115T170000
DTEND;TZID=America/Los_Angeles:20270115T200000
DTSTAMP:20260425T050314
CREATED:20230123T215034Z
LAST-MODIFIED:20230123T215034Z
UID:12825-1800032400-1800043200@alki152.org
SUMMARY:West Seattle Yacht Club
DESCRIPTION:Contact: Dori Schnelz 206-851-8067\, dmschnelz@gmail.com
URL:https://alki152.org/event/west-seattle-yacht-club-19/2027-01-15/
END:VEVENT
BEGIN:VEVENT
DTSTART;TZID=America/Los_Angeles:20270117T140000
DTEND;TZID=America/Los_Angeles:20270117T220000
DTSTAMP:20260425T050314
CREATED:20190319T034811Z
LAST-MODIFIED:20190319T034811Z
UID:12621-1800194400-1800223200@alki152.org
SUMMARY:Seattle Swing Dance
DESCRIPTION:
URL:https://alki152.org/event/seattle-swing-dance/2027-01-17/
LOCATION:Alki Masonic Center\, 4736 40th Ave. SW\, Seattle\, WA\, 98116\, United States
CATEGORIES:Private Event
GEO:47.5600056;-122.3825589
X-APPLE-STRUCTURED-LOCATION;VALUE=URI;X-ADDRESS=Alki Masonic Center 4736 40th Ave. SW Seattle WA 98116 United States;X-APPLE-RADIUS=500;X-TITLE=4736 40th Ave. SW:geo:-122.3825589,47.5600056
END:VEVENT
BEGIN:VEVENT
DTSTART;TZID=America/Los_Angeles:20270120T073000
DTEND;TZID=America/Los_Angeles:20270120T083000
DTSTAMP:20260425T050314
CREATED:20250801T191519Z
LAST-MODIFIED:20250801T191519Z
UID:13583-1800430200-1800433800@alki152.org
SUMMARY:BNI Professionals
DESCRIPTION:
URL:https://alki152.org/event/bni-professionals-2/2027-01-20/
CATEGORIES:Private Event
END:VEVENT
BEGIN:VEVENT
DTSTART;TZID=America/Los_Angeles:20270121T073000
DTEND;TZID=America/Los_Angeles:20270121T093000
DTSTAMP:20260425T050314
CREATED:20250713T031856Z
LAST-MODIFIED:20250713T031856Z
UID:13621-1800516600-1800523800@alki152.org
SUMMARY:BNI Champions
DESCRIPTION:
URL:https://alki152.org/event/bni-champions-2/2027-01-21/
CATEGORIES:Private Event
END:VEVENT
BEGIN:VEVENT
DTSTART;TZID=America/Los_Angeles:20270122T170000
DTEND;TZID=America/Los_Angeles:20270122T220000
DTSTAMP:20260425T050314
CREATED:20230123T211944Z
LAST-MODIFIED:20230123T211944Z
UID:12598-1800637200-1800655200@alki152.org
SUMMARY:Rainbow Girls
DESCRIPTION:
URL:https://alki152.org/event/rainbow-girls-33/2027-01-22/
CATEGORIES:Masonic Family
END:VEVENT
BEGIN:VEVENT
DTSTART;TZID=America/Los_Angeles:20270126T160000
DTEND;TZID=America/Los_Angeles:20270126T200000
DTSTAMP:20260425T050314
CREATED:20240417T153708Z
LAST-MODIFIED:20240417T153708Z
UID:12666-1800979200-1800993600@alki152.org
SUMMARY:Amethyst Chapter Eastern Star Meeting
DESCRIPTION:
URL:https://alki152.org/event/amethyst-chapter-eastern-star-meeting/2027-01-26/
CATEGORIES:Masonic Family
END:VEVENT
BEGIN:VEVENT
DTSTART;TZID=America/Los_Angeles:20270127T073000
DTEND;TZID=America/Los_Angeles:20270127T083000
DTSTAMP:20260425T050314
CREATED:20250801T191519Z
LAST-MODIFIED:20250801T191519Z
UID:13584-1801035000-1801038600@alki152.org
SUMMARY:BNI Professionals
DESCRIPTION:
URL:https://alki152.org/event/bni-professionals-2/2027-01-27/
CATEGORIES:Private Event
END:VEVENT
BEGIN:VEVENT
DTSTART;TZID=America/Los_Angeles:20270128T073000
DTEND;TZID=America/Los_Angeles:20270128T093000
DTSTAMP:20260425T050314
CREATED:20250713T031856Z
LAST-MODIFIED:20250713T031856Z
UID:13622-1801121400-1801128600@alki152.org
SUMMARY:BNI Champions
DESCRIPTION:
URL:https://alki152.org/event/bni-champions-2/2027-01-28/
CATEGORIES:Private Event
END:VEVENT
BEGIN:VEVENT
DTSTART;TZID=America/Los_Angeles:20270201T183000
DTEND;TZID=America/Los_Angeles:20270201T213000
DTSTAMP:20260425T050314
CREATED:20241118T202924Z
LAST-MODIFIED:20241118T202924Z
UID:12607-1801506600-1801517400@alki152.org
SUMMARY:Alki Lodge #152
DESCRIPTION:
URL:https://alki152.org/event/alki-lodge-152/2027-02-01/
CATEGORIES:Alki Lodge
END:VEVENT
BEGIN:VEVENT
DTSTART;TZID=America/Los_Angeles:20270205T160000
DTEND;TZID=America/Los_Angeles:20270205T230000
DTSTAMP:20260425T050314
CREATED:20130628T211109Z
LAST-MODIFIED:20130628T211109Z
UID:12610-1801843200-1801868400@alki152.org
SUMMARY:Amaranth - Alki Court
DESCRIPTION:
URL:https://alki152.org/event/amaranth-westgate-court-2015-12-04-2016-12-02-2017-12-01/2027-02-05/
LOCATION:Alki Masonic Center\, 4736 40th Ave. SW\, Seattle\, WA\, 98116\, United States
CATEGORIES:Masonic Family,Westgate
ORGANIZER;CN="Sue Gibbs":MAILTO:westgateevents21@gmail.com
GEO:47.5600056;-122.3825589
X-APPLE-STRUCTURED-LOCATION;VALUE=URI;X-ADDRESS=Alki Masonic Center 4736 40th Ave. SW Seattle WA 98116 United States;X-APPLE-RADIUS=500;X-TITLE=4736 40th Ave. SW:geo:-122.3825589,47.5600056
END:VEVENT
BEGIN:VEVENT
DTSTART;TZID=America/Los_Angeles:20270206T140000
DTEND;TZID=America/Los_Angeles:20270206T220000
DTSTAMP:20260425T050314
CREATED:20230123T214146Z
LAST-MODIFIED:20230123T214146Z
UID:12619-1801922400-1801951200@alki152.org
SUMMARY:Lodge Alba Stated Meeting
DESCRIPTION:
URL:https://alki152.org/event/lodge-alba-stated-meeting-10/2027-02-06/
CATEGORIES:Lodge Alba
END:VEVENT
BEGIN:VEVENT
DTSTART;TZID=America/Los_Angeles:20270207T140000
DTEND;TZID=America/Los_Angeles:20270207T220000
DTSTAMP:20260425T050314
CREATED:20190319T034811Z
LAST-MODIFIED:20190319T034811Z
UID:12620-1802008800-1802037600@alki152.org
SUMMARY:Seattle Swing Dance
DESCRIPTION:
URL:https://alki152.org/event/seattle-swing-dance/2027-02-07/
LOCATION:Alki Masonic Center\, 4736 40th Ave. SW\, Seattle\, WA\, 98116\, United States
CATEGORIES:Private Event
GEO:47.5600056;-122.3825589
X-APPLE-STRUCTURED-LOCATION;VALUE=URI;X-ADDRESS=Alki Masonic Center 4736 40th Ave. SW Seattle WA 98116 United States;X-APPLE-RADIUS=500;X-TITLE=4736 40th Ave. SW:geo:-122.3825589,47.5600056
END:VEVENT
BEGIN:VEVENT
DTSTART;TZID=America/Los_Angeles:20270212T170000
DTEND;TZID=America/Los_Angeles:20270212T220000
DTSTAMP:20260425T050314
CREATED:20230328T145554Z
LAST-MODIFIED:20230328T145554Z
UID:12625-1802451600-1802469600@alki152.org
SUMMARY:Rainbow Girls
DESCRIPTION:
URL:https://alki152.org/event/rainbow-girls-34/2027-02-12/
CATEGORIES:Masonic Family
END:VEVENT
BEGIN:VEVENT
DTSTART;TZID=America/Los_Angeles:20270219T170000
DTEND;TZID=America/Los_Angeles:20270219T200000
DTSTAMP:20260425T050314
CREATED:20230123T215034Z
LAST-MODIFIED:20230123T215034Z
UID:12826-1803056400-1803067200@alki152.org
SUMMARY:West Seattle Yacht Club
DESCRIPTION:Contact: Dori Schnelz 206-851-8067\, dmschnelz@gmail.com
URL:https://alki152.org/event/west-seattle-yacht-club-19/2027-02-19/
END:VEVENT
BEGIN:VEVENT
DTSTART;VALUE=DATE:20270220
DTEND;VALUE=DATE:20270221
DTSTAMP:20260425T050314
CREATED:20260222T191036Z
LAST-MODIFIED:20260222T191036Z
UID:13483-1803081600-1803167999@alki152.org
SUMMARY:Eastern Star Reception
DESCRIPTION:
URL:https://alki152.org/event/eastern-star-reception-2/
END:VEVENT
BEGIN:VEVENT
DTSTART;TZID=America/Los_Angeles:20270221T140000
DTEND;TZID=America/Los_Angeles:20270221T220000
DTSTAMP:20260425T050314
CREATED:20190319T034811Z
LAST-MODIFIED:20190319T034811Z
UID:12680-1803218400-1803247200@alki152.org
SUMMARY:Seattle Swing Dance
DESCRIPTION:
URL:https://alki152.org/event/seattle-swing-dance/2027-02-21/
LOCATION:Alki Masonic Center\, 4736 40th Ave. SW\, Seattle\, WA\, 98116\, United States
CATEGORIES:Private Event
GEO:47.5600056;-122.3825589
X-APPLE-STRUCTURED-LOCATION;VALUE=URI;X-ADDRESS=Alki Masonic Center 4736 40th Ave. SW Seattle WA 98116 United States;X-APPLE-RADIUS=500;X-TITLE=4736 40th Ave. SW:geo:-122.3825589,47.5600056
END:VEVENT
END:VCALENDAR