BEGIN:VCALENDAR
VERSION:2.0
PRODID:-//Alki Masonic Lodge #152 - ECPv6.15.20//NONSGML v1.0//EN
CALSCALE:GREGORIAN
METHOD:PUBLISH
X-WR-CALNAME:Alki Masonic Lodge #152
X-ORIGINAL-URL:https://alki152.org
X-WR-CALDESC:Events for Alki Masonic Lodge #152
REFRESH-INTERVAL;VALUE=DURATION:PT1H
X-Robots-Tag:noindex
X-PUBLISHED-TTL:PT1H
BEGIN:VTIMEZONE
TZID:America/Los_Angeles
BEGIN:DAYLIGHT
TZOFFSETFROM:-0800
TZOFFSETTO:-0700
TZNAME:PDT
DTSTART:20110313T100000
END:DAYLIGHT
BEGIN:STANDARD
TZOFFSETFROM:-0700
TZOFFSETTO:-0800
TZNAME:PST
DTSTART:20111106T090000
END:STANDARD
BEGIN:DAYLIGHT
TZOFFSETFROM:-0800
TZOFFSETTO:-0700
TZNAME:PDT
DTSTART:20120311T100000
END:DAYLIGHT
BEGIN:STANDARD
TZOFFSETFROM:-0700
TZOFFSETTO:-0800
TZNAME:PST
DTSTART:20121104T090000
END:STANDARD
BEGIN:DAYLIGHT
TZOFFSETFROM:-0800
TZOFFSETTO:-0700
TZNAME:PDT
DTSTART:20130310T100000
END:DAYLIGHT
BEGIN:STANDARD
TZOFFSETFROM:-0700
TZOFFSETTO:-0800
TZNAME:PST
DTSTART:20131103T090000
END:STANDARD
BEGIN:DAYLIGHT
TZOFFSETFROM:-0800
TZOFFSETTO:-0700
TZNAME:PDT
DTSTART:20140309T100000
END:DAYLIGHT
BEGIN:STANDARD
TZOFFSETFROM:-0700
TZOFFSETTO:-0800
TZNAME:PST
DTSTART:20141102T090000
END:STANDARD
BEGIN:DAYLIGHT
TZOFFSETFROM:-0800
TZOFFSETTO:-0700
TZNAME:PDT
DTSTART:20150308T100000
END:DAYLIGHT
BEGIN:STANDARD
TZOFFSETFROM:-0700
TZOFFSETTO:-0800
TZNAME:PST
DTSTART:20151101T090000
END:STANDARD
BEGIN:DAYLIGHT
TZOFFSETFROM:-0800
TZOFFSETTO:-0700
TZNAME:PDT
DTSTART:20160313T100000
END:DAYLIGHT
BEGIN:STANDARD
TZOFFSETFROM:-0700
TZOFFSETTO:-0800
TZNAME:PST
DTSTART:20161106T090000
END:STANDARD
END:VTIMEZONE
BEGIN:VEVENT
DTSTART;TZID=America/Los_Angeles:20121112T170000
DTEND;TZID=America/Los_Angeles:20121112T230000
DTSTAMP:20260423T123647
CREATED:20120927T210934Z
LAST-MODIFIED:20121124T053331Z
UID:452-1352739600-1352761200@alki152.org
SUMMARY:Alki Lodge #152 Table Lodge
DESCRIPTION:Wednesday Night Lodge with Lodges from South Puget Sound \nDinner at 6:30 Lodge 7:30\nTable Lodge for brothers and their guests.  Good food\, mind\n  and formal toasts.  Starts at 5:00 pm \n \n 
URL:https://alki152.org/event/alki-lodge-152-table-lodge/
LOCATION:Alki Masonic Center\, 4736 40th Ave. SW\, Seattle\, WA\, 98116\, United States
CATEGORIES:Alki Lodge,Masonic Family
ORGANIZER;CN="Dick Syson%2C Secretary":MAILTO:nosys@comcast.net
GEO:47.5600056;-122.3825589
X-APPLE-STRUCTURED-LOCATION;VALUE=URI;X-ADDRESS=Alki Masonic Center 4736 40th Ave. SW Seattle WA 98116 United States;X-APPLE-RADIUS=500;X-TITLE=4736 40th Ave. SW:geo:-122.3825589,47.5600056
END:VEVENT
BEGIN:VEVENT
DTSTART;TZID=America/Los_Angeles:20121113T060000
DTEND;TZID=America/Los_Angeles:20121113T230000
DTSTAMP:20260423T123647
CREATED:20121102T043519Z
LAST-MODIFIED:20121124T053359Z
UID:757-1352786400-1352847600@alki152.org
SUMMARY:Fellow Craft Degree - Alki Lodge
DESCRIPTION:
URL:https://alki152.org/event/fellow-craft-degree-alki-lodge/
LOCATION:Alki Masonic Center\, 4736 40th Ave. SW\, Seattle\, WA\, 98116\, United States
CATEGORIES:Alki Lodge
GEO:47.5600056;-122.3825589
X-APPLE-STRUCTURED-LOCATION;VALUE=URI;X-ADDRESS=Alki Masonic Center 4736 40th Ave. SW Seattle WA 98116 United States;X-APPLE-RADIUS=500;X-TITLE=4736 40th Ave. SW:geo:-122.3825589,47.5600056
END:VEVENT
BEGIN:VEVENT
DTSTART;TZID=America/Los_Angeles:20121126T180000
DTEND;TZID=America/Los_Angeles:20121126T220000
DTSTAMP:20260423T123647
CREATED:20120927T213950Z
LAST-MODIFIED:20121124T053426Z
UID:458-1353952800-1353967200@alki152.org
SUMMARY:Master Mason Degree - Alki Lodge
DESCRIPTION:
URL:https://alki152.org/event/temple-board-3/
LOCATION:Alki Masonic Center 3rd Floor\, 4736 40th Ave. SW\, Seattle\, WA\, 98116\, United States
CATEGORIES:Alki Lodge
GEO:47.5600056;-122.3825589
X-APPLE-STRUCTURED-LOCATION;VALUE=URI;X-ADDRESS=Alki Masonic Center 3rd Floor 4736 40th Ave. SW Seattle WA 98116 United States;X-APPLE-RADIUS=500;X-TITLE=4736 40th Ave. SW:geo:-122.3825589,47.5600056
END:VEVENT
BEGIN:VEVENT
DTSTART;TZID=America/Los_Angeles:20121208T170000
DTEND;TZID=America/Los_Angeles:20121208T220000
DTSTAMP:20260423T123647
CREATED:20120927T214146Z
LAST-MODIFIED:20121129T075414Z
UID:461-1354986000-1355004000@alki152.org
SUMMARY:Alki Lodge #152 Officers Installation
DESCRIPTION:Contact Lloyd Dow for more information 253-740-8014\n \nInstallation begins at 5:00pm\, try\n  with a reception and entertainment to follow. \nPlease join us for a fun filled evening welcoming the 2013 officers into their new positions.
URL:https://alki152.org/event/alki-lodge-152-officers-installation/
LOCATION:Alki Masonic Center\, 4736 40th Ave. SW\, Seattle\, WA\, 98116\, United States
CATEGORIES:Alki Lodge,Masonic Family,Public Event
ORGANIZER;CN="Dick Syson%2C Secretary":MAILTO:nosys@comcast.net
GEO:47.5600056;-122.3825589
X-APPLE-STRUCTURED-LOCATION;VALUE=URI;X-ADDRESS=Alki Masonic Center 4736 40th Ave. SW Seattle WA 98116 United States;X-APPLE-RADIUS=500;X-TITLE=4736 40th Ave. SW:geo:-122.3825589,47.5600056
END:VEVENT
BEGIN:VEVENT
DTSTART;TZID=America/Los_Angeles:20121209T150000
DTEND;TZID=America/Los_Angeles:20121209T190000
DTSTAMP:20260423T123647
CREATED:20120928T065616Z
LAST-MODIFIED:20121124T054439Z
UID:590-1355065200-1355079600@alki152.org
SUMMARY:Alki Lodge #152 Christmas Party
DESCRIPTION:
URL:https://alki152.org/event/alki-lodge-152-christmas-party/
LOCATION:Alki Masonic Center\, 4736 40th Ave. SW\, Seattle\, WA\, 98116\, United States
CATEGORIES:Alki Lodge,Masonic Family,Public Event
ORGANIZER;CN="Dick Syson%2C Secretary":MAILTO:nosys@comcast.net
GEO:47.5600056;-122.3825589
X-APPLE-STRUCTURED-LOCATION;VALUE=URI;X-ADDRESS=Alki Masonic Center 4736 40th Ave. SW Seattle WA 98116 United States;X-APPLE-RADIUS=500;X-TITLE=4736 40th Ave. SW:geo:-122.3825589,47.5600056
END:VEVENT
BEGIN:VEVENT
DTSTART;TZID=America/Los_Angeles:20130112T130000
DTEND;TZID=America/Los_Angeles:20130112T220000
DTSTAMP:20260423T123647
CREATED:20120929T194621Z
LAST-MODIFIED:20121124T051729Z
UID:609-1357995600-1358028000@alki152.org
SUMMARY:Lodge Alba #315 Installation
DESCRIPTION:
URL:https://alki152.org/event/lodge-alba-installation/
LOCATION:Alki Masonic Center\, 4736 40th Ave. SW\, Seattle\, WA\, 98116\, United States
CATEGORIES:Lodge Alba,Masonic Family,Public Event
GEO:47.5600056;-122.3825589
X-APPLE-STRUCTURED-LOCATION;VALUE=URI;X-ADDRESS=Alki Masonic Center 4736 40th Ave. SW Seattle WA 98116 United States;X-APPLE-RADIUS=500;X-TITLE=4736 40th Ave. SW:geo:-122.3825589,47.5600056
END:VEVENT
BEGIN:VEVENT
DTSTART;TZID=America/Los_Angeles:20130113T100000
DTEND;TZID=America/Los_Angeles:20130113T150000
DTSTAMP:20260423T123647
CREATED:20130112T010754Z
LAST-MODIFIED:20130112T010831Z
UID:1090-1358071200-1358089200@alki152.org
SUMMARY:Alki Masonic Lodge - Seahawks Watch Party
DESCRIPTION:Join us on Sunday for the Playoff game against the Atlanta Falcons at 10:00 Saturday Morning on the Biggest Big Screen in West Seattle. \nFun fellowship and food.  BYOB
URL:https://alki152.org/event/alki-masonic-lodge-seahawk-watch-party/
LOCATION:Alki Masonic Center\, 4736 40th Ave. SW\, Seattle\, WA\, 98116\, United States
CATEGORIES:Alki Lodge,Lodge Alba,LuzViMinda #317,Masonic Family
GEO:47.5600056;-122.3825589
X-APPLE-STRUCTURED-LOCATION;VALUE=URI;X-ADDRESS=Alki Masonic Center 4736 40th Ave. SW Seattle WA 98116 United States;X-APPLE-RADIUS=500;X-TITLE=4736 40th Ave. SW:geo:-122.3825589,47.5600056
END:VEVENT
BEGIN:VEVENT
DTSTART;TZID=America/Los_Angeles:20130202T170000
DTEND;TZID=America/Los_Angeles:20130202T210000
DTSTAMP:20260423T123647
CREATED:20121001T183943Z
LAST-MODIFIED:20121124T051944Z
UID:653-1359824400-1359838800@alki152.org
SUMMARY:Robert Burns Evening - Alba & Alki Lodges
DESCRIPTION:Brief lodge meeting at 5:00pm followed at 6:00pm by an evening celebrating the life of Robert Burns including poetry reading\, ambulance  musical entertainment\, click\n  great food and spirits.  BYOB\, ed  bring you friends\, neighbors and family.
URL:https://alki152.org/event/lodge-alba/
LOCATION:Alki Masonic Center\, 4736 40th Ave. SW\, Seattle\, WA\, 98116\, United States
CATEGORIES:Alki Lodge,Lodge Alba,Masonic Family,Public Event
GEO:47.5600056;-122.3825589
X-APPLE-STRUCTURED-LOCATION;VALUE=URI;X-ADDRESS=Alki Masonic Center 4736 40th Ave. SW Seattle WA 98116 United States;X-APPLE-RADIUS=500;X-TITLE=4736 40th Ave. SW:geo:-122.3825589,47.5600056
END:VEVENT
BEGIN:VEVENT
DTSTART;TZID=America/Los_Angeles:20130302T170000
DTEND;TZID=America/Los_Angeles:20130302T210000
DTSTAMP:20260423T123647
CREATED:20121002T170816Z
LAST-MODIFIED:20121124T053534Z
UID:700-1362243600-1362258000@alki152.org
SUMMARY:Crab Feed - Alki Lodge #152
DESCRIPTION:
URL:https://alki152.org/event/crab-feed-alki-lodge-152/
LOCATION:Alki Masonic Center\, 4736 40th Ave. SW\, Seattle\, WA\, 98116\, United States
CATEGORIES:Alki Lodge,Masonic Family,Public Event
ORGANIZER;CN="Dick Syson%2C Secretary":MAILTO:nosys@comcast.net
GEO:47.5600056;-122.3825589
X-APPLE-STRUCTURED-LOCATION;VALUE=URI;X-ADDRESS=Alki Masonic Center 4736 40th Ave. SW Seattle WA 98116 United States;X-APPLE-RADIUS=500;X-TITLE=4736 40th Ave. SW:geo:-122.3825589,47.5600056
END:VEVENT
BEGIN:VEVENT
DTSTART;TZID=America/Los_Angeles:20130320T180000
DTEND;TZID=America/Los_Angeles:20130320T220000
DTSTAMP:20260423T123647
CREATED:20121001T232304Z
LAST-MODIFIED:20130305T230314Z
UID:695-1363802400-1363816800@alki152.org
SUMMARY:Alki Lodge #152 - EA Degree
DESCRIPTION:Catered Dinner at 6:00 pm
URL:https://alki152.org/event/alki-lodge-152-ladies-night/
LOCATION:Alki Masonic Center\, 4736 40th Ave. SW\, Seattle\, WA\, 98116\, United States
CATEGORIES:Alki Lodge,Masonic Family
ORGANIZER;CN="Dick Syson%2C Secretary":MAILTO:nosys@comcast.net
GEO:47.5600056;-122.3825589
X-APPLE-STRUCTURED-LOCATION;VALUE=URI;X-ADDRESS=Alki Masonic Center 4736 40th Ave. SW Seattle WA 98116 United States;X-APPLE-RADIUS=500;X-TITLE=4736 40th Ave. SW:geo:-122.3825589,47.5600056
END:VEVENT
BEGIN:VEVENT
DTSTART;TZID=America/Los_Angeles:20130330T080000
DTEND;TZID=America/Los_Angeles:20130330T120000
DTSTAMP:20260423T123647
CREATED:20121001T232355Z
LAST-MODIFIED:20121124T053631Z
UID:696-1364630400-1364644800@alki152.org
SUMMARY:Pancake Breakfast - Alki Lodge #152
DESCRIPTION:
URL:https://alki152.org/event/pancake-breakfast-alki-lodge-152/
LOCATION:Alki Masonic Center\, 4736 40th Ave. SW\, Seattle\, WA\, 98116\, United States
CATEGORIES:Masonic Family,Public Event
ORGANIZER;CN="Dick Syson%2C Secretary":MAILTO:nosys@comcast.net
GEO:47.5600056;-122.3825589
X-APPLE-STRUCTURED-LOCATION;VALUE=URI;X-ADDRESS=Alki Masonic Center 4736 40th Ave. SW Seattle WA 98116 United States;X-APPLE-RADIUS=500;X-TITLE=4736 40th Ave. SW:geo:-122.3825589,47.5600056
END:VEVENT
BEGIN:VEVENT
DTSTART;TZID=America/Los_Angeles:20130504T170000
DTEND;TZID=America/Los_Angeles:20130504T210000
DTSTAMP:20260423T123647
CREATED:20121001T194943Z
LAST-MODIFIED:20121124T052013Z
UID:667-1367686800-1367701200@alki152.org
SUMMARY:Lodge Alba #315
DESCRIPTION:
URL:https://alki152.org/event/lodge-alba-315-2/2013-05-04/
LOCATION:Alki Masonic Center\, 4736 40th Ave. SW\, Seattle\, WA\, 98116\, United States
CATEGORIES:Lodge Alba,Masonic Family
GEO:47.5600056;-122.3825589
X-APPLE-STRUCTURED-LOCATION;VALUE=URI;X-ADDRESS=Alki Masonic Center 4736 40th Ave. SW Seattle WA 98116 United States;X-APPLE-RADIUS=500;X-TITLE=4736 40th Ave. SW:geo:-122.3825589,47.5600056
END:VEVENT
BEGIN:VEVENT
DTSTART;TZID=America/Los_Angeles:20130520T170000
DTEND;TZID=America/Los_Angeles:20130520T210000
DTSTAMP:20260423T123647
CREATED:20121030T193332Z
LAST-MODIFIED:20121124T053734Z
UID:745-1369069200-1369083600@alki152.org
SUMMARY:Alki Lodge #152 - School Awards
DESCRIPTION:Annual School Awards presentation to Students of Chief Sealth and West Seattle High School.
URL:https://alki152.org/event/alki-ritual-night-2-2/
LOCATION:Alki Masonic Center\, 4736 40th Ave. SW\, Seattle\, WA\, 98116\, United States
CATEGORIES:Alki Lodge,Masonic Family
ORGANIZER;CN="Dick Syson%2C Secretary":MAILTO:nosys@comcast.net
GEO:47.5600056;-122.3825589
X-APPLE-STRUCTURED-LOCATION;VALUE=URI;X-ADDRESS=Alki Masonic Center 4736 40th Ave. SW Seattle WA 98116 United States;X-APPLE-RADIUS=500;X-TITLE=4736 40th Ave. SW:geo:-122.3825589,47.5600056
END:VEVENT
BEGIN:VEVENT
DTSTART;TZID=America/Los_Angeles:20130530T180000
DTEND;TZID=America/Los_Angeles:20130530T220000
DTSTAMP:20260423T123647
CREATED:20130513T204851Z
LAST-MODIFIED:20130513T204851Z
UID:1228-1369936800-1369951200@alki152.org
SUMMARY:Alki Lodge #152 - Ladies Night
DESCRIPTION:
URL:https://alki152.org/event/alki-lodge-152-ladies-night-3/
LOCATION:Alki Masonic Center\, 4736 40th Ave. SW\, Seattle\, WA\, 98116\, United States
CATEGORIES:Alki Lodge,Masonic Family
GEO:47.5600056;-122.3825589
X-APPLE-STRUCTURED-LOCATION;VALUE=URI;X-ADDRESS=Alki Masonic Center 4736 40th Ave. SW Seattle WA 98116 United States;X-APPLE-RADIUS=500;X-TITLE=4736 40th Ave. SW:geo:-122.3825589,47.5600056
END:VEVENT
BEGIN:VEVENT
DTSTART;TZID=America/Los_Angeles:20130923T180000
DTEND;TZID=America/Los_Angeles:20130923T220000
DTSTAMP:20260423T123647
CREATED:20130702T032139Z
LAST-MODIFIED:20130702T040316Z
UID:1275-1379959200-1379973600@alki152.org
SUMMARY:Alki Lodge #152 3rd Degree
DESCRIPTION:
URL:https://alki152.org/event/third-degree/
LOCATION:Alki Masonic Center\, 4736 40th Ave. SW\, Seattle\, WA\, 98116\, United States
CATEGORIES:Alki Lodge,Masonic Family
GEO:47.5600056;-122.3825589
X-APPLE-STRUCTURED-LOCATION;VALUE=URI;X-ADDRESS=Alki Masonic Center 4736 40th Ave. SW Seattle WA 98116 United States;X-APPLE-RADIUS=500;X-TITLE=4736 40th Ave. SW:geo:-122.3825589,47.5600056
END:VEVENT
BEGIN:VEVENT
DTSTART;TZID=America/Los_Angeles:20131023T180000
DTEND;TZID=America/Los_Angeles:20131023T220000
DTSTAMP:20260423T123647
CREATED:20121002T172522Z
LAST-MODIFIED:20121124T055029Z
UID:705-1382551200-1382565600@alki152.org
SUMMARY:Alki Lodge #152 - Wednesday Night Lodge
DESCRIPTION:Alki Lodge #152 Stated Meeting
URL:https://alki152.org/event/alki-lodge-152-wednesday-night-lodge-2/
LOCATION:Alki Masonic Center\, 4736 40th Ave. SW\, Seattle\, WA\, 98116\, United States
CATEGORIES:Alki Lodge,Masonic Family
ORGANIZER;CN="Dick Syson%2C Secretary":MAILTO:nosys@comcast.net
GEO:47.5600056;-122.3825589
X-APPLE-STRUCTURED-LOCATION;VALUE=URI;X-ADDRESS=Alki Masonic Center 4736 40th Ave. SW Seattle WA 98116 United States;X-APPLE-RADIUS=500;X-TITLE=4736 40th Ave. SW:geo:-122.3825589,47.5600056
END:VEVENT
BEGIN:VEVENT
DTSTART;TZID=America/Los_Angeles:20131125T180000
DTEND;TZID=America/Los_Angeles:20131125T190000
DTSTAMP:20260423T123647
CREATED:20130422T160432Z
LAST-MODIFIED:20130422T160432Z
UID:1178-1385402400-1385406000@alki152.org
SUMMARY:Alki Lodge #152 - Officers Dinner
DESCRIPTION:Installation practice and Officers dinner
URL:https://alki152.org/event/alki-lodge-152-officers-dinner/
LOCATION:Alki Masonic Center\, 4736 40th Ave. SW\, Seattle\, WA\, 98116\, United States
CATEGORIES:Alki Lodge,Masonic Family,Private Event
GEO:47.5600056;-122.3825589
X-APPLE-STRUCTURED-LOCATION;VALUE=URI;X-ADDRESS=Alki Masonic Center 4736 40th Ave. SW Seattle WA 98116 United States;X-APPLE-RADIUS=500;X-TITLE=4736 40th Ave. SW:geo:-122.3825589,47.5600056
END:VEVENT
BEGIN:VEVENT
DTSTART;TZID=America/Los_Angeles:20131207T160000
DTEND;TZID=America/Los_Angeles:20131207T230000
DTSTAMP:20260423T123647
CREATED:20121001T214623Z
LAST-MODIFIED:20130422T160515Z
UID:684-1386432000-1386457200@alki152.org
SUMMARY:Alki Lodge #152 - Installation of Officers
DESCRIPTION:
URL:https://alki152.org/event/alki-lodge-152-installation-of-officers/
LOCATION:Alki Masonic Center\, 4736 40th Ave. SW\, Seattle\, WA\, 98116\, United States
CATEGORIES:Alki Lodge,Masonic Family,Public Event
ORGANIZER;CN="Dick Syson%2C Secretary":MAILTO:nosys@comcast.net
GEO:47.5600056;-122.3825589
X-APPLE-STRUCTURED-LOCATION;VALUE=URI;X-ADDRESS=Alki Masonic Center 4736 40th Ave. SW Seattle WA 98116 United States;X-APPLE-RADIUS=500;X-TITLE=4736 40th Ave. SW:geo:-122.3825589,47.5600056
END:VEVENT
BEGIN:VEVENT
DTSTART;TZID=America/Los_Angeles:20140511T080000
DTEND;TZID=America/Los_Angeles:20140511T120000
DTSTAMP:20260423T123647
CREATED:20140210T034257Z
LAST-MODIFIED:20140210T034257Z
UID:1501-1399795200-1399809600@alki152.org
SUMMARY:Alki Lodge Mother's Day Breakfast
DESCRIPTION:
URL:https://alki152.org/event/alki-lodge-mothers-day-breakfast/
LOCATION:Alki Masonic Center\, 4736 40th Ave. SW\, Seattle\, WA\, 98116\, United States
CATEGORIES:Masonic Family,Public Event
GEO:47.5600056;-122.3825589
X-APPLE-STRUCTURED-LOCATION;VALUE=URI;X-ADDRESS=Alki Masonic Center 4736 40th Ave. SW Seattle WA 98116 United States;X-APPLE-RADIUS=500;X-TITLE=4736 40th Ave. SW:geo:-122.3825589,47.5600056
END:VEVENT
BEGIN:VEVENT
DTSTART;TZID=America/Los_Angeles:20140519T190000
DTEND;TZID=America/Los_Angeles:20140519T210000
DTSTAMP:20260423T123647
CREATED:20140210T034547Z
LAST-MODIFIED:20140210T034906Z
UID:1502-1400526000-1400533200@alki152.org
SUMMARY:Alki Lodge #152 School Awards
DESCRIPTION:
URL:https://alki152.org/event/alki-masonic-lodge-school-awards/
LOCATION:Alki Masonic Center\, 4736 40th Ave. SW\, Seattle\, WA\, 98116\, United States
CATEGORIES:Alki Lodge,Masonic Family,Public Event
GEO:47.5600056;-122.3825589
X-APPLE-STRUCTURED-LOCATION;VALUE=URI;X-ADDRESS=Alki Masonic Center 4736 40th Ave. SW Seattle WA 98116 United States;X-APPLE-RADIUS=500;X-TITLE=4736 40th Ave. SW:geo:-122.3825589,47.5600056
END:VEVENT
BEGIN:VEVENT
DTSTART;TZID=America/Los_Angeles:20140530T180000
DTEND;TZID=America/Los_Angeles:20140530T220000
DTSTAMP:20260423T123647
CREATED:20140210T034656Z
LAST-MODIFIED:20140417T165801Z
UID:1503-1401472800-1401487200@alki152.org
SUMMARY:Alki Lodge #152 Ladies Night
DESCRIPTION:
URL:https://alki152.org/event/alki-lodge-ladies-night/
LOCATION:Alki Masonic Center\, 4736 40th Ave. SW\, Seattle\, WA\, 98116\, United States
CATEGORIES:Alki Lodge,Masonic Family,Public Event
GEO:47.5600056;-122.3825589
X-APPLE-STRUCTURED-LOCATION;VALUE=URI;X-ADDRESS=Alki Masonic Center 4736 40th Ave. SW Seattle WA 98116 United States;X-APPLE-RADIUS=500;X-TITLE=4736 40th Ave. SW:geo:-122.3825589,47.5600056
END:VEVENT
BEGIN:VEVENT
DTSTART;TZID=America/Los_Angeles:20141220T160000
DTEND;TZID=America/Los_Angeles:20141220T230000
DTSTAMP:20260423T123647
CREATED:20130530T015510Z
LAST-MODIFIED:20140604T215046Z
UID:1242-1419091200-1419116400@alki152.org
SUMMARY:Alki Lodge #152 Officers Installation
DESCRIPTION:
URL:https://alki152.org/event/alki-lodge-152-officers-installation-2/
LOCATION:Alki Masonic Center\, 4736 40th Ave. SW\, Seattle\, WA\, 98116\, United States
CATEGORIES:Alki Lodge,Masonic Family,Public Event
GEO:47.5600056;-122.3825589
X-APPLE-STRUCTURED-LOCATION;VALUE=URI;X-ADDRESS=Alki Masonic Center 4736 40th Ave. SW Seattle WA 98116 United States;X-APPLE-RADIUS=500;X-TITLE=4736 40th Ave. SW:geo:-122.3825589,47.5600056
END:VEVENT
BEGIN:VEVENT
DTSTART;TZID=America/Los_Angeles:20150207T170000
DTEND;TZID=America/Los_Angeles:20150207T210000
DTSTAMP:20260423T123647
CREATED:20121001T194943Z
LAST-MODIFIED:20141218T030118Z
UID:1880-1423328400-1423342800@alki152.org
SUMMARY:Lodge Alba #315
DESCRIPTION:
URL:https://alki152.org/event/lodge-alba-315-2-2015-02-07/2015-02-07/
LOCATION:Alki Masonic Center\, 4736 40th Ave. SW\, Seattle\, WA\, 98116\, United States
CATEGORIES:Lodge Alba,Masonic Family
GEO:47.5600056;-122.3825589
X-APPLE-STRUCTURED-LOCATION;VALUE=URI;X-ADDRESS=Alki Masonic Center 4736 40th Ave. SW Seattle WA 98116 United States;X-APPLE-RADIUS=500;X-TITLE=4736 40th Ave. SW:geo:-122.3825589,47.5600056
END:VEVENT
BEGIN:VEVENT
DTSTART;TZID=America/Los_Angeles:20150228T170000
DTEND;TZID=America/Los_Angeles:20150228T200000
DTSTAMP:20260423T123647
CREATED:20141124T223436Z
LAST-MODIFIED:20141124T223436Z
UID:3675-1425142800-1425153600@alki152.org
SUMMARY:Alki Lodge #152 Crab Feed
DESCRIPTION:
URL:https://alki152.org/event/alki-lodge-152-crab-feed-2/
LOCATION:Alki Masonic Center\, 4736 40th Ave. SW\, Seattle\, WA\, 98116\, United States
CATEGORIES:Alki Lodge,Masonic Family,Public Event
GEO:47.5600056;-122.3825589
X-APPLE-STRUCTURED-LOCATION;VALUE=URI;X-ADDRESS=Alki Masonic Center 4736 40th Ave. SW Seattle WA 98116 United States;X-APPLE-RADIUS=500;X-TITLE=4736 40th Ave. SW:geo:-122.3825589,47.5600056
END:VEVENT
BEGIN:VEVENT
DTSTART;TZID=America/Los_Angeles:20150518T180000
DTEND;TZID=America/Los_Angeles:20150518T220000
DTSTAMP:20260423T123647
CREATED:20121124T054229Z
LAST-MODIFIED:20170614T003208Z
UID:2056-1431972000-1431986400@alki152.org
SUMMARY:Alki Lodge #152 School Awards
DESCRIPTION:
URL:https://alki152.org/event/alki-lodge-152-ritual-2-2-2015-05-18/
LOCATION:Alki Masonic Center\, 4736 40th Ave. SW\, Seattle\, WA\, 98116\, United States
CATEGORIES:Alki Lodge,Masonic Family
ORGANIZER;CN="Dick Syson%2C Secretary":MAILTO:nosys@comcast.net
GEO:47.5600056;-122.3825589
X-APPLE-STRUCTURED-LOCATION;VALUE=URI;X-ADDRESS=Alki Masonic Center 4736 40th Ave. SW Seattle WA 98116 United States;X-APPLE-RADIUS=500;X-TITLE=4736 40th Ave. SW:geo:-122.3825589,47.5600056
END:VEVENT
BEGIN:VEVENT
DTSTART;TZID=America/Los_Angeles:20150529T180000
DTEND;TZID=America/Los_Angeles:20150529T220000
DTSTAMP:20260423T123647
CREATED:20150308T000121Z
LAST-MODIFIED:20150308T000121Z
UID:3889-1432922400-1432936800@alki152.org
SUMMARY:Alki Lodge #152 Ladies Night
DESCRIPTION:
URL:https://alki152.org/event/alki-lodge-152-ladies-night-4/
LOCATION:Alki Masonic Center\, 4736 40th Ave. SW\, Seattle\, WA\, 98116\, United States
CATEGORIES:Alki Lodge,Masonic Family
GEO:47.5600056;-122.3825589
X-APPLE-STRUCTURED-LOCATION;VALUE=URI;X-ADDRESS=Alki Masonic Center 4736 40th Ave. SW Seattle WA 98116 United States;X-APPLE-RADIUS=500;X-TITLE=4736 40th Ave. SW:geo:-122.3825589,47.5600056
END:VEVENT
BEGIN:VEVENT
DTSTART;TZID=America/Los_Angeles:20150601T183000
DTEND;TZID=America/Los_Angeles:20150601T213000
DTSTAMP:20260423T123647
CREATED:20130628T214532Z
LAST-MODIFIED:20170614T003241Z
UID:2386-1433183400-1433194200@alki152.org
SUMMARY:Alki Lodge #152 Past Masters Night
DESCRIPTION:
URL:https://alki152.org/event/alki-lodge-stated-meeting-3-4-3-2015-06-01/
LOCATION:Alki Masonic Center\, 4736 40th Ave. SW\, Seattle\, WA\, 98116\, United States
CATEGORIES:Alki Lodge,Masonic Family
ORGANIZER;CN="Dick Syson%2C Secretary":MAILTO:nosys@comcast.net
GEO:47.5600056;-122.3825589
X-APPLE-STRUCTURED-LOCATION;VALUE=URI;X-ADDRESS=Alki Masonic Center 4736 40th Ave. SW Seattle WA 98116 United States;X-APPLE-RADIUS=500;X-TITLE=4736 40th Ave. SW:geo:-122.3825589,47.5600056
END:VEVENT
BEGIN:VEVENT
DTSTART;TZID=America/Los_Angeles:20150615T180000
DTEND;TZID=America/Los_Angeles:20150615T220000
DTSTAMP:20260423T123647
CREATED:20170614T191348Z
LAST-MODIFIED:20170614T191551Z
UID:7099-1434391200-1434405600@alki152.org
SUMMARY:Alki Lodge #152 Ritual/Education Night
DESCRIPTION:
URL:https://alki152.org/event/alki-lodge-152-ritualeducation-night/2015-06-15/
LOCATION:Alki Masonic Center\, 4736 40th Ave. SW\, Seattle\, WA\, 98116\, United States
CATEGORIES:Alki Lodge,Masonic Family
GEO:47.5600056;-122.3825589
X-APPLE-STRUCTURED-LOCATION;VALUE=URI;X-ADDRESS=Alki Masonic Center 4736 40th Ave. SW Seattle WA 98116 United States;X-APPLE-RADIUS=500;X-TITLE=4736 40th Ave. SW:geo:-122.3825589,47.5600056
END:VEVENT
BEGIN:VEVENT
DTSTART;TZID=America/Los_Angeles:20150619T190000
DTEND;TZID=America/Los_Angeles:20150619T210000
DTSTAMP:20260423T123647
CREATED:20150226T021025Z
LAST-MODIFIED:20150308T000247Z
UID:3872-1434740400-1434747600@alki152.org
SUMMARY:Alki Lodge #152 Table Lodge and LOMA Meeting
DESCRIPTION:
URL:https://alki152.org/event/alki-lodge-feast-of-st-john/
LOCATION:Alki Masonic Center\, 4736 40th Ave. SW\, Seattle\, WA\, 98116\, United States
CATEGORIES:Alki Lodge,Masonic Family
GEO:47.5600056;-122.3825589
X-APPLE-STRUCTURED-LOCATION;VALUE=URI;X-ADDRESS=Alki Masonic Center 4736 40th Ave. SW Seattle WA 98116 United States;X-APPLE-RADIUS=500;X-TITLE=4736 40th Ave. SW:geo:-122.3825589,47.5600056
END:VEVENT
BEGIN:VEVENT
DTSTART;TZID=America/Los_Angeles:20150831T180000
DTEND;TZID=America/Los_Angeles:20150831T220000
DTSTAMP:20260423T123647
CREATED:20150818T185656Z
LAST-MODIFIED:20170614T003350Z
UID:4020-1441044000-1441058400@alki152.org
SUMMARY:Alki Lodge #152 - Rusty Mason's Degree
DESCRIPTION:I am pleased to announce on August 31st Alki Lodge will be holding a Rusty Mason’s Degree Night and Masonic Education. Dinner will be at 6pm and lodge will open at 7pm. This event is designed to remind us of our masonic teachings and to encourage masons who have not attended lodge for a while to be reminded of the signs\, passes\, herpes and symbols in a casual environment. \nI am asking all officers to attend. We will be formally opening and closing lodge but will have narrative on why the ritual has us preform such duties. Please encourage someone you know who has not attended lodge for awhile to come join us. Dress will be casual. The education will be free and the fellowship will be fun.
URL:https://alki152.org/event/alki-lodge-152-rusty-masons-degree/
LOCATION:Alki Masonic Center\, 4736 40th Ave. SW\, Seattle\, WA\, 98116\, United States
CATEGORIES:Alki Lodge,Masonic Family
GEO:47.5600056;-122.3825589
X-APPLE-STRUCTURED-LOCATION;VALUE=URI;X-ADDRESS=Alki Masonic Center 4736 40th Ave. SW Seattle WA 98116 United States;X-APPLE-RADIUS=500;X-TITLE=4736 40th Ave. SW:geo:-122.3825589,47.5600056
END:VEVENT
END:VCALENDAR