BEGIN:VCALENDAR
VERSION:2.0
PRODID:-//Alki Masonic Lodge #152 - ECPv6.15.20//NONSGML v1.0//EN
CALSCALE:GREGORIAN
METHOD:PUBLISH
X-WR-CALNAME:Alki Masonic Lodge #152
X-ORIGINAL-URL:https://alki152.org
X-WR-CALDESC:Events for Alki Masonic Lodge #152
REFRESH-INTERVAL;VALUE=DURATION:PT1H
X-Robots-Tag:noindex
X-PUBLISHED-TTL:PT1H
BEGIN:VTIMEZONE
TZID:America/Los_Angeles
BEGIN:DAYLIGHT
TZOFFSETFROM:-0800
TZOFFSETTO:-0700
TZNAME:PDT
DTSTART:20110313T100000
END:DAYLIGHT
BEGIN:STANDARD
TZOFFSETFROM:-0700
TZOFFSETTO:-0800
TZNAME:PST
DTSTART:20111106T090000
END:STANDARD
BEGIN:DAYLIGHT
TZOFFSETFROM:-0800
TZOFFSETTO:-0700
TZNAME:PDT
DTSTART:20120311T100000
END:DAYLIGHT
BEGIN:STANDARD
TZOFFSETFROM:-0700
TZOFFSETTO:-0800
TZNAME:PST
DTSTART:20121104T090000
END:STANDARD
BEGIN:DAYLIGHT
TZOFFSETFROM:-0800
TZOFFSETTO:-0700
TZNAME:PDT
DTSTART:20130310T100000
END:DAYLIGHT
BEGIN:STANDARD
TZOFFSETFROM:-0700
TZOFFSETTO:-0800
TZNAME:PST
DTSTART:20131103T090000
END:STANDARD
END:VTIMEZONE
BEGIN:VEVENT
DTSTART;TZID=America/Los_Angeles:20120127T160000
DTEND;TZID=America/Los_Angeles:20120127T230000
DTSTAMP:20260423T161849
CREATED:20121109T215928Z
LAST-MODIFIED:20121202T222619Z
UID:914-1327680000-1327705200@alki152.org
SUMMARY:Private Rental
DESCRIPTION:Content is protected.
URL:https://alki152.org/event/private-rental-15/
LOCATION:Alki Masonic Center\, 4736 40th Ave. SW\, Seattle\, WA\, 98116\, United States
CATEGORIES:Private Event
GEO:47.5600056;-122.3825589
X-APPLE-STRUCTURED-LOCATION;VALUE=URI;X-ADDRESS=Alki Masonic Center 4736 40th Ave. SW Seattle WA 98116 United States;X-APPLE-RADIUS=500;X-TITLE=4736 40th Ave. SW:geo:-122.3825589,47.5600056
END:VEVENT
BEGIN:VEVENT
DTSTART;TZID=America/Los_Angeles:20120128T130000
DTEND;TZID=America/Los_Angeles:20120128T170000
DTSTAMP:20260423T161849
CREATED:20121109T220029Z
LAST-MODIFIED:20121124T040851Z
UID:915-1327755600-1327770000@alki152.org
SUMMARY:Rainbow Girls - Installation
DESCRIPTION:
URL:https://alki152.org/event/rainbow-girls-installation/
LOCATION:Alki Masonic Center\, 4736 40th Ave. SW\, Seattle\, WA\, 98116\, United States
CATEGORIES:Masonic Family,Rainbow
GEO:47.5600056;-122.3825589
X-APPLE-STRUCTURED-LOCATION;VALUE=URI;X-ADDRESS=Alki Masonic Center 4736 40th Ave. SW Seattle WA 98116 United States;X-APPLE-RADIUS=500;X-TITLE=4736 40th Ave. SW:geo:-122.3825589,47.5600056
END:VEVENT
BEGIN:VEVENT
DTSTART;TZID=America/Los_Angeles:20120129T140000
DTEND;TZID=America/Los_Angeles:20120129T170000
DTSTAMP:20260423T161849
CREATED:20121109T220701Z
LAST-MODIFIED:20121109T220701Z
UID:916-1327845600-1327856400@alki152.org
SUMMARY:Masonic Memorial - Milt Benson
DESCRIPTION:
URL:https://alki152.org/event/masonic-memorial-milt-benson/
LOCATION:Alki Masonic Center – Lodge Room\, 4736 40th Ave. SW\, Seattle\, WA\, 98116\, United States
CATEGORIES:Masonic Family
GEO:47.5600056;-122.3825589
X-APPLE-STRUCTURED-LOCATION;VALUE=URI;X-ADDRESS=Alki Masonic Center – Lodge Room 4736 40th Ave. SW Seattle WA 98116 United States;X-APPLE-RADIUS=500;X-TITLE=4736 40th Ave. SW:geo:-122.3825589,47.5600056
END:VEVENT
BEGIN:VEVENT
DTSTART;TZID=America/Los_Angeles:20120204T170000
DTEND;TZID=America/Los_Angeles:20120204T220000
DTSTAMP:20260423T161849
CREATED:20121109T221204Z
LAST-MODIFIED:20121124T051628Z
UID:917-1328374800-1328392800@alki152.org
SUMMARY:Lodge Alba #315
DESCRIPTION:
URL:https://alki152.org/event/lodge-alba-315-4/
LOCATION:Alki Masonic Center\, 4736 40th Ave. SW\, Seattle\, WA\, 98116\, United States
CATEGORIES:Lodge Alba,Masonic Family
GEO:47.5600056;-122.3825589
X-APPLE-STRUCTURED-LOCATION;VALUE=URI;X-ADDRESS=Alki Masonic Center 4736 40th Ave. SW Seattle WA 98116 United States;X-APPLE-RADIUS=500;X-TITLE=4736 40th Ave. SW:geo:-122.3825589,47.5600056
END:VEVENT
BEGIN:VEVENT
DTSTART;TZID=America/Los_Angeles:20120205T143000
DTEND;TZID=America/Los_Angeles:20120205T220000
DTSTAMP:20260423T161849
CREATED:20121109T213515Z
LAST-MODIFIED:20121109T213515Z
UID:907-1328452200-1328479200@alki152.org
SUMMARY:Seattle Swing Dance Club
DESCRIPTION:
URL:https://alki152.org/event/seattle-swing-dance-club-10/2012-02-05/
LOCATION:Alki Masonic Center\, 4736 40th Ave. SW\, Seattle\, WA\, 98116\, United States
CATEGORIES:Public Event
GEO:47.5600056;-122.3825589
X-APPLE-STRUCTURED-LOCATION;VALUE=URI;X-ADDRESS=Alki Masonic Center 4736 40th Ave. SW Seattle WA 98116 United States;X-APPLE-RADIUS=500;X-TITLE=4736 40th Ave. SW:geo:-122.3825589,47.5600056
END:VEVENT
BEGIN:VEVENT
DTSTART;TZID=America/Los_Angeles:20120211T030000
DTEND;TZID=America/Los_Angeles:20120211T230000
DTSTAMP:20260423T161849
CREATED:20121109T221352Z
LAST-MODIFIED:20121109T221352Z
UID:918-1328929200-1329001200@alki152.org
SUMMARY:Public Rental - Sadie Hawkins Dance
DESCRIPTION:
URL:https://alki152.org/event/public-rental-sadie-hawkins-dance/
LOCATION:Alki Masonic Center\, 4736 40th Ave. SW\, Seattle\, WA\, 98116\, United States
CATEGORIES:Public Event
GEO:47.5600056;-122.3825589
X-APPLE-STRUCTURED-LOCATION;VALUE=URI;X-ADDRESS=Alki Masonic Center 4736 40th Ave. SW Seattle WA 98116 United States;X-APPLE-RADIUS=500;X-TITLE=4736 40th Ave. SW:geo:-122.3825589,47.5600056
END:VEVENT
BEGIN:VEVENT
DTSTART;TZID=America/Los_Angeles:20120212T120000
DTEND;TZID=America/Los_Angeles:20120212T210000
DTSTAMP:20260423T161849
CREATED:20121109T221515Z
LAST-MODIFIED:20121212T012456Z
UID:919-1329048000-1329080400@alki152.org
SUMMARY:Eastern Star King County - Friendship Dinner
DESCRIPTION:
URL:https://alki152.org/event/public-rental-kclo-friendship-dinner/
LOCATION:Alki Masonic Center\, 4736 40th Ave. SW\, Seattle\, WA\, 98116\, United States
CATEGORIES:Amethyst,Crown,Masonic Family,Public Event
GEO:47.5600056;-122.3825589
X-APPLE-STRUCTURED-LOCATION;VALUE=URI;X-ADDRESS=Alki Masonic Center 4736 40th Ave. SW Seattle WA 98116 United States;X-APPLE-RADIUS=500;X-TITLE=4736 40th Ave. SW:geo:-122.3825589,47.5600056
END:VEVENT
BEGIN:VEVENT
DTSTART;TZID=America/Los_Angeles:20120218T080000
DTEND;TZID=America/Los_Angeles:20120218T120000
DTSTAMP:20260423T161849
CREATED:20121109T221759Z
LAST-MODIFIED:20121124T052332Z
UID:921-1329552000-1329566400@alki152.org
SUMMARY:Alki Lodge #152 - Pancake Breakfast
DESCRIPTION:
URL:https://alki152.org/event/alki-lodge-152-pancake-breakfast/
LOCATION:Alki Masonic Center\, 4736 40th Ave. SW\, Seattle\, WA\, 98116\, United States
CATEGORIES:Alki Lodge,Masonic Family,Public Event
ORGANIZER;CN="Dick Syson%2C Secretary":MAILTO:nosys@comcast.net
GEO:47.5600056;-122.3825589
X-APPLE-STRUCTURED-LOCATION;VALUE=URI;X-ADDRESS=Alki Masonic Center 4736 40th Ave. SW Seattle WA 98116 United States;X-APPLE-RADIUS=500;X-TITLE=4736 40th Ave. SW:geo:-122.3825589,47.5600056
END:VEVENT
BEGIN:VEVENT
DTSTART;TZID=America/Los_Angeles:20120225T170000
DTEND;TZID=America/Los_Angeles:20120225T170000
DTSTAMP:20260423T161849
CREATED:20121109T221900Z
LAST-MODIFIED:20121109T221900Z
UID:922-1330189200-1330189200@alki152.org
SUMMARY:Private Rental - Old Rides
DESCRIPTION:
URL:https://alki152.org/event/private-rental-old-rides-7/
LOCATION:Alki Masonic Center\, 4736 40th Ave. SW\, Seattle\, WA\, 98116\, United States
CATEGORIES:Private Event
GEO:47.5600056;-122.3825589
X-APPLE-STRUCTURED-LOCATION;VALUE=URI;X-ADDRESS=Alki Masonic Center 4736 40th Ave. SW Seattle WA 98116 United States;X-APPLE-RADIUS=500;X-TITLE=4736 40th Ave. SW:geo:-122.3825589,47.5600056
END:VEVENT
BEGIN:VEVENT
DTSTART;TZID=America/Los_Angeles:20120226T160000
DTEND;TZID=America/Los_Angeles:20120226T200000
DTSTAMP:20260423T161849
CREATED:20121109T222034Z
LAST-MODIFIED:20121124T041845Z
UID:923-1330272000-1330286400@alki152.org
SUMMARY:Rainbow Girls - Hall
DESCRIPTION:
URL:https://alki152.org/event/rainbow-girls-21/
LOCATION:Alki Masonic Center\, 4736 40th Ave. SW\, Seattle\, WA\, 98116\, United States
CATEGORIES:Masonic Family,Rainbow
GEO:47.5600056;-122.3825589
X-APPLE-STRUCTURED-LOCATION;VALUE=URI;X-ADDRESS=Alki Masonic Center 4736 40th Ave. SW Seattle WA 98116 United States;X-APPLE-RADIUS=500;X-TITLE=4736 40th Ave. SW:geo:-122.3825589,47.5600056
END:VEVENT
BEGIN:VEVENT
DTSTART;TZID=America/Los_Angeles:20120227T190000
DTEND;TZID=America/Los_Angeles:20120227T210000
DTSTAMP:20260423T161849
CREATED:20121109T222219Z
LAST-MODIFIED:20121109T222219Z
UID:924-1330369200-1330376400@alki152.org
SUMMARY:Alki Temple Board
DESCRIPTION:
URL:https://alki152.org/event/alki-temple-board/2012-02-27/
LOCATION:Alki Masonic Center\, 4736 40th Ave. SW\, Seattle\, WA\, 98116\, United States
CATEGORIES:Masonic Family
GEO:47.5600056;-122.3825589
X-APPLE-STRUCTURED-LOCATION;VALUE=URI;X-ADDRESS=Alki Masonic Center 4736 40th Ave. SW Seattle WA 98116 United States;X-APPLE-RADIUS=500;X-TITLE=4736 40th Ave. SW:geo:-122.3825589,47.5600056
END:VEVENT
BEGIN:VEVENT
DTSTART;TZID=America/Los_Angeles:20120304T140000
DTEND;TZID=America/Los_Angeles:20120304T170000
DTSTAMP:20260423T161849
CREATED:20121110T075024Z
LAST-MODIFIED:20121124T041013Z
UID:932-1330869600-1330880400@alki152.org
SUMMARY:Rainbow Girls
DESCRIPTION:
URL:https://alki152.org/event/rainbow-girls-22/
LOCATION:Alki Masonic Center – Lodge Room\, 4736 40th Ave. SW\, Seattle\, WA\, 98116\, United States
CATEGORIES:Masonic Family,Rainbow
GEO:47.5600056;-122.3825589
X-APPLE-STRUCTURED-LOCATION;VALUE=URI;X-ADDRESS=Alki Masonic Center – Lodge Room 4736 40th Ave. SW Seattle WA 98116 United States;X-APPLE-RADIUS=500;X-TITLE=4736 40th Ave. SW:geo:-122.3825589,47.5600056
END:VEVENT
BEGIN:VEVENT
DTSTART;TZID=America/Los_Angeles:20120310T040000
DTEND;TZID=America/Los_Angeles:20120310T230000
DTSTAMP:20260423T161849
CREATED:20121110T075217Z
LAST-MODIFIED:20121202T222928Z
UID:934-1331352000-1331420400@alki152.org
SUMMARY:Private Rental
DESCRIPTION:Content is protected.
URL:https://alki152.org/event/private-rental-16/
LOCATION:Alki Masonic Center\, 4736 40th Ave. SW\, Seattle\, WA\, 98116\, United States
CATEGORIES:Private Event
GEO:47.5600056;-122.3825589
X-APPLE-STRUCTURED-LOCATION;VALUE=URI;X-ADDRESS=Alki Masonic Center 4736 40th Ave. SW Seattle WA 98116 United States;X-APPLE-RADIUS=500;X-TITLE=4736 40th Ave. SW:geo:-122.3825589,47.5600056
END:VEVENT
BEGIN:VEVENT
DTSTART;TZID=America/Los_Angeles:20120310T060000
DTEND;TZID=America/Los_Angeles:20120310T140000
DTSTAMP:20260423T161849
CREATED:20121110T075119Z
LAST-MODIFIED:20121202T215540Z
UID:933-1331359200-1331388000@alki152.org
SUMMARY:Pacific Northwest Tool Collectors
DESCRIPTION:
URL:https://alki152.org/event/private-rental-tool-show-5/
LOCATION:Alki Masonic Center\, 4736 40th Ave. SW\, Seattle\, WA\, 98116\, United States
CATEGORIES:Private Event
GEO:47.5600056;-122.3825589
X-APPLE-STRUCTURED-LOCATION;VALUE=URI;X-ADDRESS=Alki Masonic Center 4736 40th Ave. SW Seattle WA 98116 United States;X-APPLE-RADIUS=500;X-TITLE=4736 40th Ave. SW:geo:-122.3825589,47.5600056
END:VEVENT
BEGIN:VEVENT
DTSTART;TZID=America/Los_Angeles:20120317T080000
DTEND;TZID=America/Los_Angeles:20120317T230000
DTSTAMP:20260423T161849
CREATED:20121110T075406Z
LAST-MODIFIED:20121124T041102Z
UID:935-1331971200-1332025200@alki152.org
SUMMARY:Rainbow Girls - GOR
DESCRIPTION:
URL:https://alki152.org/event/rainbow-girls-gor/
LOCATION:Alki Masonic Center\, 4736 40th Ave. SW\, Seattle\, WA\, 98116\, United States
CATEGORIES:Masonic Family,Rainbow
GEO:47.5600056;-122.3825589
X-APPLE-STRUCTURED-LOCATION;VALUE=URI;X-ADDRESS=Alki Masonic Center 4736 40th Ave. SW Seattle WA 98116 United States;X-APPLE-RADIUS=500;X-TITLE=4736 40th Ave. SW:geo:-122.3825589,47.5600056
END:VEVENT
BEGIN:VEVENT
DTSTART;TZID=America/Los_Angeles:20120321T183000
DTEND;TZID=America/Los_Angeles:20120321T220000
DTSTAMP:20260423T161849
CREATED:20121110T075517Z
LAST-MODIFIED:20121124T052421Z
UID:936-1332354600-1332367200@alki152.org
SUMMARY:Alki Lodge #152 - Ladies Night
DESCRIPTION:
URL:https://alki152.org/event/alki-lodge-152-ladies-night-2/
LOCATION:Alki Masonic Center\, 4736 40th Ave. SW\, Seattle\, WA\, 98116\, United States
CATEGORIES:Alki Lodge,Masonic Family
ORGANIZER;CN="Dick Syson%2C Secretary":MAILTO:nosys@comcast.net
GEO:47.5600056;-122.3825589
X-APPLE-STRUCTURED-LOCATION;VALUE=URI;X-ADDRESS=Alki Masonic Center 4736 40th Ave. SW Seattle WA 98116 United States;X-APPLE-RADIUS=500;X-TITLE=4736 40th Ave. SW:geo:-122.3825589,47.5600056
END:VEVENT
BEGIN:VEVENT
DTSTART;TZID=America/Los_Angeles:20120324T110000
DTEND;TZID=America/Los_Angeles:20120324T180000
DTSTAMP:20260423T161849
CREATED:20121110T075608Z
LAST-MODIFIED:20121202T223042Z
UID:937-1332586800-1332612000@alki152.org
SUMMARY:Private Rental
DESCRIPTION:Content is protected.
URL:https://alki152.org/event/private-rental-17/
LOCATION:Alki Masonic Center\, 4736 40th Ave. SW\, Seattle\, WA\, 98116\, United States
CATEGORIES:Private Event
GEO:47.5600056;-122.3825589
X-APPLE-STRUCTURED-LOCATION;VALUE=URI;X-ADDRESS=Alki Masonic Center 4736 40th Ave. SW Seattle WA 98116 United States;X-APPLE-RADIUS=500;X-TITLE=4736 40th Ave. SW:geo:-122.3825589,47.5600056
END:VEVENT
BEGIN:VEVENT
DTSTART;TZID=America/Los_Angeles:20120328T080000
DTEND;TZID=America/Los_Angeles:20120328T170000
DTSTAMP:20260423T161849
CREATED:20121227T000057Z
LAST-MODIFIED:20121227T000312Z
UID:1047-1332921600-1332954000@alki152.org
SUMMARY:Amaranth - Westgate Court
DESCRIPTION:
URL:https://alki152.org/event/amathyst-crown-chapter/
LOCATION:Alki Masonic Center\, 4736 40th Ave. SW\, Seattle\, WA\, 98116\, United States
CATEGORIES:Masonic Family,Westgate
ORGANIZER;CN="Sue Gibbs":MAILTO:westgateevents21@gmail.com
GEO:47.5600056;-122.3825589
X-APPLE-STRUCTURED-LOCATION;VALUE=URI;X-ADDRESS=Alki Masonic Center 4736 40th Ave. SW Seattle WA 98116 United States;X-APPLE-RADIUS=500;X-TITLE=4736 40th Ave. SW:geo:-122.3825589,47.5600056
END:VEVENT
BEGIN:VEVENT
DTSTART;TZID=America/Los_Angeles:20120331T170000
DTEND;TZID=America/Los_Angeles:20120331T210000
DTSTAMP:20260423T161849
CREATED:20121109T223234Z
LAST-MODIFIED:20121124T052447Z
UID:928-1333213200-1333227600@alki152.org
SUMMARY:Alki Lodge #152 - Crab Feed
DESCRIPTION:
URL:https://alki152.org/event/alki-lodge-152-crab-feed/
LOCATION:Alki Masonic Center\, 4736 40th Ave. SW\, Seattle\, WA\, 98116\, United States
CATEGORIES:Alki Lodge,Masonic Family,Public Event
ORGANIZER;CN="Dick Syson%2C Secretary":MAILTO:nosys@comcast.net
GEO:47.5600056;-122.3825589
X-APPLE-STRUCTURED-LOCATION;VALUE=URI;X-ADDRESS=Alki Masonic Center 4736 40th Ave. SW Seattle WA 98116 United States;X-APPLE-RADIUS=500;X-TITLE=4736 40th Ave. SW:geo:-122.3825589,47.5600056
END:VEVENT
BEGIN:VEVENT
DTSTART;TZID=America/Los_Angeles:20120406T180000
DTEND;TZID=America/Los_Angeles:20120406T220000
DTSTAMP:20260423T161849
CREATED:20121110T075818Z
LAST-MODIFIED:20121206T225829Z
UID:938-1333735200-1333749600@alki152.org
SUMMARY:Amaranth - Westgate Court - Installation
DESCRIPTION:
URL:https://alki152.org/event/amaranth-westgate-court-8-3/
LOCATION:Alki Masonic Center\, 4736 40th Ave. SW\, Seattle\, WA\, 98116\, United States
CATEGORIES:Masonic Family,Westgate
ORGANIZER;CN="Sue Gibbs":MAILTO:westgateevents21@gmail.com
GEO:47.5600056;-122.3825589
X-APPLE-STRUCTURED-LOCATION;VALUE=URI;X-ADDRESS=Alki Masonic Center 4736 40th Ave. SW Seattle WA 98116 United States;X-APPLE-RADIUS=500;X-TITLE=4736 40th Ave. SW:geo:-122.3825589,47.5600056
END:VEVENT
BEGIN:VEVENT
DTSTART;TZID=America/Los_Angeles:20120413T170000
DTEND;TZID=America/Los_Angeles:20120413T230000
DTSTAMP:20260423T161849
CREATED:20121110T075921Z
LAST-MODIFIED:20130513T185156Z
UID:939-1334336400-1334358000@alki152.org
SUMMARY:West Seattle Yacht Club
DESCRIPTION:
URL:https://alki152.org/event/private-rental-yacht-club-4-2/
LOCATION:Alki Masonic Center\, 4736 40th Ave. SW\, Seattle\, WA\, 98116\, United States
CATEGORIES:Private Event
GEO:47.5600056;-122.3825589
X-APPLE-STRUCTURED-LOCATION;VALUE=URI;X-ADDRESS=Alki Masonic Center 4736 40th Ave. SW Seattle WA 98116 United States;X-APPLE-RADIUS=500;X-TITLE=4736 40th Ave. SW:geo:-122.3825589,47.5600056
END:VEVENT
BEGIN:VEVENT
DTSTART;TZID=America/Los_Angeles:20120414T170000
DTEND;TZID=America/Los_Angeles:20120414T230000
DTSTAMP:20260423T161849
CREATED:20121110T080108Z
LAST-MODIFIED:20121210T050857Z
UID:940-1334422800-1334444400@alki152.org
SUMMARY:Eastern Star - Amethyst - Installation
DESCRIPTION:
URL:https://alki152.org/event/eastern-star-amethyst-installation/
LOCATION:Alki Masonic Center\, 4736 40th Ave. SW\, Seattle\, WA\, 98116\, United States
CATEGORIES:Amethyst,Masonic Family
GEO:47.5600056;-122.3825589
X-APPLE-STRUCTURED-LOCATION;VALUE=URI;X-ADDRESS=Alki Masonic Center 4736 40th Ave. SW Seattle WA 98116 United States;X-APPLE-RADIUS=500;X-TITLE=4736 40th Ave. SW:geo:-122.3825589,47.5600056
END:VEVENT
BEGIN:VEVENT
DTSTART;TZID=America/Los_Angeles:20120420T093000
DTEND;TZID=America/Los_Angeles:20120422T170000
DTSTAMP:20260423T161849
CREATED:20121110T080227Z
LAST-MODIFIED:20121208T055344Z
UID:941-1334914200-1335114000@alki152.org
SUMMARY:West Seattle Rock Club
DESCRIPTION:
URL:https://alki152.org/event/public-rental-west-seattle-rock-show/
LOCATION:Alki Masonic Center\, 4736 40th Ave. SW\, Seattle\, WA\, 98116\, United States
CATEGORIES:Public Event
GEO:47.5600056;-122.3825589
X-APPLE-STRUCTURED-LOCATION;VALUE=URI;X-ADDRESS=Alki Masonic Center 4736 40th Ave. SW Seattle WA 98116 United States;X-APPLE-RADIUS=500;X-TITLE=4736 40th Ave. SW:geo:-122.3825589,47.5600056
END:VEVENT
BEGIN:VEVENT
DTSTART;TZID=America/Los_Angeles:20120420T160000
DTEND;TZID=America/Los_Angeles:20120420T230000
DTSTAMP:20260423T161849
CREATED:20121109T221657Z
LAST-MODIFIED:20130419T184255Z
UID:920-1334937600-1334962800@alki152.org
SUMMARY:West Seattle Yacht Club
DESCRIPTION:
URL:https://alki152.org/event/private-rental-yacht-club-4/2012-04-20/
LOCATION:Alki Masonic Center\, 4736 40th Ave. SW\, Seattle\, WA\, 98116\, United States
CATEGORIES:Public Event
GEO:47.5600056;-122.3825589
X-APPLE-STRUCTURED-LOCATION;VALUE=URI;X-ADDRESS=Alki Masonic Center 4736 40th Ave. SW Seattle WA 98116 United States;X-APPLE-RADIUS=500;X-TITLE=4736 40th Ave. SW:geo:-122.3825589,47.5600056
END:VEVENT
BEGIN:VEVENT
DTSTART;TZID=America/Los_Angeles:20120425T183000
DTEND;TZID=America/Los_Angeles:20120425T220000
DTSTAMP:20260423T161849
CREATED:20121110T080347Z
LAST-MODIFIED:20121124T052553Z
UID:942-1335378600-1335391200@alki152.org
SUMMARY:Alki Lodge #152 - Wednesday Night Lodges
DESCRIPTION:
URL:https://alki152.org/event/alki-lodge-152-wednesday-night-lodges-2/
LOCATION:Alki Masonic Center\, 4736 40th Ave. SW\, Seattle\, WA\, 98116\, United States
CATEGORIES:Alki Lodge,Masonic Family
ORGANIZER;CN="Dick Syson%2C Secretary":MAILTO:nosys@comcast.net
GEO:47.5600056;-122.3825589
X-APPLE-STRUCTURED-LOCATION;VALUE=URI;X-ADDRESS=Alki Masonic Center 4736 40th Ave. SW Seattle WA 98116 United States;X-APPLE-RADIUS=500;X-TITLE=4736 40th Ave. SW:geo:-122.3825589,47.5600056
END:VEVENT
BEGIN:VEVENT
DTSTART;TZID=America/Los_Angeles:20120428T100000
DTEND;TZID=America/Los_Angeles:20120428T170000
DTSTAMP:20260423T161849
CREATED:20121110T080436Z
LAST-MODIFIED:20121110T080500Z
UID:943-1335607200-1335632400@alki152.org
SUMMARY:Daylight Lodge
DESCRIPTION:
URL:https://alki152.org/event/daylight-lodg/
LOCATION:Alki Masonic Center\, 4736 40th Ave. SW\, Seattle\, WA\, 98116\, United States
CATEGORIES:Masonic Family
GEO:47.5600056;-122.3825589
X-APPLE-STRUCTURED-LOCATION;VALUE=URI;X-ADDRESS=Alki Masonic Center 4736 40th Ave. SW Seattle WA 98116 United States;X-APPLE-RADIUS=500;X-TITLE=4736 40th Ave. SW:geo:-122.3825589,47.5600056
END:VEVENT
BEGIN:VEVENT
DTSTART;TZID=America/Los_Angeles:20120429T080000
DTEND;TZID=America/Los_Angeles:20120429T170000
DTSTAMP:20260423T161849
CREATED:20121110T080559Z
LAST-MODIFIED:20121124T041936Z
UID:944-1335686400-1335718800@alki152.org
SUMMARY:Rainbow Girls - Hall
DESCRIPTION:
URL:https://alki152.org/event/rainbow-girls-23/
LOCATION:Alki Masonic Center\, 4736 40th Ave. SW\, Seattle\, WA\, 98116\, United States
CATEGORIES:Masonic Family,Rainbow
GEO:47.5600056;-122.3825589
X-APPLE-STRUCTURED-LOCATION;VALUE=URI;X-ADDRESS=Alki Masonic Center 4736 40th Ave. SW Seattle WA 98116 United States;X-APPLE-RADIUS=500;X-TITLE=4736 40th Ave. SW:geo:-122.3825589,47.5600056
END:VEVENT
BEGIN:VEVENT
DTSTART;TZID=America/Los_Angeles:20120505T170000
DTEND;TZID=America/Los_Angeles:20120505T220000
DTSTAMP:20260423T161849
CREATED:20121202T214823Z
LAST-MODIFIED:20121202T214902Z
UID:976-1336237200-1336255200@alki152.org
SUMMARY:Lodge Alba #315
DESCRIPTION:
URL:https://alki152.org/event/lodge-alba-135/
LOCATION:Alki Masonic Center\, 4736 40th Ave. SW\, Seattle\, WA\, 98116\, United States
CATEGORIES:Lodge Alba,Masonic Family
GEO:47.5600056;-122.3825589
X-APPLE-STRUCTURED-LOCATION;VALUE=URI;X-ADDRESS=Alki Masonic Center 4736 40th Ave. SW Seattle WA 98116 United States;X-APPLE-RADIUS=500;X-TITLE=4736 40th Ave. SW:geo:-122.3825589,47.5600056
END:VEVENT
BEGIN:VEVENT
DTSTART;TZID=America/Los_Angeles:20120510T080000
DTEND;TZID=America/Los_Angeles:20120510T170000
DTSTAMP:20260423T161849
CREATED:20121202T215115Z
LAST-MODIFIED:20121202T215222Z
UID:977-1336636800-1336669200@alki152.org
SUMMARY:Eastern Star - Amethyst Chapter Special Event
DESCRIPTION:Nancy Lambert Unknown Rental – Needs validation that this was Amethyst Event
URL:https://alki152.org/event/eastern-star-amethyst-chapter-special-event/
LOCATION:Alki Masonic Center\, 4736 40th Ave. SW\, Seattle\, WA\, 98116\, United States
CATEGORIES:Amethyst,Masonic Family
GEO:47.5600056;-122.3825589
X-APPLE-STRUCTURED-LOCATION;VALUE=URI;X-ADDRESS=Alki Masonic Center 4736 40th Ave. SW Seattle WA 98116 United States;X-APPLE-RADIUS=500;X-TITLE=4736 40th Ave. SW:geo:-122.3825589,47.5600056
END:VEVENT
BEGIN:VEVENT
DTSTART;TZID=America/Los_Angeles:20120512T060000
DTEND;TZID=America/Los_Angeles:20120512T140000
DTSTAMP:20260423T161849
CREATED:20121202T215341Z
LAST-MODIFIED:20121202T215553Z
UID:979-1336802400-1336831200@alki152.org
SUMMARY:Pacific Northwest Tool Collectors
DESCRIPTION:
URL:https://alki152.org/event/private-rental-tool-show-6/
LOCATION:Alki Masonic Center\, 4736 40th Ave. SW\, Seattle\, WA\, 98116\, United States
CATEGORIES:Private Event
GEO:47.5600056;-122.3825589
X-APPLE-STRUCTURED-LOCATION;VALUE=URI;X-ADDRESS=Alki Masonic Center 4736 40th Ave. SW Seattle WA 98116 United States;X-APPLE-RADIUS=500;X-TITLE=4736 40th Ave. SW:geo:-122.3825589,47.5600056
END:VEVENT
END:VCALENDAR