BEGIN:VCALENDAR
VERSION:2.0
PRODID:-//Alki Masonic Lodge #152 - ECPv6.15.20//NONSGML v1.0//EN
CALSCALE:GREGORIAN
METHOD:PUBLISH
X-WR-CALNAME:Alki Masonic Lodge #152
X-ORIGINAL-URL:https://alki152.org
X-WR-CALDESC:Events for Alki Masonic Lodge #152
REFRESH-INTERVAL;VALUE=DURATION:PT1H
X-Robots-Tag:noindex
X-PUBLISHED-TTL:PT1H
BEGIN:VTIMEZONE
TZID:America/Los_Angeles
BEGIN:DAYLIGHT
TZOFFSETFROM:-0800
TZOFFSETTO:-0700
TZNAME:PDT
DTSTART:20120311T100000
END:DAYLIGHT
BEGIN:STANDARD
TZOFFSETFROM:-0700
TZOFFSETTO:-0800
TZNAME:PST
DTSTART:20121104T090000
END:STANDARD
BEGIN:DAYLIGHT
TZOFFSETFROM:-0800
TZOFFSETTO:-0700
TZNAME:PDT
DTSTART:20130310T100000
END:DAYLIGHT
BEGIN:STANDARD
TZOFFSETFROM:-0700
TZOFFSETTO:-0800
TZNAME:PST
DTSTART:20131103T090000
END:STANDARD
BEGIN:DAYLIGHT
TZOFFSETFROM:-0800
TZOFFSETTO:-0700
TZNAME:PDT
DTSTART:20140309T100000
END:DAYLIGHT
BEGIN:STANDARD
TZOFFSETFROM:-0700
TZOFFSETTO:-0800
TZNAME:PST
DTSTART:20141102T090000
END:STANDARD
END:VTIMEZONE
BEGIN:VEVENT
DTSTART;TZID=America/Los_Angeles:20130622T170000
DTEND;TZID=America/Los_Angeles:20130622T230000
DTSTAMP:20260425T200455
CREATED:20121001T200420Z
LAST-MODIFIED:20121001T200420Z
UID:670-1371920400-1371942000@alki152.org
SUMMARY:Private Rental - Old Rides
DESCRIPTION:
URL:https://alki152.org/event/private-rental-old-rides-4/
LOCATION:Alki Masonic Center\, 4736 40th Ave. SW\, Seattle\, WA\, 98116\, United States
CATEGORIES:Private Event
GEO:47.5600056;-122.3825589
X-APPLE-STRUCTURED-LOCATION;VALUE=URI;X-ADDRESS=Alki Masonic Center 4736 40th Ave. SW Seattle WA 98116 United States;X-APPLE-RADIUS=500;X-TITLE=4736 40th Ave. SW:geo:-122.3825589,47.5600056
END:VEVENT
BEGIN:VEVENT
DTSTART;TZID=America/Los_Angeles:20130629T120000
DTEND;TZID=America/Los_Angeles:20130630T010000
DTSTAMP:20260425T200455
CREATED:20121130T222133Z
LAST-MODIFIED:20130103T223727Z
UID:974-1372507200-1372554000@alki152.org
SUMMARY:Private Rental
DESCRIPTION:Content is protected.
URL:https://alki152.org/event/private-rental-19/
LOCATION:Alki Masonic Center\, 4736 40th Ave. SW\, Seattle\, WA\, 98116\, United States
CATEGORIES:Private Event
GEO:47.5600056;-122.3825589
X-APPLE-STRUCTURED-LOCATION;VALUE=URI;X-ADDRESS=Alki Masonic Center 4736 40th Ave. SW Seattle WA 98116 United States;X-APPLE-RADIUS=500;X-TITLE=4736 40th Ave. SW:geo:-122.3825589,47.5600056
END:VEVENT
BEGIN:VEVENT
DTSTART;TZID=America/Los_Angeles:20130630T120000
DTEND;TZID=America/Los_Angeles:20130630T180000
DTSTAMP:20260425T200455
CREATED:20130605T053226Z
LAST-MODIFIED:20130606T212846Z
UID:1247-1372593600-1372615200@alki152.org
SUMMARY:Masonic Event - Memorial
DESCRIPTION:
URL:https://alki152.org/event/masonic-event-memorial/
LOCATION:Alki Masonic Center\, 4736 40th Ave. SW\, Seattle\, WA\, 98116\, United States
CATEGORIES:Alki Lodge,Masonic Family,Public Event
ORGANIZER;CN="Dick Syson%2C Secretary":MAILTO:nosys@comcast.net
GEO:47.5600056;-122.3825589
X-APPLE-STRUCTURED-LOCATION;VALUE=URI;X-ADDRESS=Alki Masonic Center 4736 40th Ave. SW Seattle WA 98116 United States;X-APPLE-RADIUS=500;X-TITLE=4736 40th Ave. SW:geo:-122.3825589,47.5600056
END:VEVENT
BEGIN:VEVENT
DTSTART;TZID=America/Los_Angeles:20130706T150000
DTEND;TZID=America/Los_Angeles:20130706T230000
DTSTAMP:20260425T200455
CREATED:20130402T204456Z
LAST-MODIFIED:20130606T211630Z
UID:1161-1373122800-1373151600@alki152.org
SUMMARY:Seattle Swing Dance Club
DESCRIPTION:Content is protected.
URL:https://alki152.org/event/tentative-seattle-swing-dance-club/
LOCATION:Alki Masonic Center\, 4736 40th Ave. SW\, Seattle\, WA\, 98116\, United States
CATEGORIES:Public Event
GEO:47.5600056;-122.3825589
X-APPLE-STRUCTURED-LOCATION;VALUE=URI;X-ADDRESS=Alki Masonic Center 4736 40th Ave. SW Seattle WA 98116 United States;X-APPLE-RADIUS=500;X-TITLE=4736 40th Ave. SW:geo:-122.3825589,47.5600056
END:VEVENT
BEGIN:VEVENT
DTSTART;TZID=America/Los_Angeles:20130712T100000
DTEND;TZID=America/Los_Angeles:20130712T100000
DTSTAMP:20260425T200455
CREATED:20121104T082840Z
LAST-MODIFIED:20121203T001140Z
UID:846-1373623200-1373623200@alki152.org
SUMMARY:Private Rental
DESCRIPTION:Content is protected.
URL:https://alki152.org/event/private-rental-wedding/
LOCATION:Alki Masonic Center\, 4736 40th Ave. SW\, Seattle\, WA\, 98116\, United States
CATEGORIES:Private Event
GEO:47.5600056;-122.3825589
X-APPLE-STRUCTURED-LOCATION;VALUE=URI;X-ADDRESS=Alki Masonic Center 4736 40th Ave. SW Seattle WA 98116 United States;X-APPLE-RADIUS=500;X-TITLE=4736 40th Ave. SW:geo:-122.3825589,47.5600056
END:VEVENT
BEGIN:VEVENT
DTSTART;TZID=America/Los_Angeles:20130712T180000
DTEND;TZID=America/Los_Angeles:20130712T190000
DTSTAMP:20260425T200455
CREATED:20130220T221346Z
LAST-MODIFIED:20130220T221400Z
UID:1117-1373652000-1373655600@alki152.org
SUMMARY:Rainbow Girls - CANCELLED
DESCRIPTION:
URL:https://alki152.org/event/rainbow-girls-24/
LOCATION:Alki Masonic Center – Lodge Room\, 4736 40th Ave. SW\, Seattle\, WA\, 98116\, United States
CATEGORIES:Masonic Family,Rainbow
GEO:47.5600056;-122.3825589
X-APPLE-STRUCTURED-LOCATION;VALUE=URI;X-ADDRESS=Alki Masonic Center – Lodge Room 4736 40th Ave. SW Seattle WA 98116 United States;X-APPLE-RADIUS=500;X-TITLE=4736 40th Ave. SW:geo:-122.3825589,47.5600056
END:VEVENT
BEGIN:VEVENT
DTSTART;TZID=America/Los_Angeles:20130720T080000
DTEND;TZID=America/Los_Angeles:20130720T230000
DTSTAMP:20260425T200455
CREATED:20121001T212211Z
LAST-MODIFIED:20121203T001412Z
UID:675-1374307200-1374361200@alki152.org
SUMMARY:Private Rental
DESCRIPTION:Content is protected.
URL:https://alki152.org/event/private-rental-11/
LOCATION:Alki Masonic Center\, 4736 40th Ave. SW\, Seattle\, WA\, 98116\, United States
CATEGORIES:Private Event
GEO:47.5600056;-122.3825589
X-APPLE-STRUCTURED-LOCATION;VALUE=URI;X-ADDRESS=Alki Masonic Center 4736 40th Ave. SW Seattle WA 98116 United States;X-APPLE-RADIUS=500;X-TITLE=4736 40th Ave. SW:geo:-122.3825589,47.5600056
END:VEVENT
BEGIN:VEVENT
DTSTART;TZID=America/Los_Angeles:20130726T090000
DTEND;TZID=America/Los_Angeles:20130726T230000
DTSTAMP:20260425T200455
CREATED:20121001T202401Z
LAST-MODIFIED:20121130T233853Z
UID:671-1374829200-1374879600@alki152.org
SUMMARY:Rainbow Installation
DESCRIPTION:
URL:https://alki152.org/event/rainbow-installation/
LOCATION:Alki Masonic Center\, 4736 40th Ave. SW\, Seattle\, WA\, 98116\, United States
CATEGORIES:Masonic Family,Rainbow
GEO:47.5600056;-122.3825589
X-APPLE-STRUCTURED-LOCATION;VALUE=URI;X-ADDRESS=Alki Masonic Center 4736 40th Ave. SW Seattle WA 98116 United States;X-APPLE-RADIUS=500;X-TITLE=4736 40th Ave. SW:geo:-122.3825589,47.5600056
END:VEVENT
BEGIN:VEVENT
DTSTART;TZID=America/Los_Angeles:20130727T080000
DTEND;TZID=America/Los_Angeles:20130727T120000
DTSTAMP:20260425T200455
CREATED:20121205T031144Z
LAST-MODIFIED:20121218T214254Z
UID:1000-1374912000-1374926400@alki152.org
SUMMARY:Private Rental - Wedding Reception
DESCRIPTION:Content is protected.
URL:https://alki152.org/event/private-rental-tentative/
LOCATION:Alki Masonic Center\, 4736 40th Ave. SW\, Seattle\, WA\, 98116\, United States
CATEGORIES:Private Event
GEO:47.5600056;-122.3825589
X-APPLE-STRUCTURED-LOCATION;VALUE=URI;X-ADDRESS=Alki Masonic Center 4736 40th Ave. SW Seattle WA 98116 United States;X-APPLE-RADIUS=500;X-TITLE=4736 40th Ave. SW:geo:-122.3825589,47.5600056
END:VEVENT
BEGIN:VEVENT
DTSTART;TZID=America/Los_Angeles:20130731T183000
DTEND;TZID=America/Los_Angeles:20130731T203000
DTSTAMP:20260425T200455
CREATED:20130720T172040Z
LAST-MODIFIED:20130720T172040Z
UID:1341-1375295400-1375302600@alki152.org
SUMMARY:Rental - Ed Murray for Mayor Fund Raiser
DESCRIPTION:
URL:https://alki152.org/event/rental-ed-murray-for-mayor-fund-raiser/
LOCATION:Alki Masonic Center\, 4736 40th Ave. SW\, Seattle\, WA\, 98116\, United States
CATEGORIES:Public Event
GEO:47.5600056;-122.3825589
X-APPLE-STRUCTURED-LOCATION;VALUE=URI;X-ADDRESS=Alki Masonic Center 4736 40th Ave. SW Seattle WA 98116 United States;X-APPLE-RADIUS=500;X-TITLE=4736 40th Ave. SW:geo:-122.3825589,47.5600056
END:VEVENT
BEGIN:VEVENT
DTSTART;TZID=America/Los_Angeles:20130810T060000
DTEND;TZID=America/Los_Angeles:20130810T150000
DTSTAMP:20260425T200455
CREATED:20121001T212108Z
LAST-MODIFIED:20121015T194344Z
UID:674-1376114400-1376146800@alki152.org
SUMMARY:Pacific Northwest Tool Collectors
DESCRIPTION:For membership and further information visit http://tooltimer.com
URL:https://alki152.org/event/private-rental-tool-show-3/
LOCATION:Alki Masonic Center\, 4736 40th Ave. SW\, Seattle\, WA\, 98116\, United States
CATEGORIES:Private Event
GEO:47.5600056;-122.3825589
X-APPLE-STRUCTURED-LOCATION;VALUE=URI;X-ADDRESS=Alki Masonic Center 4736 40th Ave. SW Seattle WA 98116 United States;X-APPLE-RADIUS=500;X-TITLE=4736 40th Ave. SW:geo:-122.3825589,47.5600056
END:VEVENT
BEGIN:VEVENT
DTSTART;TZID=America/Los_Angeles:20130816T170000
DTEND;TZID=America/Los_Angeles:20130816T210000
DTSTAMP:20260425T200455
CREATED:20130723T235937Z
LAST-MODIFIED:20130723T235937Z
UID:1343-1376672400-1376686800@alki152.org
SUMMARY:LVM Setup
DESCRIPTION:
URL:https://alki152.org/event/lvm-setup/
LOCATION:Alki Masonic Center\, 4736 40th Ave. SW\, Seattle\, WA\, 98116\, United States
CATEGORIES:LuzViMinda #317,Masonic Family
GEO:47.5600056;-122.3825589
X-APPLE-STRUCTURED-LOCATION;VALUE=URI;X-ADDRESS=Alki Masonic Center 4736 40th Ave. SW Seattle WA 98116 United States;X-APPLE-RADIUS=500;X-TITLE=4736 40th Ave. SW:geo:-122.3825589,47.5600056
END:VEVENT
BEGIN:VEVENT
DTSTART;TZID=America/Los_Angeles:20130817T170000
DTEND;TZID=America/Los_Angeles:20130817T230000
DTSTAMP:20260425T200455
CREATED:20121204T164722Z
LAST-MODIFIED:20121204T164722Z
UID:998-1376758800-1376780400@alki152.org
SUMMARY:LuzViMinda Lodge #317 - Installation
DESCRIPTION:
URL:https://alki152.org/event/luzviminda-lodge-317-installation/
LOCATION:Alki Masonic Center\, 4736 40th Ave. SW\, Seattle\, WA\, 98116\, United States
CATEGORIES:LuzViMinda #317,Masonic Family
GEO:47.5600056;-122.3825589
X-APPLE-STRUCTURED-LOCATION;VALUE=URI;X-ADDRESS=Alki Masonic Center 4736 40th Ave. SW Seattle WA 98116 United States;X-APPLE-RADIUS=500;X-TITLE=4736 40th Ave. SW:geo:-122.3825589,47.5600056
END:VEVENT
BEGIN:VEVENT
DTSTART;TZID=America/Los_Angeles:20130822T190000
DTEND;TZID=America/Los_Angeles:20130822T200000
DTSTAMP:20260425T200455
CREATED:20130220T235947Z
LAST-MODIFIED:20130221T000146Z
UID:1119-1377198000-1377201600@alki152.org
SUMMARY:Rainbow Girls
DESCRIPTION:
URL:https://alki152.org/event/rainbow-girls-25/
LOCATION:Alki Masonic Center\, 4736 40th Ave. SW\, Seattle\, WA\, 98116\, United States
CATEGORIES:Masonic Family,Rainbow
GEO:47.5600056;-122.3825589
X-APPLE-STRUCTURED-LOCATION;VALUE=URI;X-ADDRESS=Alki Masonic Center 4736 40th Ave. SW Seattle WA 98116 United States;X-APPLE-RADIUS=500;X-TITLE=4736 40th Ave. SW:geo:-122.3825589,47.5600056
END:VEVENT
BEGIN:VEVENT
DTSTART;TZID=America/Los_Angeles:20130824T080000
DTEND;TZID=America/Los_Angeles:20130824T235500
DTSTAMP:20260425T200455
CREATED:20121001T212519Z
LAST-MODIFIED:20121203T001824Z
UID:676-1377331200-1377388500@alki152.org
SUMMARY:Private Rental
DESCRIPTION:Content is protected.
URL:https://alki152.org/event/private-rental-12/
LOCATION:Alki Masonic Center\, 4736 40th Ave. SW\, Seattle\, WA\, 98116\, United States
CATEGORIES:Private Event
GEO:47.5600056;-122.3825589
X-APPLE-STRUCTURED-LOCATION;VALUE=URI;X-ADDRESS=Alki Masonic Center 4736 40th Ave. SW Seattle WA 98116 United States;X-APPLE-RADIUS=500;X-TITLE=4736 40th Ave. SW:geo:-122.3825589,47.5600056
END:VEVENT
BEGIN:VEVENT
DTSTART;TZID=America/Los_Angeles:20130827T190000
DTEND;TZID=America/Los_Angeles:20130827T210000
DTSTAMP:20260425T200455
CREATED:20120927T230432Z
LAST-MODIFIED:20130221T002133Z
UID:490-1377630000-1377637200@alki152.org
SUMMARY:Eastern Star - Amethyst Chapter
DESCRIPTION:
URL:https://alki152.org/event/eastern-star-amethyst-chapter-9/2013-08-27/
LOCATION:Alki Masonic Center\, 4736 40th Ave. SW\, Seattle\, WA\, 98116\, United States
CATEGORIES:Amethyst,Masonic Family
GEO:47.5600056;-122.3825589
X-APPLE-STRUCTURED-LOCATION;VALUE=URI;X-ADDRESS=Alki Masonic Center 4736 40th Ave. SW Seattle WA 98116 United States;X-APPLE-RADIUS=500;X-TITLE=4736 40th Ave. SW:geo:-122.3825589,47.5600056
END:VEVENT
BEGIN:VEVENT
DTSTART;TZID=America/Los_Angeles:20130831T130000
DTEND;TZID=America/Los_Angeles:20130831T220000
DTSTAMP:20260425T200455
CREATED:20121018T201932Z
LAST-MODIFIED:20121226T235154Z
UID:730-1377954000-1377986400@alki152.org
SUMMARY:Spaghetti Feed - Amaranth
DESCRIPTION:
URL:https://alki152.org/event/spaghetti-feed-crown/
LOCATION:Alki Masonic Center\, 4736 40th Ave. SW\, Seattle\, WA\, 98116\, United States
CATEGORIES:Public Event,Westgate
GEO:47.5600056;-122.3825589
X-APPLE-STRUCTURED-LOCATION;VALUE=URI;X-ADDRESS=Alki Masonic Center 4736 40th Ave. SW Seattle WA 98116 United States;X-APPLE-RADIUS=500;X-TITLE=4736 40th Ave. SW:geo:-122.3825589,47.5600056
END:VEVENT
BEGIN:VEVENT
DTSTART;TZID=America/Los_Angeles:20130902T140000
DTEND;TZID=America/Los_Angeles:20130902T170000
DTSTAMP:20260425T200455
CREATED:20130720T153958Z
LAST-MODIFIED:20130720T153958Z
UID:1339-1378130400-1378141200@alki152.org
SUMMARY:Flag Ceremony and Picnic
DESCRIPTION:
URL:https://alki152.org/event/flag-ceremony-and-picnic/
LOCATION:Alki Masonic Center\, 4736 40th Ave. SW\, Seattle\, WA\, 98116\, United States
CATEGORIES:Alki Lodge,Masonic Family,Public Event
GEO:47.5600056;-122.3825589
X-APPLE-STRUCTURED-LOCATION;VALUE=URI;X-ADDRESS=Alki Masonic Center 4736 40th Ave. SW Seattle WA 98116 United States;X-APPLE-RADIUS=500;X-TITLE=4736 40th Ave. SW:geo:-122.3825589,47.5600056
END:VEVENT
BEGIN:VEVENT
DTSTART;TZID=America/Los_Angeles:20130905T071500
DTEND;TZID=America/Los_Angeles:20130905T091500
DTSTAMP:20260425T200455
CREATED:20130809T205419Z
LAST-MODIFIED:20130809T205419Z
UID:1354-1378365300-1378372500@alki152.org
SUMMARY:BNI West Seattle Champions
DESCRIPTION:
URL:https://alki152.org/event/bni-west-seattle-champions/2013-09-05/
LOCATION:Alki Masonic Center\, 4736 40th Ave. SW\, Seattle\, WA\, 98116\, United States
CATEGORIES:Private Event
GEO:47.5600056;-122.3825589
X-APPLE-STRUCTURED-LOCATION;VALUE=URI;X-ADDRESS=Alki Masonic Center 4736 40th Ave. SW Seattle WA 98116 United States;X-APPLE-RADIUS=500;X-TITLE=4736 40th Ave. SW:geo:-122.3825589,47.5600056
END:VEVENT
BEGIN:VEVENT
DTSTART;TZID=America/Los_Angeles:20130907T080000
DTEND;TZID=America/Los_Angeles:20130907T220000
DTSTAMP:20260425T200455
CREATED:20121001T213152Z
LAST-MODIFIED:20130831T034420Z
UID:678-1378540800-1378591200@alki152.org
SUMMARY:Eastern Star - Associate Grand Matron Reception
DESCRIPTION:
URL:https://alki152.org/event/eastern-star-grand-matron-reception/
LOCATION:Alki Masonic Center\, 4736 40th Ave. SW\, Seattle\, WA\, 98116\, United States
CATEGORIES:Amethyst,Crown,Masonic Family
GEO:47.5600056;-122.3825589
X-APPLE-STRUCTURED-LOCATION;VALUE=URI;X-ADDRESS=Alki Masonic Center 4736 40th Ave. SW Seattle WA 98116 United States;X-APPLE-RADIUS=500;X-TITLE=4736 40th Ave. SW:geo:-122.3825589,47.5600056
END:VEVENT
BEGIN:VEVENT
DTSTART;TZID=America/Los_Angeles:20130908T080000
DTEND;TZID=America/Los_Angeles:20130908T120000
DTSTAMP:20260425T200455
CREATED:20130720T181233Z
LAST-MODIFIED:20130824T033625Z
UID:1342-1378627200-1378641600@alki152.org
SUMMARY:West Side Wildcats Football Pancake Breakfast
DESCRIPTION:
URL:https://alki152.org/event/west-side-wildcats-football-spaghetti-dinner/
LOCATION:Alki Masonic Center\, 4736 40th Ave. SW\, Seattle\, WA\, 98116\, United States
CATEGORIES:Public Event
GEO:47.5600056;-122.3825589
X-APPLE-STRUCTURED-LOCATION;VALUE=URI;X-ADDRESS=Alki Masonic Center 4736 40th Ave. SW Seattle WA 98116 United States;X-APPLE-RADIUS=500;X-TITLE=4736 40th Ave. SW:geo:-122.3825589,47.5600056
END:VEVENT
BEGIN:VEVENT
DTSTART;TZID=America/Los_Angeles:20130909T100000
DTEND;TZID=America/Los_Angeles:20130909T140000
DTSTAMP:20260425T200455
CREATED:20130218T224026Z
LAST-MODIFIED:20130901T210837Z
UID:1112-1378720800-1378735200@alki152.org
SUMMARY:OES Grand Representative Luncheon
DESCRIPTION:
URL:https://alki152.org/event/crown-luncheon/
LOCATION:Alki Masonic Center\, 4736 40th Ave. SW\, Seattle\, WA\, 98116\, United States
CATEGORIES:Amethyst,Crown,Masonic Family
GEO:47.5600056;-122.3825589
X-APPLE-STRUCTURED-LOCATION;VALUE=URI;X-ADDRESS=Alki Masonic Center 4736 40th Ave. SW Seattle WA 98116 United States;X-APPLE-RADIUS=500;X-TITLE=4736 40th Ave. SW:geo:-122.3825589,47.5600056
END:VEVENT
BEGIN:VEVENT
DTSTART;TZID=America/Los_Angeles:20130910T170000
DTEND;TZID=America/Los_Angeles:20130910T190000
DTSTAMP:20260425T200455
CREATED:20130828T201755Z
LAST-MODIFIED:20130828T201755Z
UID:1368-1378832400-1378839600@alki152.org
SUMMARY:Hatasu Dance Practice
DESCRIPTION:
URL:https://alki152.org/event/hatasu-dancers-practice-2/
LOCATION:Alki Masonic Center\, 4736 40th Ave. SW\, Seattle\, WA\, 98116\, United States
CATEGORIES:Hatasu Dancers,Masonic Family
GEO:47.5600056;-122.3825589
X-APPLE-STRUCTURED-LOCATION;VALUE=URI;X-ADDRESS=Alki Masonic Center 4736 40th Ave. SW Seattle WA 98116 United States;X-APPLE-RADIUS=500;X-TITLE=4736 40th Ave. SW:geo:-122.3825589,47.5600056
END:VEVENT
BEGIN:VEVENT
DTSTART;TZID=America/Los_Angeles:20130912T170000
DTEND;TZID=America/Los_Angeles:20130912T190000
DTSTAMP:20260425T200455
CREATED:20130828T195056Z
LAST-MODIFIED:20130828T195510Z
UID:1362-1379005200-1379012400@alki152.org
SUMMARY:Hatasu Dance Practice
DESCRIPTION:
URL:https://alki152.org/event/hatasu-dance-practice/2013-09-12/
LOCATION:Alki Masonic Center\, 4736 40th Ave. SW\, Seattle\, WA\, 98116\, United States
CATEGORIES:Hatasu Dancers,Masonic Family,Private Event
GEO:47.5600056;-122.3825589
X-APPLE-STRUCTURED-LOCATION;VALUE=URI;X-ADDRESS=Alki Masonic Center 4736 40th Ave. SW Seattle WA 98116 United States;X-APPLE-RADIUS=500;X-TITLE=4736 40th Ave. SW:geo:-122.3825589,47.5600056
END:VEVENT
BEGIN:VEVENT
DTSTART;TZID=America/Los_Angeles:20130913T190000
DTEND;TZID=America/Los_Angeles:20130913T200000
DTSTAMP:20260425T200455
CREATED:20120927T233629Z
LAST-MODIFIED:20130419T222146Z
UID:517-1379098800-1379102400@alki152.org
SUMMARY:Rainbow Girls
DESCRIPTION:
URL:https://alki152.org/event/rainbow-girls-18/2013-09-13/
LOCATION:Alki Masonic Center – Lodge Room\, 4736 40th Ave. SW\, Seattle\, WA\, 98116\, United States
CATEGORIES:Masonic Family,Rainbow
GEO:47.5600056;-122.3825589
X-APPLE-STRUCTURED-LOCATION;VALUE=URI;X-ADDRESS=Alki Masonic Center – Lodge Room 4736 40th Ave. SW Seattle WA 98116 United States;X-APPLE-RADIUS=500;X-TITLE=4736 40th Ave. SW:geo:-122.3825589,47.5600056
END:VEVENT
BEGIN:VEVENT
DTSTART;TZID=America/Los_Angeles:20130914T140000
DTEND;TZID=America/Los_Angeles:20130914T140000
DTSTAMP:20260425T200455
CREATED:20121001T213017Z
LAST-MODIFIED:20121203T002024Z
UID:677-1379167200-1379167200@alki152.org
SUMMARY:Private Rental
DESCRIPTION:Content is protected.
URL:https://alki152.org/event/private-rental-13/
LOCATION:Alki Masonic Center\, 4736 40th Ave. SW\, Seattle\, WA\, 98116\, United States
CATEGORIES:Private Event
GEO:47.5600056;-122.3825589
X-APPLE-STRUCTURED-LOCATION;VALUE=URI;X-ADDRESS=Alki Masonic Center 4736 40th Ave. SW Seattle WA 98116 United States;X-APPLE-RADIUS=500;X-TITLE=4736 40th Ave. SW:geo:-122.3825589,47.5600056
END:VEVENT
BEGIN:VEVENT
DTSTART;TZID=America/Los_Angeles:20130917T170000
DTEND;TZID=America/Los_Angeles:20130917T190000
DTSTAMP:20260425T200455
CREATED:20130828T201640Z
LAST-MODIFIED:20130828T201640Z
UID:1367-1379437200-1379444400@alki152.org
SUMMARY:Hatasu Dancers Practice
DESCRIPTION:
URL:https://alki152.org/event/hatasu-dancers-practice/2013-09-17/
LOCATION:Alki Masonic Center\, 4736 40th Ave. SW\, Seattle\, WA\, 98116\, United States
CATEGORIES:Hatasu Dancers,Masonic Family
GEO:47.5600056;-122.3825589
X-APPLE-STRUCTURED-LOCATION;VALUE=URI;X-ADDRESS=Alki Masonic Center 4736 40th Ave. SW Seattle WA 98116 United States;X-APPLE-RADIUS=500;X-TITLE=4736 40th Ave. SW:geo:-122.3825589,47.5600056
END:VEVENT
BEGIN:VEVENT
DTSTART;TZID=America/Los_Angeles:20130918T193000
DTEND;TZID=America/Los_Angeles:20130918T210000
DTSTAMP:20260425T200455
CREATED:20130702T031950Z
LAST-MODIFIED:20130831T033909Z
UID:1274-1379532600-1379538000@alki152.org
SUMMARY:All Masonic Meeting
DESCRIPTION:
URL:https://alki152.org/event/all-masonic-meeting/
LOCATION:Alki Masonic Center\, 4736 40th Ave. SW\, Seattle\, WA\, 98116\, United States
CATEGORIES:Alki Lodge,Amethyst,Bethel,Crown,Lodge Alba,Masonic Family,Rainbow,Westgate
GEO:47.5600056;-122.3825589
X-APPLE-STRUCTURED-LOCATION;VALUE=URI;X-ADDRESS=Alki Masonic Center 4736 40th Ave. SW Seattle WA 98116 United States;X-APPLE-RADIUS=500;X-TITLE=4736 40th Ave. SW:geo:-122.3825589,47.5600056
END:VEVENT
BEGIN:VEVENT
DTSTART;TZID=America/Los_Angeles:20130921T120000
DTEND;TZID=America/Los_Angeles:20130921T120000
DTSTAMP:20260425T200455
CREATED:20121227T221929Z
LAST-MODIFIED:20130127T223629Z
UID:1055-1379764800-1379764800@alki152.org
SUMMARY:Private Rental - Wedding
DESCRIPTION:Content is protected.
URL:https://alki152.org/event/tentative-wedding-confirm-by-1613/
LOCATION:Alki Masonic Center\, 4736 40th Ave. SW\, Seattle\, WA\, 98116\, United States
CATEGORIES:Private Event
GEO:47.5600056;-122.3825589
X-APPLE-STRUCTURED-LOCATION;VALUE=URI;X-ADDRESS=Alki Masonic Center 4736 40th Ave. SW Seattle WA 98116 United States;X-APPLE-RADIUS=500;X-TITLE=4736 40th Ave. SW:geo:-122.3825589,47.5600056
END:VEVENT
BEGIN:VEVENT
DTSTART;TZID=America/Los_Angeles:20130922T140000
DTEND;TZID=America/Los_Angeles:20130922T160000
DTSTAMP:20260425T200455
CREATED:20130731T214053Z
LAST-MODIFIED:20130911T203132Z
UID:1350-1379858400-1379865600@alki152.org
SUMMARY:Memorial Service OES
DESCRIPTION:Content is protected.
URL:https://alki152.org/event/tentative-hold-until-aug-15th/
LOCATION:Alki Masonic Center\, 4736 40th Ave. SW\, Seattle\, WA\, 98116\, United States
CATEGORIES:Crown,Masonic Family,Private Event
GEO:47.5600056;-122.3825589
X-APPLE-STRUCTURED-LOCATION;VALUE=URI;X-ADDRESS=Alki Masonic Center 4736 40th Ave. SW Seattle WA 98116 United States;X-APPLE-RADIUS=500;X-TITLE=4736 40th Ave. SW:geo:-122.3825589,47.5600056
END:VEVENT
END:VCALENDAR