BEGIN:VCALENDAR
VERSION:2.0
PRODID:-//Alki Masonic Lodge #152 - ECPv6.15.20//NONSGML v1.0//EN
CALSCALE:GREGORIAN
METHOD:PUBLISH
X-WR-CALNAME:Alki Masonic Lodge #152
X-ORIGINAL-URL:https://alki152.org
X-WR-CALDESC:Events for Alki Masonic Lodge #152
REFRESH-INTERVAL;VALUE=DURATION:PT1H
X-Robots-Tag:noindex
X-PUBLISHED-TTL:PT1H
BEGIN:VTIMEZONE
TZID:America/Los_Angeles
BEGIN:DAYLIGHT
TZOFFSETFROM:-0800
TZOFFSETTO:-0700
TZNAME:PDT
DTSTART:20120311T100000
END:DAYLIGHT
BEGIN:STANDARD
TZOFFSETFROM:-0700
TZOFFSETTO:-0800
TZNAME:PST
DTSTART:20121104T090000
END:STANDARD
BEGIN:DAYLIGHT
TZOFFSETFROM:-0800
TZOFFSETTO:-0700
TZNAME:PDT
DTSTART:20130310T100000
END:DAYLIGHT
BEGIN:STANDARD
TZOFFSETFROM:-0700
TZOFFSETTO:-0800
TZNAME:PST
DTSTART:20131103T090000
END:STANDARD
BEGIN:DAYLIGHT
TZOFFSETFROM:-0800
TZOFFSETTO:-0700
TZNAME:PDT
DTSTART:20140309T100000
END:DAYLIGHT
BEGIN:STANDARD
TZOFFSETFROM:-0700
TZOFFSETTO:-0800
TZNAME:PST
DTSTART:20141102T090000
END:STANDARD
END:VTIMEZONE
BEGIN:VEVENT
DTSTART;TZID=America/Los_Angeles:20130331T130000
DTEND;TZID=America/Los_Angeles:20130331T220000
DTSTAMP:20260425T154153
CREATED:20130225T192941Z
LAST-MODIFIED:20130306T232446Z
UID:1130-1364734800-1364767200@alki152.org
SUMMARY:Private Event
DESCRIPTION:Content is protected.
URL:https://alki152.org/event/private-event-17/
LOCATION:Alki Masonic Center\, 4736 40th Ave. SW\, Seattle\, WA\, 98116\, United States
CATEGORIES:Private Event
GEO:47.5600056;-122.3825589
X-APPLE-STRUCTURED-LOCATION;VALUE=URI;X-ADDRESS=Alki Masonic Center 4736 40th Ave. SW Seattle WA 98116 United States;X-APPLE-RADIUS=500;X-TITLE=4736 40th Ave. SW:geo:-122.3825589,47.5600056
END:VEVENT
BEGIN:VEVENT
DTSTART;TZID=America/Los_Angeles:20130405T170000
DTEND;TZID=America/Los_Angeles:20130405T210000
DTSTAMP:20260425T154153
CREATED:20121001T204918Z
LAST-MODIFIED:20121206T230013Z
UID:672-1365181200-1365195600@alki152.org
SUMMARY:Amaranth - Westgate Court - Installation
DESCRIPTION:5:00 pm meeting\, sick\n  Public Installation at 7:00
URL:https://alki152.org/event/amaranth-westgate-court-7-3/
LOCATION:Alki Masonic Center\, 4736 40th Ave. SW\, Seattle\, WA\, 98116\, United States
CATEGORIES:Masonic Family,Public Event,Westgate
ORGANIZER;CN="Sue Gibbs":MAILTO:westgateevents21@gmail.com
GEO:47.5600056;-122.3825589
X-APPLE-STRUCTURED-LOCATION;VALUE=URI;X-ADDRESS=Alki Masonic Center 4736 40th Ave. SW Seattle WA 98116 United States;X-APPLE-RADIUS=500;X-TITLE=4736 40th Ave. SW:geo:-122.3825589,47.5600056
END:VEVENT
BEGIN:VEVENT
DTSTART;TZID=America/Los_Angeles:20130406T170000
DTEND;TZID=America/Los_Angeles:20130406T220000
DTSTAMP:20260425T154153
CREATED:20120927T230220Z
LAST-MODIFIED:20121124T031006Z
UID:487-1365267600-1365285600@alki152.org
SUMMARY:Eastern Star - Amethyst Chapter Installation
DESCRIPTION:
URL:https://alki152.org/event/eastern-star-amethyst-chapter-installation/
LOCATION:Alki Masonic Center\, 4736 40th Ave. SW\, Seattle\, WA\, 98116\, United States
CATEGORIES:Amethyst,Masonic Family
GEO:47.5600056;-122.3825589
X-APPLE-STRUCTURED-LOCATION;VALUE=URI;X-ADDRESS=Alki Masonic Center 4736 40th Ave. SW Seattle WA 98116 United States;X-APPLE-RADIUS=500;X-TITLE=4736 40th Ave. SW:geo:-122.3825589,47.5600056
END:VEVENT
BEGIN:VEVENT
DTSTART;TZID=America/Los_Angeles:20130412T190000
DTEND;TZID=America/Los_Angeles:20130412T200000
DTSTAMP:20260425T154153
CREATED:20120927T233456Z
LAST-MODIFIED:20130329T014013Z
UID:515-1365793200-1365796800@alki152.org
SUMMARY:Rainbow Girls
DESCRIPTION:
URL:https://alki152.org/event/rainbow-girls-16/
LOCATION:Alki Masonic Center – Lodge Room\, 4736 40th Ave. SW\, Seattle\, WA\, 98116\, United States
CATEGORIES:Masonic Family,Rainbow
GEO:47.5600056;-122.3825589
X-APPLE-STRUCTURED-LOCATION;VALUE=URI;X-ADDRESS=Alki Masonic Center – Lodge Room 4736 40th Ave. SW Seattle WA 98116 United States;X-APPLE-RADIUS=500;X-TITLE=4736 40th Ave. SW:geo:-122.3825589,47.5600056
END:VEVENT
BEGIN:VEVENT
DTSTART;TZID=America/Los_Angeles:20130413T140000
DTEND;TZID=America/Los_Angeles:20130413T200000
DTSTAMP:20260425T154153
CREATED:20130127T084010Z
LAST-MODIFIED:20130127T084037Z
UID:1093-1365861600-1365883200@alki152.org
SUMMARY:Rainbow Girls - Spaghetti Feed
DESCRIPTION:
URL:https://alki152.org/event/rainbow-girls-spaghetti-feed/
LOCATION:Alki Masonic Center\, 4736 40th Ave. SW\, Seattle\, WA\, 98116\, United States
CATEGORIES:Masonic Family,Public Event,Rainbow
GEO:47.5600056;-122.3825589
X-APPLE-STRUCTURED-LOCATION;VALUE=URI;X-ADDRESS=Alki Masonic Center 4736 40th Ave. SW Seattle WA 98116 United States;X-APPLE-RADIUS=500;X-TITLE=4736 40th Ave. SW:geo:-122.3825589,47.5600056
END:VEVENT
BEGIN:VEVENT
DTSTART;TZID=America/Los_Angeles:20130423T190000
DTEND;TZID=America/Los_Angeles:20130423T210000
DTSTAMP:20260425T154153
CREATED:20120927T230256Z
LAST-MODIFIED:20121124T031034Z
UID:488-1366743600-1366750800@alki152.org
SUMMARY:Eastern Star - Amethyst Chapter
DESCRIPTION:
URL:https://alki152.org/event/eastern-star-amethyst-chapter-7/
LOCATION:Alki Masonic Center\, 4736 40th Ave. SW\, Seattle\, WA\, 98116\, United States
CATEGORIES:Amethyst,Masonic Family
GEO:47.5600056;-122.3825589
X-APPLE-STRUCTURED-LOCATION;VALUE=URI;X-ADDRESS=Alki Masonic Center 4736 40th Ave. SW Seattle WA 98116 United States;X-APPLE-RADIUS=500;X-TITLE=4736 40th Ave. SW:geo:-122.3825589,47.5600056
END:VEVENT
BEGIN:VEVENT
DTSTART;TZID=America/Los_Angeles:20130425T190000
DTEND;TZID=America/Los_Angeles:20130425T200000
DTSTAMP:20260425T154153
CREATED:20120927T233541Z
LAST-MODIFIED:20130405T161654Z
UID:516-1366916400-1366920000@alki152.org
SUMMARY:Rainbow Girls
DESCRIPTION:
URL:https://alki152.org/event/rainbow-girls-17/2013-04-25/
LOCATION:Alki Masonic Center – Lodge Room\, 4736 40th Ave. SW\, Seattle\, WA\, 98116\, United States
CATEGORIES:Masonic Family,Rainbow
GEO:47.5600056;-122.3825589
X-APPLE-STRUCTURED-LOCATION;VALUE=URI;X-ADDRESS=Alki Masonic Center – Lodge Room 4736 40th Ave. SW Seattle WA 98116 United States;X-APPLE-RADIUS=500;X-TITLE=4736 40th Ave. SW:geo:-122.3825589,47.5600056
END:VEVENT
BEGIN:VEVENT
DTSTART;VALUE=DATE:20130426
DTEND;VALUE=DATE:20130429
DTSTAMP:20260425T154153
CREATED:20121001T194257Z
LAST-MODIFIED:20121001T194257Z
UID:666-1366934400-1367193599@alki152.org
SUMMARY:West Seattle Rock Club
DESCRIPTION:
URL:https://alki152.org/event/west-seattle-rock-club/
LOCATION:Alki Masonic Center\, 4736 40th Ave. SW\, Seattle\, WA\, 98116\, United States
CATEGORIES:Public Event
GEO:47.5600056;-122.3825589
X-APPLE-STRUCTURED-LOCATION;VALUE=URI;X-ADDRESS=Alki Masonic Center 4736 40th Ave. SW Seattle WA 98116 United States;X-APPLE-RADIUS=500;X-TITLE=4736 40th Ave. SW:geo:-122.3825589,47.5600056
END:VEVENT
BEGIN:VEVENT
DTSTART;TZID=America/Los_Angeles:20130429T190000
DTEND;TZID=America/Los_Angeles:20130429T200000
DTSTAMP:20260425T154153
CREATED:20120927T214315Z
LAST-MODIFIED:20130422T204750Z
UID:463-1367262000-1367265600@alki152.org
SUMMARY:Temple Board
DESCRIPTION:
URL:https://alki152.org/event/temple-board-6/2013-04-29/
LOCATION:Alki Masonic Center 3rd Floor\, 4736 40th Ave. SW\, Seattle\, WA\, 98116\, United States
CATEGORIES:Masonic Family
ORGANIZER;CN="Martin Monk":MAILTO:Martinmonk@yahoo.com
GEO:47.5600056;-122.3825589
X-APPLE-STRUCTURED-LOCATION;VALUE=URI;X-ADDRESS=Alki Masonic Center 3rd Floor 4736 40th Ave. SW Seattle WA 98116 United States;X-APPLE-RADIUS=500;X-TITLE=4736 40th Ave. SW:geo:-122.3825589,47.5600056
END:VEVENT
BEGIN:VEVENT
DTSTART;TZID=America/Los_Angeles:20130504T170000
DTEND;TZID=America/Los_Angeles:20130504T210000
DTSTAMP:20260425T154153
CREATED:20121001T194943Z
LAST-MODIFIED:20121124T052013Z
UID:667-1367686800-1367701200@alki152.org
SUMMARY:Lodge Alba #315
DESCRIPTION:
URL:https://alki152.org/event/lodge-alba-315-2/2013-05-04/
LOCATION:Alki Masonic Center\, 4736 40th Ave. SW\, Seattle\, WA\, 98116\, United States
CATEGORIES:Lodge Alba,Masonic Family
GEO:47.5600056;-122.3825589
X-APPLE-STRUCTURED-LOCATION;VALUE=URI;X-ADDRESS=Alki Masonic Center 4736 40th Ave. SW Seattle WA 98116 United States;X-APPLE-RADIUS=500;X-TITLE=4736 40th Ave. SW:geo:-122.3825589,47.5600056
END:VEVENT
BEGIN:VEVENT
DTSTART;TZID=America/Los_Angeles:20130510T190000
DTEND;TZID=America/Los_Angeles:20130510T210000
DTSTAMP:20260425T154153
CREATED:20130430T033211Z
LAST-MODIFIED:20130430T033211Z
UID:1188-1368212400-1368219600@alki152.org
SUMMARY:Rainbow Girls
DESCRIPTION:
URL:https://alki152.org/event/rainbow-girls-28/
LOCATION:Alki Masonic Center\, 4736 40th Ave. SW\, Seattle\, WA\, 98116\, United States
CATEGORIES:Masonic Family,Rainbow
GEO:47.5600056;-122.3825589
X-APPLE-STRUCTURED-LOCATION;VALUE=URI;X-ADDRESS=Alki Masonic Center 4736 40th Ave. SW Seattle WA 98116 United States;X-APPLE-RADIUS=500;X-TITLE=4736 40th Ave. SW:geo:-122.3825589,47.5600056
END:VEVENT
BEGIN:VEVENT
DTSTART;TZID=America/Los_Angeles:20130515T190000
DTEND;TZID=America/Los_Angeles:20130515T220000
DTSTAMP:20260425T154153
CREATED:20130423T015914Z
LAST-MODIFIED:20130423T015914Z
UID:1181-1368644400-1368655200@alki152.org
SUMMARY:KCLO Practice
DESCRIPTION:
URL:https://alki152.org/event/kclo-practice/
LOCATION:Alki Masonic Center\, 4736 40th Ave. SW\, Seattle\, WA\, 98116\, United States
CATEGORIES:Masonic Family
GEO:47.5600056;-122.3825589
X-APPLE-STRUCTURED-LOCATION;VALUE=URI;X-ADDRESS=Alki Masonic Center 4736 40th Ave. SW Seattle WA 98116 United States;X-APPLE-RADIUS=500;X-TITLE=4736 40th Ave. SW:geo:-122.3825589,47.5600056
END:VEVENT
BEGIN:VEVENT
DTSTART;TZID=America/Los_Angeles:20130518T060000
DTEND;TZID=America/Los_Angeles:20130518T150000
DTSTAMP:20260425T154153
CREATED:20121001T195151Z
LAST-MODIFIED:20121015T194458Z
UID:669-1368856800-1368889200@alki152.org
SUMMARY:Pacific Northwest Tool Collectors
DESCRIPTION:For membership and further information visit http://tooltimer.com
URL:https://alki152.org/event/private-rental-tool-show-2/
LOCATION:Alki Masonic Center\, 4736 40th Ave. SW\, Seattle\, WA\, 98116\, United States
CATEGORIES:Private Event
GEO:47.5600056;-122.3825589
X-APPLE-STRUCTURED-LOCATION;VALUE=URI;X-ADDRESS=Alki Masonic Center 4736 40th Ave. SW Seattle WA 98116 United States;X-APPLE-RADIUS=500;X-TITLE=4736 40th Ave. SW:geo:-122.3825589,47.5600056
END:VEVENT
BEGIN:VEVENT
DTSTART;TZID=America/Los_Angeles:20130520T170000
DTEND;TZID=America/Los_Angeles:20130520T210000
DTSTAMP:20260425T154153
CREATED:20121030T193332Z
LAST-MODIFIED:20121124T053734Z
UID:745-1369069200-1369083600@alki152.org
SUMMARY:Alki Lodge #152 - School Awards
DESCRIPTION:Annual School Awards presentation to Students of Chief Sealth and West Seattle High School.
URL:https://alki152.org/event/alki-ritual-night-2-2/
LOCATION:Alki Masonic Center\, 4736 40th Ave. SW\, Seattle\, WA\, 98116\, United States
CATEGORIES:Alki Lodge,Masonic Family
ORGANIZER;CN="Dick Syson%2C Secretary":MAILTO:nosys@comcast.net
GEO:47.5600056;-122.3825589
X-APPLE-STRUCTURED-LOCATION;VALUE=URI;X-ADDRESS=Alki Masonic Center 4736 40th Ave. SW Seattle WA 98116 United States;X-APPLE-RADIUS=500;X-TITLE=4736 40th Ave. SW:geo:-122.3825589,47.5600056
END:VEVENT
BEGIN:VEVENT
DTSTART;TZID=America/Los_Angeles:20130523T190000
DTEND;TZID=America/Los_Angeles:20130523T220000
DTSTAMP:20260425T154153
CREATED:20130521T205418Z
LAST-MODIFIED:20130521T205418Z
UID:1237-1369335600-1369346400@alki152.org
SUMMARY:Rainbow Girls
DESCRIPTION:
URL:https://alki152.org/event/rainbow-girls-17-2/2013-05-23/
LOCATION:Alki Masonic Center – Lodge Room\, 4736 40th Ave. SW\, Seattle\, WA\, 98116\, United States
CATEGORIES:Masonic Family,Rainbow
GEO:47.5600056;-122.3825589
X-APPLE-STRUCTURED-LOCATION;VALUE=URI;X-ADDRESS=Alki Masonic Center – Lodge Room 4736 40th Ave. SW Seattle WA 98116 United States;X-APPLE-RADIUS=500;X-TITLE=4736 40th Ave. SW:geo:-122.3825589,47.5600056
END:VEVENT
BEGIN:VEVENT
DTSTART;TZID=America/Los_Angeles:20130525T080000
DTEND;TZID=America/Los_Angeles:20130525T120000
DTSTAMP:20260425T154153
CREATED:20130213T213936Z
LAST-MODIFIED:20140216T183720Z
UID:1103-1369468800-1369483200@alki152.org
SUMMARY:Private Event
DESCRIPTION:Content is protected.
URL:https://alki152.org/event/private-event-10/
LOCATION:Alki Masonic Center\, 4736 40th Ave. SW\, Seattle\, WA\, 98116\, United States
GEO:47.5600056;-122.3825589
X-APPLE-STRUCTURED-LOCATION;VALUE=URI;X-ADDRESS=Alki Masonic Center 4736 40th Ave. SW Seattle WA 98116 United States;X-APPLE-RADIUS=500;X-TITLE=4736 40th Ave. SW:geo:-122.3825589,47.5600056
END:VEVENT
BEGIN:VEVENT
DTSTART;TZID=America/Los_Angeles:20130526T140000
DTEND;TZID=America/Los_Angeles:20130526T180000
DTSTAMP:20260425T154153
CREATED:20121106T165942Z
LAST-MODIFIED:20130111T020319Z
UID:883-1369576800-1369591200@alki152.org
SUMMARY:Private Rental - Birthday
DESCRIPTION:Content is protected.
URL:https://alki152.org/event/private-party/
LOCATION:Alki Masonic Center\, 4736 40th Ave. SW\, Seattle\, WA\, 98116\, United States
CATEGORIES:Private Event
GEO:47.5600056;-122.3825589
X-APPLE-STRUCTURED-LOCATION;VALUE=URI;X-ADDRESS=Alki Masonic Center 4736 40th Ave. SW Seattle WA 98116 United States;X-APPLE-RADIUS=500;X-TITLE=4736 40th Ave. SW:geo:-122.3825589,47.5600056
END:VEVENT
BEGIN:VEVENT
DTSTART;TZID=America/Los_Angeles:20130528T190000
DTEND;TZID=America/Los_Angeles:20130528T210000
DTSTAMP:20260425T154153
CREATED:20120927T230343Z
LAST-MODIFIED:20121124T031110Z
UID:489-1369767600-1369774800@alki152.org
SUMMARY:Eastern Star - Amethyst Chapter
DESCRIPTION:
URL:https://alki152.org/event/eastern-star-amethyst-chapter-8/
LOCATION:Alki Masonic Center\, 4736 40th Ave. SW\, Seattle\, WA\, 98116\, United States
CATEGORIES:Amethyst,Masonic Family
GEO:47.5600056;-122.3825589
X-APPLE-STRUCTURED-LOCATION;VALUE=URI;X-ADDRESS=Alki Masonic Center 4736 40th Ave. SW Seattle WA 98116 United States;X-APPLE-RADIUS=500;X-TITLE=4736 40th Ave. SW:geo:-122.3825589,47.5600056
END:VEVENT
BEGIN:VEVENT
DTSTART;TZID=America/Los_Angeles:20130530T180000
DTEND;TZID=America/Los_Angeles:20130530T220000
DTSTAMP:20260425T154153
CREATED:20130513T204851Z
LAST-MODIFIED:20130513T204851Z
UID:1228-1369936800-1369951200@alki152.org
SUMMARY:Alki Lodge #152 - Ladies Night
DESCRIPTION:
URL:https://alki152.org/event/alki-lodge-152-ladies-night-3/
LOCATION:Alki Masonic Center\, 4736 40th Ave. SW\, Seattle\, WA\, 98116\, United States
CATEGORIES:Alki Lodge,Masonic Family
GEO:47.5600056;-122.3825589
X-APPLE-STRUCTURED-LOCATION;VALUE=URI;X-ADDRESS=Alki Masonic Center 4736 40th Ave. SW Seattle WA 98116 United States;X-APPLE-RADIUS=500;X-TITLE=4736 40th Ave. SW:geo:-122.3825589,47.5600056
END:VEVENT
BEGIN:VEVENT
DTSTART;TZID=America/Los_Angeles:20130531T150000
DTEND;TZID=America/Los_Angeles:20130531T210000
DTSTAMP:20260425T154153
CREATED:20130513T204932Z
LAST-MODIFIED:20130513T204932Z
UID:1229-1370012400-1370034000@alki152.org
SUMMARY:Private Rental
DESCRIPTION:
URL:https://alki152.org/event/private-rental-10/
LOCATION:Alki Masonic Center\, 4736 40th Ave. SW\, Seattle\, WA\, 98116\, United States
GEO:47.5600056;-122.3825589
X-APPLE-STRUCTURED-LOCATION;VALUE=URI;X-ADDRESS=Alki Masonic Center 4736 40th Ave. SW Seattle WA 98116 United States;X-APPLE-RADIUS=500;X-TITLE=4736 40th Ave. SW:geo:-122.3825589,47.5600056
END:VEVENT
BEGIN:VEVENT
DTSTART;TZID=America/Los_Angeles:20130601T120000
DTEND;TZID=America/Los_Angeles:20130601T170000
DTSTAMP:20260425T154153
CREATED:20121002T174145Z
LAST-MODIFIED:20130104T234200Z
UID:706-1370088000-1370106000@alki152.org
SUMMARY:Private Rental
DESCRIPTION:Content is protected.
URL:https://alki152.org/event/private-event-6/
LOCATION:Alki Masonic Center\, 4736 40th Ave. SW\, Seattle\, WA\, 98116\, United States
CATEGORIES:Private Event
GEO:47.5600056;-122.3825589
X-APPLE-STRUCTURED-LOCATION;VALUE=URI;X-ADDRESS=Alki Masonic Center 4736 40th Ave. SW Seattle WA 98116 United States;X-APPLE-RADIUS=500;X-TITLE=4736 40th Ave. SW:geo:-122.3825589,47.5600056
END:VEVENT
BEGIN:VEVENT
DTSTART;TZID=America/Los_Angeles:20130605T073000
DTEND;TZID=America/Los_Angeles:20130605T100000
DTSTAMP:20260425T154153
CREATED:20130615T231737Z
LAST-MODIFIED:20130628T174330Z
UID:1251-1370417400-1370426400@alki152.org
SUMMARY:BNI West Side Professionals
DESCRIPTION:
URL:https://alki152.org/event/bni-west-side-professionals/2013-06-05/
LOCATION:Alki Masonic Center\, 4736 40th Ave. SW\, Seattle\, WA\, 98116\, United States
CATEGORIES:Private Event
GEO:47.5600056;-122.3825589
X-APPLE-STRUCTURED-LOCATION;VALUE=URI;X-ADDRESS=Alki Masonic Center 4736 40th Ave. SW Seattle WA 98116 United States;X-APPLE-RADIUS=500;X-TITLE=4736 40th Ave. SW:geo:-122.3825589,47.5600056
END:VEVENT
BEGIN:VEVENT
DTSTART;TZID=America/Los_Angeles:20130608T140000
DTEND;TZID=America/Los_Angeles:20130608T170000
DTSTAMP:20260425T154153
CREATED:20130429T185628Z
LAST-MODIFIED:20130429T190757Z
UID:1184-1370700000-1370710800@alki152.org
SUMMARY:Rainbow Girls - Benefit for P.I.C.C
DESCRIPTION:Set up at 11:00
URL:https://alki152.org/event/rainbow-girls-benefit-for-p-i-c-c/
LOCATION:Alki Masonic Center\, 4736 40th Ave. SW\, Seattle\, WA\, 98116\, United States
CATEGORIES:Masonic Family,Public Event,Rainbow
GEO:47.5600056;-122.3825589
X-APPLE-STRUCTURED-LOCATION;VALUE=URI;X-ADDRESS=Alki Masonic Center 4736 40th Ave. SW Seattle WA 98116 United States;X-APPLE-RADIUS=500;X-TITLE=4736 40th Ave. SW:geo:-122.3825589,47.5600056
END:VEVENT
BEGIN:VEVENT
DTSTART;TZID=America/Los_Angeles:20130614T190000
DTEND;TZID=America/Los_Angeles:20130614T210000
DTSTAMP:20260425T154153
CREATED:20130508T205714Z
LAST-MODIFIED:20130508T205714Z
UID:1193-1371236400-1371243600@alki152.org
SUMMARY:Rainbow Girls
DESCRIPTION:
URL:https://alki152.org/event/rainbow-girls-30/
LOCATION:Alki Masonic Center\, 4736 40th Ave. SW\, Seattle\, WA\, 98116\, United States
CATEGORIES:Masonic Family,Rainbow
GEO:47.5600056;-122.3825589
X-APPLE-STRUCTURED-LOCATION;VALUE=URI;X-ADDRESS=Alki Masonic Center 4736 40th Ave. SW Seattle WA 98116 United States;X-APPLE-RADIUS=500;X-TITLE=4736 40th Ave. SW:geo:-122.3825589,47.5600056
END:VEVENT
BEGIN:VEVENT
DTSTART;TZID=America/Los_Angeles:20130622T170000
DTEND;TZID=America/Los_Angeles:20130622T230000
DTSTAMP:20260425T154153
CREATED:20121001T200420Z
LAST-MODIFIED:20121001T200420Z
UID:670-1371920400-1371942000@alki152.org
SUMMARY:Private Rental - Old Rides
DESCRIPTION:
URL:https://alki152.org/event/private-rental-old-rides-4/
LOCATION:Alki Masonic Center\, 4736 40th Ave. SW\, Seattle\, WA\, 98116\, United States
CATEGORIES:Private Event
GEO:47.5600056;-122.3825589
X-APPLE-STRUCTURED-LOCATION;VALUE=URI;X-ADDRESS=Alki Masonic Center 4736 40th Ave. SW Seattle WA 98116 United States;X-APPLE-RADIUS=500;X-TITLE=4736 40th Ave. SW:geo:-122.3825589,47.5600056
END:VEVENT
BEGIN:VEVENT
DTSTART;TZID=America/Los_Angeles:20130629T120000
DTEND;TZID=America/Los_Angeles:20130630T010000
DTSTAMP:20260425T154153
CREATED:20121130T222133Z
LAST-MODIFIED:20130103T223727Z
UID:974-1372507200-1372554000@alki152.org
SUMMARY:Private Rental
DESCRIPTION:Content is protected.
URL:https://alki152.org/event/private-rental-19/
LOCATION:Alki Masonic Center\, 4736 40th Ave. SW\, Seattle\, WA\, 98116\, United States
CATEGORIES:Private Event
GEO:47.5600056;-122.3825589
X-APPLE-STRUCTURED-LOCATION;VALUE=URI;X-ADDRESS=Alki Masonic Center 4736 40th Ave. SW Seattle WA 98116 United States;X-APPLE-RADIUS=500;X-TITLE=4736 40th Ave. SW:geo:-122.3825589,47.5600056
END:VEVENT
BEGIN:VEVENT
DTSTART;TZID=America/Los_Angeles:20130630T120000
DTEND;TZID=America/Los_Angeles:20130630T180000
DTSTAMP:20260425T154153
CREATED:20130605T053226Z
LAST-MODIFIED:20130606T212846Z
UID:1247-1372593600-1372615200@alki152.org
SUMMARY:Masonic Event - Memorial
DESCRIPTION:
URL:https://alki152.org/event/masonic-event-memorial/
LOCATION:Alki Masonic Center\, 4736 40th Ave. SW\, Seattle\, WA\, 98116\, United States
CATEGORIES:Alki Lodge,Masonic Family,Public Event
ORGANIZER;CN="Dick Syson%2C Secretary":MAILTO:nosys@comcast.net
GEO:47.5600056;-122.3825589
X-APPLE-STRUCTURED-LOCATION;VALUE=URI;X-ADDRESS=Alki Masonic Center 4736 40th Ave. SW Seattle WA 98116 United States;X-APPLE-RADIUS=500;X-TITLE=4736 40th Ave. SW:geo:-122.3825589,47.5600056
END:VEVENT
BEGIN:VEVENT
DTSTART;TZID=America/Los_Angeles:20130706T150000
DTEND;TZID=America/Los_Angeles:20130706T230000
DTSTAMP:20260425T154153
CREATED:20130402T204456Z
LAST-MODIFIED:20130606T211630Z
UID:1161-1373122800-1373151600@alki152.org
SUMMARY:Seattle Swing Dance Club
DESCRIPTION:Content is protected.
URL:https://alki152.org/event/tentative-seattle-swing-dance-club/
LOCATION:Alki Masonic Center\, 4736 40th Ave. SW\, Seattle\, WA\, 98116\, United States
CATEGORIES:Public Event
GEO:47.5600056;-122.3825589
X-APPLE-STRUCTURED-LOCATION;VALUE=URI;X-ADDRESS=Alki Masonic Center 4736 40th Ave. SW Seattle WA 98116 United States;X-APPLE-RADIUS=500;X-TITLE=4736 40th Ave. SW:geo:-122.3825589,47.5600056
END:VEVENT
BEGIN:VEVENT
DTSTART;TZID=America/Los_Angeles:20130712T100000
DTEND;TZID=America/Los_Angeles:20130712T100000
DTSTAMP:20260425T154153
CREATED:20121104T082840Z
LAST-MODIFIED:20121203T001140Z
UID:846-1373623200-1373623200@alki152.org
SUMMARY:Private Rental
DESCRIPTION:Content is protected.
URL:https://alki152.org/event/private-rental-wedding/
LOCATION:Alki Masonic Center\, 4736 40th Ave. SW\, Seattle\, WA\, 98116\, United States
CATEGORIES:Private Event
GEO:47.5600056;-122.3825589
X-APPLE-STRUCTURED-LOCATION;VALUE=URI;X-ADDRESS=Alki Masonic Center 4736 40th Ave. SW Seattle WA 98116 United States;X-APPLE-RADIUS=500;X-TITLE=4736 40th Ave. SW:geo:-122.3825589,47.5600056
END:VEVENT
BEGIN:VEVENT
DTSTART;TZID=America/Los_Angeles:20130712T180000
DTEND;TZID=America/Los_Angeles:20130712T190000
DTSTAMP:20260425T154153
CREATED:20130220T221346Z
LAST-MODIFIED:20130220T221400Z
UID:1117-1373652000-1373655600@alki152.org
SUMMARY:Rainbow Girls - CANCELLED
DESCRIPTION:
URL:https://alki152.org/event/rainbow-girls-24/
LOCATION:Alki Masonic Center – Lodge Room\, 4736 40th Ave. SW\, Seattle\, WA\, 98116\, United States
CATEGORIES:Masonic Family,Rainbow
GEO:47.5600056;-122.3825589
X-APPLE-STRUCTURED-LOCATION;VALUE=URI;X-ADDRESS=Alki Masonic Center – Lodge Room 4736 40th Ave. SW Seattle WA 98116 United States;X-APPLE-RADIUS=500;X-TITLE=4736 40th Ave. SW:geo:-122.3825589,47.5600056
END:VEVENT
END:VCALENDAR