BEGIN:VCALENDAR
VERSION:2.0
PRODID:-//Alki Masonic Lodge #152 - ECPv6.15.20//NONSGML v1.0//EN
CALSCALE:GREGORIAN
METHOD:PUBLISH
X-WR-CALNAME:Alki Masonic Lodge #152
X-ORIGINAL-URL:https://alki152.org
X-WR-CALDESC:Events for Alki Masonic Lodge #152
REFRESH-INTERVAL;VALUE=DURATION:PT1H
X-Robots-Tag:noindex
X-PUBLISHED-TTL:PT1H
BEGIN:VTIMEZONE
TZID:America/Los_Angeles
BEGIN:DAYLIGHT
TZOFFSETFROM:-0800
TZOFFSETTO:-0700
TZNAME:PDT
DTSTART:20120311T100000
END:DAYLIGHT
BEGIN:STANDARD
TZOFFSETFROM:-0700
TZOFFSETTO:-0800
TZNAME:PST
DTSTART:20121104T090000
END:STANDARD
BEGIN:DAYLIGHT
TZOFFSETFROM:-0800
TZOFFSETTO:-0700
TZNAME:PDT
DTSTART:20130310T100000
END:DAYLIGHT
BEGIN:STANDARD
TZOFFSETFROM:-0700
TZOFFSETTO:-0800
TZNAME:PST
DTSTART:20131103T090000
END:STANDARD
BEGIN:DAYLIGHT
TZOFFSETFROM:-0800
TZOFFSETTO:-0700
TZNAME:PDT
DTSTART:20140309T100000
END:DAYLIGHT
BEGIN:STANDARD
TZOFFSETFROM:-0700
TZOFFSETTO:-0800
TZNAME:PST
DTSTART:20141102T090000
END:STANDARD
END:VTIMEZONE
BEGIN:VEVENT
DTSTART;TZID=America/Los_Angeles:20130126T150000
DTEND;TZID=America/Los_Angeles:20130126T200000
DTSTAMP:20260425T034918
CREATED:20120927T233128Z
LAST-MODIFIED:20121124T042115Z
UID:510-1359212400-1359230400@alki152.org
SUMMARY:Rainbow Girls Installation
DESCRIPTION:
URL:https://alki152.org/event/rainbow-girls-11/
LOCATION:Alki Masonic Center\, 4736 40th Ave. SW\, Seattle\, WA\, 98116\, United States
CATEGORIES:Masonic Family,Rainbow
GEO:47.5600056;-122.3825589
X-APPLE-STRUCTURED-LOCATION;VALUE=URI;X-ADDRESS=Alki Masonic Center 4736 40th Ave. SW Seattle WA 98116 United States;X-APPLE-RADIUS=500;X-TITLE=4736 40th Ave. SW:geo:-122.3825589,47.5600056
END:VEVENT
BEGIN:VEVENT
DTSTART;TZID=America/Los_Angeles:20130202T170000
DTEND;TZID=America/Los_Angeles:20130202T210000
DTSTAMP:20260425T034918
CREATED:20121001T183943Z
LAST-MODIFIED:20121124T051944Z
UID:653-1359824400-1359838800@alki152.org
SUMMARY:Robert Burns Evening - Alba & Alki Lodges
DESCRIPTION:Brief lodge meeting at 5:00pm followed at 6:00pm by an evening celebrating the life of Robert Burns including poetry reading\, ambulance  musical entertainment\, click\n  great food and spirits.  BYOB\, ed  bring you friends\, neighbors and family.
URL:https://alki152.org/event/lodge-alba/
LOCATION:Alki Masonic Center\, 4736 40th Ave. SW\, Seattle\, WA\, 98116\, United States
CATEGORIES:Alki Lodge,Lodge Alba,Masonic Family,Public Event
GEO:47.5600056;-122.3825589
X-APPLE-STRUCTURED-LOCATION;VALUE=URI;X-ADDRESS=Alki Masonic Center 4736 40th Ave. SW Seattle WA 98116 United States;X-APPLE-RADIUS=500;X-TITLE=4736 40th Ave. SW:geo:-122.3825589,47.5600056
END:VEVENT
BEGIN:VEVENT
DTSTART;TZID=America/Los_Angeles:20130203T144500
DTEND;TZID=America/Los_Angeles:20130203T220000
DTSTAMP:20260425T034918
CREATED:20121124T060356Z
LAST-MODIFIED:20121124T060356Z
UID:973-1359902700-1359928800@alki152.org
SUMMARY:Seattle Swing Dance Club
DESCRIPTION:
URL:https://alki152.org/event/seattle-swing-dance-club-12-2/2013-02-03/
LOCATION:Alki Masonic Center\, 4736 40th Ave. SW\, Seattle\, WA\, 98116\, United States
CATEGORIES:Public Event
GEO:47.5600056;-122.3825589
X-APPLE-STRUCTURED-LOCATION;VALUE=URI;X-ADDRESS=Alki Masonic Center 4736 40th Ave. SW Seattle WA 98116 United States;X-APPLE-RADIUS=500;X-TITLE=4736 40th Ave. SW:geo:-122.3825589,47.5600056
END:VEVENT
BEGIN:VEVENT
DTSTART;TZID=America/Los_Angeles:20130208T190000
DTEND;TZID=America/Los_Angeles:20130208T200000
DTSTAMP:20260425T034918
CREATED:20120927T233207Z
LAST-MODIFIED:20121124T042150Z
UID:511-1360350000-1360353600@alki152.org
SUMMARY:Rainbow Girls
DESCRIPTION:
URL:https://alki152.org/event/rainbow-girls-12/
LOCATION:Alki Masonic Center – Lodge Room\, 4736 40th Ave. SW\, Seattle\, WA\, 98116\, United States
CATEGORIES:Masonic Family,Rainbow
GEO:47.5600056;-122.3825589
X-APPLE-STRUCTURED-LOCATION;VALUE=URI;X-ADDRESS=Alki Masonic Center – Lodge Room 4736 40th Ave. SW Seattle WA 98116 United States;X-APPLE-RADIUS=500;X-TITLE=4736 40th Ave. SW:geo:-122.3825589,47.5600056
END:VEVENT
BEGIN:VEVENT
DTSTART;TZID=America/Los_Angeles:20130209T090000
DTEND;TZID=America/Los_Angeles:20130209T120000
DTSTAMP:20260425T034918
CREATED:20121001T184048Z
LAST-MODIFIED:20121202T233154Z
UID:654-1360400400-1360411200@alki152.org
SUMMARY:Private Rental
DESCRIPTION:Content is protected.
URL:https://alki152.org/event/private-rental-8/
LOCATION:Alki Masonic Center\, 4736 40th Ave. SW\, Seattle\, WA\, 98116\, United States
CATEGORIES:Private Event
GEO:47.5600056;-122.3825589
X-APPLE-STRUCTURED-LOCATION;VALUE=URI;X-ADDRESS=Alki Masonic Center 4736 40th Ave. SW Seattle WA 98116 United States;X-APPLE-RADIUS=500;X-TITLE=4736 40th Ave. SW:geo:-122.3825589,47.5600056
END:VEVENT
BEGIN:VEVENT
DTSTART;TZID=America/Los_Angeles:20130210T120000
DTEND;TZID=America/Los_Angeles:20130210T220000
DTSTAMP:20260425T034918
CREATED:20121001T184316Z
LAST-MODIFIED:20130110T181226Z
UID:655-1360497600-1360533600@alki152.org
SUMMARY:OES King County Line Officers Dinner
DESCRIPTION:KCLO Dinner
URL:https://alki152.org/event/private-rental-9/
LOCATION:Alki Masonic Center\, 4736 40th Ave. SW\, Seattle\, WA\, 98116\, United States
CATEGORIES:Masonic Family
GEO:47.5600056;-122.3825589
X-APPLE-STRUCTURED-LOCATION;VALUE=URI;X-ADDRESS=Alki Masonic Center 4736 40th Ave. SW Seattle WA 98116 United States;X-APPLE-RADIUS=500;X-TITLE=4736 40th Ave. SW:geo:-122.3825589,47.5600056
END:VEVENT
BEGIN:VEVENT
DTSTART;TZID=America/Los_Angeles:20130223T170000
DTEND;TZID=America/Los_Angeles:20130223T220000
DTSTAMP:20260425T034918
CREATED:20121001T184618Z
LAST-MODIFIED:20121001T184618Z
UID:657-1361638800-1361656800@alki152.org
SUMMARY:Private Rental - Old Rides
DESCRIPTION:
URL:https://alki152.org/event/private-rental-old-rides-3/
LOCATION:Alki Masonic Center\, 4736 40th Ave. SW\, Seattle\, WA\, 98116\, United States
CATEGORIES:Private Event
GEO:47.5600056;-122.3825589
X-APPLE-STRUCTURED-LOCATION;VALUE=URI;X-ADDRESS=Alki Masonic Center 4736 40th Ave. SW Seattle WA 98116 United States;X-APPLE-RADIUS=500;X-TITLE=4736 40th Ave. SW:geo:-122.3825589,47.5600056
END:VEVENT
BEGIN:VEVENT
DTSTART;TZID=America/Los_Angeles:20130225T190000
DTEND;TZID=America/Los_Angeles:20130225T200000
DTSTAMP:20260425T034918
CREATED:20120927T214235Z
LAST-MODIFIED:20120929T191014Z
UID:462-1361818800-1361822400@alki152.org
SUMMARY:Temple Board
DESCRIPTION:
URL:https://alki152.org/event/temple-board-5/
LOCATION:Alki Masonic Center 3rd Floor\, 4736 40th Ave. SW\, Seattle\, WA\, 98116\, United States
CATEGORIES:Masonic Family
ORGANIZER;CN="Martin Monk":MAILTO:Martinmonk@yahoo.com
GEO:47.5600056;-122.3825589
X-APPLE-STRUCTURED-LOCATION;VALUE=URI;X-ADDRESS=Alki Masonic Center 3rd Floor 4736 40th Ave. SW Seattle WA 98116 United States;X-APPLE-RADIUS=500;X-TITLE=4736 40th Ave. SW:geo:-122.3825589,47.5600056
END:VEVENT
BEGIN:VEVENT
DTSTART;TZID=America/Los_Angeles:20130226T190000
DTEND;TZID=America/Los_Angeles:20130226T210000
DTSTAMP:20260425T034918
CREATED:20120927T230042Z
LAST-MODIFIED:20121124T030807Z
UID:485-1361905200-1361912400@alki152.org
SUMMARY:Eastern Star - Amethyst Chapter
DESCRIPTION:
URL:https://alki152.org/event/eastern-star-amethyst-chapter-5/
LOCATION:Alki Masonic Center\, 4736 40th Ave. SW\, Seattle\, WA\, 98116\, United States
CATEGORIES:Amethyst,Masonic Family
GEO:47.5600056;-122.3825589
X-APPLE-STRUCTURED-LOCATION;VALUE=URI;X-ADDRESS=Alki Masonic Center 4736 40th Ave. SW Seattle WA 98116 United States;X-APPLE-RADIUS=500;X-TITLE=4736 40th Ave. SW:geo:-122.3825589,47.5600056
END:VEVENT
BEGIN:VEVENT
DTSTART;TZID=America/Los_Angeles:20130228T190000
DTEND;TZID=America/Los_Angeles:20130228T200000
DTSTAMP:20260425T034918
CREATED:20120927T233252Z
LAST-MODIFIED:20121124T042228Z
UID:512-1362078000-1362081600@alki152.org
SUMMARY:Rainbow Girls
DESCRIPTION:
URL:https://alki152.org/event/rainbow-girls-13/
LOCATION:Alki Masonic Center – Lodge Room\, 4736 40th Ave. SW\, Seattle\, WA\, 98116\, United States
CATEGORIES:Masonic Family,Rainbow
GEO:47.5600056;-122.3825589
X-APPLE-STRUCTURED-LOCATION;VALUE=URI;X-ADDRESS=Alki Masonic Center – Lodge Room 4736 40th Ave. SW Seattle WA 98116 United States;X-APPLE-RADIUS=500;X-TITLE=4736 40th Ave. SW:geo:-122.3825589,47.5600056
END:VEVENT
BEGIN:VEVENT
DTSTART;TZID=America/Los_Angeles:20130302T170000
DTEND;TZID=America/Los_Angeles:20130302T210000
DTSTAMP:20260425T034918
CREATED:20121002T170816Z
LAST-MODIFIED:20121124T053534Z
UID:700-1362243600-1362258000@alki152.org
SUMMARY:Crab Feed - Alki Lodge #152
DESCRIPTION:
URL:https://alki152.org/event/crab-feed-alki-lodge-152/
LOCATION:Alki Masonic Center\, 4736 40th Ave. SW\, Seattle\, WA\, 98116\, United States
CATEGORIES:Alki Lodge,Masonic Family,Public Event
ORGANIZER;CN="Dick Syson%2C Secretary":MAILTO:nosys@comcast.net
GEO:47.5600056;-122.3825589
X-APPLE-STRUCTURED-LOCATION;VALUE=URI;X-ADDRESS=Alki Masonic Center 4736 40th Ave. SW Seattle WA 98116 United States;X-APPLE-RADIUS=500;X-TITLE=4736 40th Ave. SW:geo:-122.3825589,47.5600056
END:VEVENT
BEGIN:VEVENT
DTSTART;TZID=America/Los_Angeles:20130308T190000
DTEND;TZID=America/Los_Angeles:20130308T200000
DTSTAMP:20260425T034918
CREATED:20120927T233335Z
LAST-MODIFIED:20121124T042304Z
UID:513-1362769200-1362772800@alki152.org
SUMMARY:Rainbow Girls
DESCRIPTION:
URL:https://alki152.org/event/rainbow-girls-14/
LOCATION:Alki Masonic Center – Lodge Room\, 4736 40th Ave. SW\, Seattle\, WA\, 98116\, United States
CATEGORIES:Masonic Family,Rainbow
GEO:47.5600056;-122.3825589
X-APPLE-STRUCTURED-LOCATION;VALUE=URI;X-ADDRESS=Alki Masonic Center – Lodge Room 4736 40th Ave. SW Seattle WA 98116 United States;X-APPLE-RADIUS=500;X-TITLE=4736 40th Ave. SW:geo:-122.3825589,47.5600056
END:VEVENT
BEGIN:VEVENT
DTSTART;TZID=America/Los_Angeles:20130309T060000
DTEND;TZID=America/Los_Angeles:20130309T150000
DTSTAMP:20260425T034918
CREATED:20121001T192812Z
LAST-MODIFIED:20121015T194725Z
UID:662-1362808800-1362841200@alki152.org
SUMMARY:Pacific Northwest Tool Collectors
DESCRIPTION:For membership and further information visit http://tooltimer.com
URL:https://alki152.org/event/private-event-tool-show/
LOCATION:Alki Masonic Center\, 4736 40th Ave. SW\, Seattle\, WA\, 98116\, United States
CATEGORIES:Private Event
GEO:47.5600056;-122.3825589
X-APPLE-STRUCTURED-LOCATION;VALUE=URI;X-ADDRESS=Alki Masonic Center 4736 40th Ave. SW Seattle WA 98116 United States;X-APPLE-RADIUS=500;X-TITLE=4736 40th Ave. SW:geo:-122.3825589,47.5600056
END:VEVENT
BEGIN:VEVENT
DTSTART;TZID=America/Los_Angeles:20130309T170000
DTEND;TZID=America/Los_Angeles:20130309T170000
DTSTAMP:20260425T034918
CREATED:20130213T213316Z
LAST-MODIFIED:20130213T213316Z
UID:1102-1362848400-1362848400@alki152.org
SUMMARY:Private Event
DESCRIPTION:Content is protected.
URL:https://alki152.org/event/private-event-9/
LOCATION:Alki Masonic Center\, 4736 40th Ave. SW\, Seattle\, WA\, 98116\, United States
GEO:47.5600056;-122.3825589
X-APPLE-STRUCTURED-LOCATION;VALUE=URI;X-ADDRESS=Alki Masonic Center 4736 40th Ave. SW Seattle WA 98116 United States;X-APPLE-RADIUS=500;X-TITLE=4736 40th Ave. SW:geo:-122.3825589,47.5600056
END:VEVENT
BEGIN:VEVENT
DTSTART;TZID=America/Los_Angeles:20130313T090000
DTEND;TZID=America/Los_Angeles:20130313T130000
DTSTAMP:20260425T034918
CREATED:20130228T222220Z
LAST-MODIFIED:20130228T222220Z
UID:1136-1363165200-1363179600@alki152.org
SUMMARY:Private Event
DESCRIPTION:Content is protected.
URL:https://alki152.org/event/private-event-20/
LOCATION:Alki Masonic Center\, 4736 40th Ave. SW\, Seattle\, WA\, 98116\, United States
GEO:47.5600056;-122.3825589
X-APPLE-STRUCTURED-LOCATION;VALUE=URI;X-ADDRESS=Alki Masonic Center 4736 40th Ave. SW Seattle WA 98116 United States;X-APPLE-RADIUS=500;X-TITLE=4736 40th Ave. SW:geo:-122.3825589,47.5600056
END:VEVENT
BEGIN:VEVENT
DTSTART;TZID=America/Los_Angeles:20130320T113000
DTEND;TZID=America/Los_Angeles:20130320T133000
DTSTAMP:20260425T034918
CREATED:20130219T182050Z
LAST-MODIFIED:20130219T182050Z
UID:1113-1363779000-1363786200@alki152.org
SUMMARY:Private Event
DESCRIPTION:Content is protected.
URL:https://alki152.org/event/private-event-12/
LOCATION:Alki Masonic Center\, 4736 40th Ave. SW\, Seattle\, WA\, 98116\, United States
GEO:47.5600056;-122.3825589
X-APPLE-STRUCTURED-LOCATION;VALUE=URI;X-ADDRESS=Alki Masonic Center 4736 40th Ave. SW Seattle WA 98116 United States;X-APPLE-RADIUS=500;X-TITLE=4736 40th Ave. SW:geo:-122.3825589,47.5600056
END:VEVENT
BEGIN:VEVENT
DTSTART;TZID=America/Los_Angeles:20130320T180000
DTEND;TZID=America/Los_Angeles:20130320T220000
DTSTAMP:20260425T034918
CREATED:20121001T232304Z
LAST-MODIFIED:20130305T230314Z
UID:695-1363802400-1363816800@alki152.org
SUMMARY:Alki Lodge #152 - EA Degree
DESCRIPTION:Catered Dinner at 6:00 pm
URL:https://alki152.org/event/alki-lodge-152-ladies-night/
LOCATION:Alki Masonic Center\, 4736 40th Ave. SW\, Seattle\, WA\, 98116\, United States
CATEGORIES:Alki Lodge,Masonic Family
ORGANIZER;CN="Dick Syson%2C Secretary":MAILTO:nosys@comcast.net
GEO:47.5600056;-122.3825589
X-APPLE-STRUCTURED-LOCATION;VALUE=URI;X-ADDRESS=Alki Masonic Center 4736 40th Ave. SW Seattle WA 98116 United States;X-APPLE-RADIUS=500;X-TITLE=4736 40th Ave. SW:geo:-122.3825589,47.5600056
END:VEVENT
BEGIN:VEVENT
DTSTART;TZID=America/Los_Angeles:20130326T190000
DTEND;TZID=America/Los_Angeles:20130326T210000
DTSTAMP:20260425T034918
CREATED:20120927T230122Z
LAST-MODIFIED:20121124T030939Z
UID:486-1364324400-1364331600@alki152.org
SUMMARY:Eastern Star - Amethyst Chapter
DESCRIPTION:
URL:https://alki152.org/event/eastern-star-amethyst-chapter-6/
LOCATION:Alki Masonic Center\, 4736 40th Ave. SW\, Seattle\, WA\, 98116\, United States
CATEGORIES:Amethyst,Masonic Family
GEO:47.5600056;-122.3825589
X-APPLE-STRUCTURED-LOCATION;VALUE=URI;X-ADDRESS=Alki Masonic Center 4736 40th Ave. SW Seattle WA 98116 United States;X-APPLE-RADIUS=500;X-TITLE=4736 40th Ave. SW:geo:-122.3825589,47.5600056
END:VEVENT
BEGIN:VEVENT
DTSTART;TZID=America/Los_Angeles:20130327T190000
DTEND;TZID=America/Los_Angeles:20130327T200000
DTSTAMP:20260425T034918
CREATED:20121226T234933Z
LAST-MODIFIED:20121226T234933Z
UID:1046-1364410800-1364414400@alki152.org
SUMMARY:Amaranth - Westgate Court
DESCRIPTION:
URL:https://alki152.org/event/amaranth-westgate-court-10/
LOCATION:Alki Masonic Center\, 4736 40th Ave. SW\, Seattle\, WA\, 98116\, United States
CATEGORIES:Masonic Family,Westgate
ORGANIZER;CN="Sue Gibbs":MAILTO:westgateevents21@gmail.com
GEO:47.5600056;-122.3825589
X-APPLE-STRUCTURED-LOCATION;VALUE=URI;X-ADDRESS=Alki Masonic Center 4736 40th Ave. SW Seattle WA 98116 United States;X-APPLE-RADIUS=500;X-TITLE=4736 40th Ave. SW:geo:-122.3825589,47.5600056
END:VEVENT
BEGIN:VEVENT
DTSTART;TZID=America/Los_Angeles:20130328T190000
DTEND;TZID=America/Los_Angeles:20130328T200000
DTSTAMP:20260425T034918
CREATED:20120927T233415Z
LAST-MODIFIED:20121124T042332Z
UID:514-1364497200-1364500800@alki152.org
SUMMARY:Rainbow Girls
DESCRIPTION:
URL:https://alki152.org/event/rainbow-girls-15/
LOCATION:Alki Masonic Center – Lodge Room\, 4736 40th Ave. SW\, Seattle\, WA\, 98116\, United States
CATEGORIES:Masonic Family,Rainbow
GEO:47.5600056;-122.3825589
X-APPLE-STRUCTURED-LOCATION;VALUE=URI;X-ADDRESS=Alki Masonic Center – Lodge Room 4736 40th Ave. SW Seattle WA 98116 United States;X-APPLE-RADIUS=500;X-TITLE=4736 40th Ave. SW:geo:-122.3825589,47.5600056
END:VEVENT
BEGIN:VEVENT
DTSTART;TZID=America/Los_Angeles:20130329T170000
DTEND;TZID=America/Los_Angeles:20130329T210000
DTSTAMP:20260425T034918
CREATED:20130225T180755Z
LAST-MODIFIED:20130320T170235Z
UID:1127-1364576400-1364590800@alki152.org
SUMMARY:Private Event
DESCRIPTION:Content is protected.
URL:https://alki152.org/event/private-event-14/
LOCATION:Alki Masonic Center – Lodge Room\, 4736 40th Ave. SW\, Seattle\, WA\, 98116\, United States
CATEGORIES:Private Event
GEO:47.5600056;-122.3825589
X-APPLE-STRUCTURED-LOCATION;VALUE=URI;X-ADDRESS=Alki Masonic Center – Lodge Room 4736 40th Ave. SW Seattle WA 98116 United States;X-APPLE-RADIUS=500;X-TITLE=4736 40th Ave. SW:geo:-122.3825589,47.5600056
END:VEVENT
BEGIN:VEVENT
DTSTART;TZID=America/Los_Angeles:20130330T080000
DTEND;TZID=America/Los_Angeles:20130330T120000
DTSTAMP:20260425T034918
CREATED:20121001T232355Z
LAST-MODIFIED:20121124T053631Z
UID:696-1364630400-1364644800@alki152.org
SUMMARY:Pancake Breakfast - Alki Lodge #152
DESCRIPTION:
URL:https://alki152.org/event/pancake-breakfast-alki-lodge-152/
LOCATION:Alki Masonic Center\, 4736 40th Ave. SW\, Seattle\, WA\, 98116\, United States
CATEGORIES:Masonic Family,Public Event
ORGANIZER;CN="Dick Syson%2C Secretary":MAILTO:nosys@comcast.net
GEO:47.5600056;-122.3825589
X-APPLE-STRUCTURED-LOCATION;VALUE=URI;X-ADDRESS=Alki Masonic Center 4736 40th Ave. SW Seattle WA 98116 United States;X-APPLE-RADIUS=500;X-TITLE=4736 40th Ave. SW:geo:-122.3825589,47.5600056
END:VEVENT
BEGIN:VEVENT
DTSTART;TZID=America/Los_Angeles:20130330T130000
DTEND;TZID=America/Los_Angeles:20130330T190000
DTSTAMP:20260425T034918
CREATED:20130225T180908Z
LAST-MODIFIED:20130320T170235Z
UID:1128-1364648400-1364670000@alki152.org
SUMMARY:Private Event
DESCRIPTION:Content is protected.
URL:https://alki152.org/event/private-event-15/
LOCATION:Alki Masonic Center\, 4736 40th Ave. SW\, Seattle\, WA\, 98116\, United States
CATEGORIES:Private Event
GEO:47.5600056;-122.3825589
X-APPLE-STRUCTURED-LOCATION;VALUE=URI;X-ADDRESS=Alki Masonic Center 4736 40th Ave. SW Seattle WA 98116 United States;X-APPLE-RADIUS=500;X-TITLE=4736 40th Ave. SW:geo:-122.3825589,47.5600056
END:VEVENT
BEGIN:VEVENT
DTSTART;TZID=America/Los_Angeles:20130331T090000
DTEND;TZID=America/Los_Angeles:20130331T180000
DTSTAMP:20260425T034918
CREATED:20130225T181422Z
LAST-MODIFIED:20130320T170232Z
UID:1129-1364720400-1364752800@alki152.org
SUMMARY:Private Event
DESCRIPTION:Content is protected.
URL:https://alki152.org/event/private-event-16/
LOCATION:Alki Masonic Center – Lodge Room\, 4736 40th Ave. SW\, Seattle\, WA\, 98116\, United States
CATEGORIES:Private Event
GEO:47.5600056;-122.3825589
X-APPLE-STRUCTURED-LOCATION;VALUE=URI;X-ADDRESS=Alki Masonic Center – Lodge Room 4736 40th Ave. SW Seattle WA 98116 United States;X-APPLE-RADIUS=500;X-TITLE=4736 40th Ave. SW:geo:-122.3825589,47.5600056
END:VEVENT
BEGIN:VEVENT
DTSTART;TZID=America/Los_Angeles:20130331T130000
DTEND;TZID=America/Los_Angeles:20130331T220000
DTSTAMP:20260425T034918
CREATED:20130225T192941Z
LAST-MODIFIED:20130306T232446Z
UID:1130-1364734800-1364767200@alki152.org
SUMMARY:Private Event
DESCRIPTION:Content is protected.
URL:https://alki152.org/event/private-event-17/
LOCATION:Alki Masonic Center\, 4736 40th Ave. SW\, Seattle\, WA\, 98116\, United States
CATEGORIES:Private Event
GEO:47.5600056;-122.3825589
X-APPLE-STRUCTURED-LOCATION;VALUE=URI;X-ADDRESS=Alki Masonic Center 4736 40th Ave. SW Seattle WA 98116 United States;X-APPLE-RADIUS=500;X-TITLE=4736 40th Ave. SW:geo:-122.3825589,47.5600056
END:VEVENT
BEGIN:VEVENT
DTSTART;TZID=America/Los_Angeles:20130405T170000
DTEND;TZID=America/Los_Angeles:20130405T210000
DTSTAMP:20260425T034918
CREATED:20121001T204918Z
LAST-MODIFIED:20121206T230013Z
UID:672-1365181200-1365195600@alki152.org
SUMMARY:Amaranth - Westgate Court - Installation
DESCRIPTION:5:00 pm meeting\, sick\n  Public Installation at 7:00
URL:https://alki152.org/event/amaranth-westgate-court-7-3/
LOCATION:Alki Masonic Center\, 4736 40th Ave. SW\, Seattle\, WA\, 98116\, United States
CATEGORIES:Masonic Family,Public Event,Westgate
ORGANIZER;CN="Sue Gibbs":MAILTO:westgateevents21@gmail.com
GEO:47.5600056;-122.3825589
X-APPLE-STRUCTURED-LOCATION;VALUE=URI;X-ADDRESS=Alki Masonic Center 4736 40th Ave. SW Seattle WA 98116 United States;X-APPLE-RADIUS=500;X-TITLE=4736 40th Ave. SW:geo:-122.3825589,47.5600056
END:VEVENT
BEGIN:VEVENT
DTSTART;TZID=America/Los_Angeles:20130406T170000
DTEND;TZID=America/Los_Angeles:20130406T220000
DTSTAMP:20260425T034918
CREATED:20120927T230220Z
LAST-MODIFIED:20121124T031006Z
UID:487-1365267600-1365285600@alki152.org
SUMMARY:Eastern Star - Amethyst Chapter Installation
DESCRIPTION:
URL:https://alki152.org/event/eastern-star-amethyst-chapter-installation/
LOCATION:Alki Masonic Center\, 4736 40th Ave. SW\, Seattle\, WA\, 98116\, United States
CATEGORIES:Amethyst,Masonic Family
GEO:47.5600056;-122.3825589
X-APPLE-STRUCTURED-LOCATION;VALUE=URI;X-ADDRESS=Alki Masonic Center 4736 40th Ave. SW Seattle WA 98116 United States;X-APPLE-RADIUS=500;X-TITLE=4736 40th Ave. SW:geo:-122.3825589,47.5600056
END:VEVENT
BEGIN:VEVENT
DTSTART;TZID=America/Los_Angeles:20130412T190000
DTEND;TZID=America/Los_Angeles:20130412T200000
DTSTAMP:20260425T034918
CREATED:20120927T233456Z
LAST-MODIFIED:20130329T014013Z
UID:515-1365793200-1365796800@alki152.org
SUMMARY:Rainbow Girls
DESCRIPTION:
URL:https://alki152.org/event/rainbow-girls-16/
LOCATION:Alki Masonic Center – Lodge Room\, 4736 40th Ave. SW\, Seattle\, WA\, 98116\, United States
CATEGORIES:Masonic Family,Rainbow
GEO:47.5600056;-122.3825589
X-APPLE-STRUCTURED-LOCATION;VALUE=URI;X-ADDRESS=Alki Masonic Center – Lodge Room 4736 40th Ave. SW Seattle WA 98116 United States;X-APPLE-RADIUS=500;X-TITLE=4736 40th Ave. SW:geo:-122.3825589,47.5600056
END:VEVENT
BEGIN:VEVENT
DTSTART;TZID=America/Los_Angeles:20130413T140000
DTEND;TZID=America/Los_Angeles:20130413T200000
DTSTAMP:20260425T034918
CREATED:20130127T084010Z
LAST-MODIFIED:20130127T084037Z
UID:1093-1365861600-1365883200@alki152.org
SUMMARY:Rainbow Girls - Spaghetti Feed
DESCRIPTION:
URL:https://alki152.org/event/rainbow-girls-spaghetti-feed/
LOCATION:Alki Masonic Center\, 4736 40th Ave. SW\, Seattle\, WA\, 98116\, United States
CATEGORIES:Masonic Family,Public Event,Rainbow
GEO:47.5600056;-122.3825589
X-APPLE-STRUCTURED-LOCATION;VALUE=URI;X-ADDRESS=Alki Masonic Center 4736 40th Ave. SW Seattle WA 98116 United States;X-APPLE-RADIUS=500;X-TITLE=4736 40th Ave. SW:geo:-122.3825589,47.5600056
END:VEVENT
BEGIN:VEVENT
DTSTART;TZID=America/Los_Angeles:20130423T190000
DTEND;TZID=America/Los_Angeles:20130423T210000
DTSTAMP:20260425T034918
CREATED:20120927T230256Z
LAST-MODIFIED:20121124T031034Z
UID:488-1366743600-1366750800@alki152.org
SUMMARY:Eastern Star - Amethyst Chapter
DESCRIPTION:
URL:https://alki152.org/event/eastern-star-amethyst-chapter-7/
LOCATION:Alki Masonic Center\, 4736 40th Ave. SW\, Seattle\, WA\, 98116\, United States
CATEGORIES:Amethyst,Masonic Family
GEO:47.5600056;-122.3825589
X-APPLE-STRUCTURED-LOCATION;VALUE=URI;X-ADDRESS=Alki Masonic Center 4736 40th Ave. SW Seattle WA 98116 United States;X-APPLE-RADIUS=500;X-TITLE=4736 40th Ave. SW:geo:-122.3825589,47.5600056
END:VEVENT
END:VCALENDAR