BEGIN:VCALENDAR
VERSION:2.0
PRODID:-//Alki Masonic Lodge #152 - ECPv6.15.20//NONSGML v1.0//EN
CALSCALE:GREGORIAN
METHOD:PUBLISH
X-WR-CALNAME:Alki Masonic Lodge #152
X-ORIGINAL-URL:https://alki152.org
X-WR-CALDESC:Events for Alki Masonic Lodge #152
REFRESH-INTERVAL;VALUE=DURATION:PT1H
X-Robots-Tag:noindex
X-PUBLISHED-TTL:PT1H
BEGIN:VTIMEZONE
TZID:America/Los_Angeles
BEGIN:DAYLIGHT
TZOFFSETFROM:-0800
TZOFFSETTO:-0700
TZNAME:PDT
DTSTART:20250309T100000
END:DAYLIGHT
BEGIN:STANDARD
TZOFFSETFROM:-0700
TZOFFSETTO:-0800
TZNAME:PST
DTSTART:20251102T090000
END:STANDARD
BEGIN:DAYLIGHT
TZOFFSETFROM:-0800
TZOFFSETTO:-0700
TZNAME:PDT
DTSTART:20260308T100000
END:DAYLIGHT
BEGIN:STANDARD
TZOFFSETFROM:-0700
TZOFFSETTO:-0800
TZNAME:PST
DTSTART:20261101T090000
END:STANDARD
BEGIN:DAYLIGHT
TZOFFSETFROM:-0800
TZOFFSETTO:-0700
TZNAME:PDT
DTSTART:20270314T100000
END:DAYLIGHT
BEGIN:STANDARD
TZOFFSETFROM:-0700
TZOFFSETTO:-0800
TZNAME:PST
DTSTART:20271107T090000
END:STANDARD
BEGIN:DAYLIGHT
TZOFFSETFROM:-0800
TZOFFSETTO:-0700
TZNAME:PDT
DTSTART:20280312T100000
END:DAYLIGHT
BEGIN:STANDARD
TZOFFSETFROM:-0700
TZOFFSETTO:-0800
TZNAME:PST
DTSTART:20281105T090000
END:STANDARD
END:VTIMEZONE
BEGIN:VEVENT
DTSTART;TZID=America/Los_Angeles:20261008T100000
DTEND;TZID=America/Los_Angeles:20261008T120000
DTSTAMP:20260423T153748
CREATED:20251002T213843Z
LAST-MODIFIED:20251002T213843Z
UID:13195-1791453600-1791460800@alki152.org
SUMMARY:Alki Lodge Social Gathering
DESCRIPTION:Time set aside for members (all Lodges) and friends to gather for social interaction. No set agenda\, no pressure. Chess available. Bring a guitar if you want. Provide a fishing story or two if you must.
URL:https://alki152.org/event/alki-lodge-social-gathering/2026-10-08/
END:VEVENT
BEGIN:VEVENT
DTSTART;TZID=America/Los_Angeles:20261015T100000
DTEND;TZID=America/Los_Angeles:20261015T120000
DTSTAMP:20260423T153748
CREATED:20251002T213843Z
LAST-MODIFIED:20251002T213843Z
UID:13196-1792058400-1792065600@alki152.org
SUMMARY:Alki Lodge Social Gathering
DESCRIPTION:Time set aside for members (all Lodges) and friends to gather for social interaction. No set agenda\, no pressure. Chess available. Bring a guitar if you want. Provide a fishing story or two if you must.
URL:https://alki152.org/event/alki-lodge-social-gathering/2026-10-15/
END:VEVENT
BEGIN:VEVENT
DTSTART;TZID=America/Los_Angeles:20261019T180000
DTEND;TZID=America/Los_Angeles:20261019T213000
DTSTAMP:20260423T153748
CREATED:20250923T151529Z
LAST-MODIFIED:20250923T151529Z
UID:13126-1792432800-1792445400@alki152.org
SUMMARY:Alki Lodge #152 Education Night
DESCRIPTION:
URL:https://alki152.org/event/alki-lodge-152-education-night-5/
CATEGORIES:Masonic Family
END:VEVENT
BEGIN:VEVENT
DTSTART;TZID=America/Los_Angeles:20261022T100000
DTEND;TZID=America/Los_Angeles:20261022T120000
DTSTAMP:20260423T153748
CREATED:20251002T213843Z
LAST-MODIFIED:20251002T213843Z
UID:13197-1792663200-1792670400@alki152.org
SUMMARY:Alki Lodge Social Gathering
DESCRIPTION:Time set aside for members (all Lodges) and friends to gather for social interaction. No set agenda\, no pressure. Chess available. Bring a guitar if you want. Provide a fishing story or two if you must.
URL:https://alki152.org/event/alki-lodge-social-gathering/2026-10-22/
END:VEVENT
BEGIN:VEVENT
DTSTART;TZID=America/Los_Angeles:20261029T100000
DTEND;TZID=America/Los_Angeles:20261029T120000
DTSTAMP:20260423T153748
CREATED:20251002T213843Z
LAST-MODIFIED:20251002T213843Z
UID:13198-1793268000-1793275200@alki152.org
SUMMARY:Alki Lodge Social Gathering
DESCRIPTION:Time set aside for members (all Lodges) and friends to gather for social interaction. No set agenda\, no pressure. Chess available. Bring a guitar if you want. Provide a fishing story or two if you must.
URL:https://alki152.org/event/alki-lodge-social-gathering/2026-10-29/
END:VEVENT
BEGIN:VEVENT
DTSTART;TZID=America/Los_Angeles:20261101T080000
DTEND;TZID=America/Los_Angeles:20261101T100000
DTSTAMP:20260423T153748
CREATED:20250923T151251Z
LAST-MODIFIED:20250923T151251Z
UID:13122-1793520000-1793527200@alki152.org
SUMMARY:Alki Lodge #152 First Sunday Breakfast
DESCRIPTION:
URL:https://alki152.org/event/alki-lodge-152-first-sunday-breakfast-6/
CATEGORIES:Masonic Family,Public Event
END:VEVENT
BEGIN:VEVENT
DTSTART;TZID=America/Los_Angeles:20261102T183000
DTEND;TZID=America/Los_Angeles:20261102T213000
DTSTAMP:20260423T153748
CREATED:20241118T202924Z
LAST-MODIFIED:20241118T202924Z
UID:12077-1793644200-1793655000@alki152.org
SUMMARY:Alki Lodge #152
DESCRIPTION:
URL:https://alki152.org/event/alki-lodge-152/2026-11-02/
CATEGORIES:Alki Lodge
END:VEVENT
BEGIN:VEVENT
DTSTART;TZID=America/Los_Angeles:20261105T100000
DTEND;TZID=America/Los_Angeles:20261105T120000
DTSTAMP:20260423T153748
CREATED:20251002T213843Z
LAST-MODIFIED:20251002T213843Z
UID:13199-1793872800-1793880000@alki152.org
SUMMARY:Alki Lodge Social Gathering
DESCRIPTION:Time set aside for members (all Lodges) and friends to gather for social interaction. No set agenda\, no pressure. Chess available. Bring a guitar if you want. Provide a fishing story or two if you must.
URL:https://alki152.org/event/alki-lodge-social-gathering/2026-11-05/
END:VEVENT
BEGIN:VEVENT
DTSTART;TZID=America/Los_Angeles:20261112T100000
DTEND;TZID=America/Los_Angeles:20261112T120000
DTSTAMP:20260423T153748
CREATED:20251002T213843Z
LAST-MODIFIED:20251002T213843Z
UID:13200-1794477600-1794484800@alki152.org
SUMMARY:Alki Lodge Social Gathering
DESCRIPTION:Time set aside for members (all Lodges) and friends to gather for social interaction. No set agenda\, no pressure. Chess available. Bring a guitar if you want. Provide a fishing story or two if you must.
URL:https://alki152.org/event/alki-lodge-social-gathering/2026-11-12/
END:VEVENT
BEGIN:VEVENT
DTSTART;TZID=America/Los_Angeles:20261116T180000
DTEND;TZID=America/Los_Angeles:20261116T213000
DTSTAMP:20260423T153748
CREATED:20250923T151027Z
LAST-MODIFIED:20250923T151027Z
UID:13120-1794852000-1794864600@alki152.org
SUMMARY:Alki Lodge #152 Education Night
DESCRIPTION:
URL:https://alki152.org/event/alki-lodge-152-education-night-4/
CATEGORIES:Masonic Family
END:VEVENT
BEGIN:VEVENT
DTSTART;TZID=America/Los_Angeles:20261119T100000
DTEND;TZID=America/Los_Angeles:20261119T120000
DTSTAMP:20260423T153748
CREATED:20251002T213843Z
LAST-MODIFIED:20251002T213843Z
UID:13201-1795082400-1795089600@alki152.org
SUMMARY:Alki Lodge Social Gathering
DESCRIPTION:Time set aside for members (all Lodges) and friends to gather for social interaction. No set agenda\, no pressure. Chess available. Bring a guitar if you want. Provide a fishing story or two if you must.
URL:https://alki152.org/event/alki-lodge-social-gathering/2026-11-19/
END:VEVENT
BEGIN:VEVENT
DTSTART;TZID=America/Los_Angeles:20261126T100000
DTEND;TZID=America/Los_Angeles:20261126T120000
DTSTAMP:20260423T153748
CREATED:20251002T213843Z
LAST-MODIFIED:20251002T213843Z
UID:13202-1795687200-1795694400@alki152.org
SUMMARY:Alki Lodge Social Gathering
DESCRIPTION:Time set aside for members (all Lodges) and friends to gather for social interaction. No set agenda\, no pressure. Chess available. Bring a guitar if you want. Provide a fishing story or two if you must.
URL:https://alki152.org/event/alki-lodge-social-gathering/2026-11-26/
END:VEVENT
BEGIN:VEVENT
DTSTART;TZID=America/Los_Angeles:20261203T100000
DTEND;TZID=America/Los_Angeles:20261203T120000
DTSTAMP:20260423T153748
CREATED:20251002T213843Z
LAST-MODIFIED:20251002T213843Z
UID:13203-1796292000-1796299200@alki152.org
SUMMARY:Alki Lodge Social Gathering
DESCRIPTION:Time set aside for members (all Lodges) and friends to gather for social interaction. No set agenda\, no pressure. Chess available. Bring a guitar if you want. Provide a fishing story or two if you must.
URL:https://alki152.org/event/alki-lodge-social-gathering/2026-12-03/
END:VEVENT
BEGIN:VEVENT
DTSTART;TZID=America/Los_Angeles:20261207T183000
DTEND;TZID=America/Los_Angeles:20261207T213000
DTSTAMP:20260423T153748
CREATED:20241118T202924Z
LAST-MODIFIED:20241118T202924Z
UID:12554-1796668200-1796679000@alki152.org
SUMMARY:Alki Lodge #152
DESCRIPTION:
URL:https://alki152.org/event/alki-lodge-152/2026-12-07/
CATEGORIES:Alki Lodge
END:VEVENT
BEGIN:VEVENT
DTSTART;TZID=America/Los_Angeles:20261210T100000
DTEND;TZID=America/Los_Angeles:20261210T120000
DTSTAMP:20260423T153748
CREATED:20251002T213843Z
LAST-MODIFIED:20251002T213843Z
UID:13204-1796896800-1796904000@alki152.org
SUMMARY:Alki Lodge Social Gathering
DESCRIPTION:Time set aside for members (all Lodges) and friends to gather for social interaction. No set agenda\, no pressure. Chess available. Bring a guitar if you want. Provide a fishing story or two if you must.
URL:https://alki152.org/event/alki-lodge-social-gathering/2026-12-10/
END:VEVENT
BEGIN:VEVENT
DTSTART;TZID=America/Los_Angeles:20261212T170000
DTEND;TZID=America/Los_Angeles:20261212T213000
DTSTAMP:20260423T153748
CREATED:20250923T151942Z
LAST-MODIFIED:20250923T151942Z
UID:13130-1797094800-1797111000@alki152.org
SUMMARY:Alki Lodge Officer #152 Installation
DESCRIPTION:
URL:https://alki152.org/event/alki-lodge-officer-152-installation/
CATEGORIES:Masonic Family
END:VEVENT
BEGIN:VEVENT
DTSTART;TZID=America/Los_Angeles:20261217T100000
DTEND;TZID=America/Los_Angeles:20261217T120000
DTSTAMP:20260423T153748
CREATED:20251002T213843Z
LAST-MODIFIED:20251002T213843Z
UID:13205-1797501600-1797508800@alki152.org
SUMMARY:Alki Lodge Social Gathering
DESCRIPTION:Time set aside for members (all Lodges) and friends to gather for social interaction. No set agenda\, no pressure. Chess available. Bring a guitar if you want. Provide a fishing story or two if you must.
URL:https://alki152.org/event/alki-lodge-social-gathering/2026-12-17/
END:VEVENT
BEGIN:VEVENT
DTSTART;TZID=America/Los_Angeles:20261224T100000
DTEND;TZID=America/Los_Angeles:20261224T120000
DTSTAMP:20260423T153748
CREATED:20251002T213843Z
LAST-MODIFIED:20251002T213843Z
UID:13206-1798106400-1798113600@alki152.org
SUMMARY:Alki Lodge Social Gathering
DESCRIPTION:Time set aside for members (all Lodges) and friends to gather for social interaction. No set agenda\, no pressure. Chess available. Bring a guitar if you want. Provide a fishing story or two if you must.
URL:https://alki152.org/event/alki-lodge-social-gathering/2026-12-24/
END:VEVENT
BEGIN:VEVENT
DTSTART;TZID=America/Los_Angeles:20261231T100000
DTEND;TZID=America/Los_Angeles:20261231T120000
DTSTAMP:20260423T153748
CREATED:20251002T213843Z
LAST-MODIFIED:20251002T213843Z
UID:13207-1798711200-1798718400@alki152.org
SUMMARY:Alki Lodge Social Gathering
DESCRIPTION:Time set aside for members (all Lodges) and friends to gather for social interaction. No set agenda\, no pressure. Chess available. Bring a guitar if you want. Provide a fishing story or two if you must.
URL:https://alki152.org/event/alki-lodge-social-gathering/2026-12-31/
END:VEVENT
BEGIN:VEVENT
DTSTART;TZID=America/Los_Angeles:20270104T183000
DTEND;TZID=America/Los_Angeles:20270104T213000
DTSTAMP:20260423T153748
CREATED:20241118T202924Z
LAST-MODIFIED:20241118T202924Z
UID:12589-1799087400-1799098200@alki152.org
SUMMARY:Alki Lodge #152
DESCRIPTION:
URL:https://alki152.org/event/alki-lodge-152/2027-01-04/
CATEGORIES:Alki Lodge
END:VEVENT
BEGIN:VEVENT
DTSTART;TZID=America/Los_Angeles:20270201T183000
DTEND;TZID=America/Los_Angeles:20270201T213000
DTSTAMP:20260423T153748
CREATED:20241118T202924Z
LAST-MODIFIED:20241118T202924Z
UID:12607-1801506600-1801517400@alki152.org
SUMMARY:Alki Lodge #152
DESCRIPTION:
URL:https://alki152.org/event/alki-lodge-152/2027-02-01/
CATEGORIES:Alki Lodge
END:VEVENT
BEGIN:VEVENT
DTSTART;TZID=America/Los_Angeles:20270301T183000
DTEND;TZID=America/Los_Angeles:20270301T213000
DTSTAMP:20260423T153748
CREATED:20241118T202924Z
LAST-MODIFIED:20241118T202924Z
UID:12675-1803925800-1803936600@alki152.org
SUMMARY:Alki Lodge #152
DESCRIPTION:
URL:https://alki152.org/event/alki-lodge-152/2027-03-01/
CATEGORIES:Alki Lodge
END:VEVENT
BEGIN:VEVENT
DTSTART;TZID=America/Los_Angeles:20270405T183000
DTEND;TZID=America/Los_Angeles:20270405T213000
DTSTAMP:20260423T153748
CREATED:20241118T202924Z
LAST-MODIFIED:20241118T202924Z
UID:12766-1806949800-1806960600@alki152.org
SUMMARY:Alki Lodge #152
DESCRIPTION:
URL:https://alki152.org/event/alki-lodge-152/2027-04-05/
CATEGORIES:Alki Lodge
END:VEVENT
BEGIN:VEVENT
DTSTART;TZID=America/Los_Angeles:20270503T183000
DTEND;TZID=America/Los_Angeles:20270503T213000
DTSTAMP:20260423T153748
CREATED:20241118T202924Z
LAST-MODIFIED:20241118T202924Z
UID:12855-1809369000-1809379800@alki152.org
SUMMARY:Alki Lodge #152
DESCRIPTION:
URL:https://alki152.org/event/alki-lodge-152/2027-05-03/
CATEGORIES:Alki Lodge
END:VEVENT
BEGIN:VEVENT
DTSTART;TZID=America/Los_Angeles:20270607T183000
DTEND;TZID=America/Los_Angeles:20270607T213000
DTSTAMP:20260423T153748
CREATED:20241118T202924Z
LAST-MODIFIED:20241118T202924Z
UID:12930-1812393000-1812403800@alki152.org
SUMMARY:Alki Lodge #152
DESCRIPTION:
URL:https://alki152.org/event/alki-lodge-152/2027-06-07/
CATEGORIES:Alki Lodge
END:VEVENT
BEGIN:VEVENT
DTSTART;TZID=America/Los_Angeles:20270705T183000
DTEND;TZID=America/Los_Angeles:20270705T213000
DTSTAMP:20260423T153748
CREATED:20241118T202924Z
LAST-MODIFIED:20241118T202924Z
UID:12942-1814812200-1814823000@alki152.org
SUMMARY:Alki Lodge #152
DESCRIPTION:
URL:https://alki152.org/event/alki-lodge-152/2027-07-05/
CATEGORIES:Alki Lodge
END:VEVENT
BEGIN:VEVENT
DTSTART;TZID=America/Los_Angeles:20270802T183000
DTEND;TZID=America/Los_Angeles:20270802T213000
DTSTAMP:20260423T153748
CREATED:20241118T202924Z
LAST-MODIFIED:20241118T202924Z
UID:13029-1817231400-1817242200@alki152.org
SUMMARY:Alki Lodge #152
DESCRIPTION:
URL:https://alki152.org/event/alki-lodge-152/2027-08-02/
CATEGORIES:Alki Lodge
END:VEVENT
BEGIN:VEVENT
DTSTART;TZID=America/Los_Angeles:20270906T183000
DTEND;TZID=America/Los_Angeles:20270906T213000
DTSTAMP:20260423T153748
CREATED:20241118T202924Z
LAST-MODIFIED:20241118T202924Z
UID:13073-1820255400-1820266200@alki152.org
SUMMARY:Alki Lodge #152
DESCRIPTION:
URL:https://alki152.org/event/alki-lodge-152/2027-09-06/
CATEGORIES:Alki Lodge
END:VEVENT
BEGIN:VEVENT
DTSTART;TZID=America/Los_Angeles:20271004T183000
DTEND;TZID=America/Los_Angeles:20271004T213000
DTSTAMP:20260423T153748
CREATED:20241118T202924Z
LAST-MODIFIED:20241118T202924Z
UID:13210-1822674600-1822685400@alki152.org
SUMMARY:Alki Lodge #152
DESCRIPTION:
URL:https://alki152.org/event/alki-lodge-152/2027-10-04/
CATEGORIES:Alki Lodge
END:VEVENT
BEGIN:VEVENT
DTSTART;TZID=America/Los_Angeles:20271101T183000
DTEND;TZID=America/Los_Angeles:20271101T213000
DTSTAMP:20260423T153748
CREATED:20241118T202924Z
LAST-MODIFIED:20241118T202924Z
UID:13355-1825093800-1825104600@alki152.org
SUMMARY:Alki Lodge #152
DESCRIPTION:
URL:https://alki152.org/event/alki-lodge-152/2027-11-01/
CATEGORIES:Alki Lodge
END:VEVENT
END:VCALENDAR