BEGIN:VCALENDAR
VERSION:2.0
PRODID:-//Alki Masonic Lodge #152 - ECPv6.15.20//NONSGML v1.0//EN
CALSCALE:GREGORIAN
METHOD:PUBLISH
X-WR-CALNAME:Alki Masonic Lodge #152
X-ORIGINAL-URL:https://alki152.org
X-WR-CALDESC:Events for Alki Masonic Lodge #152
REFRESH-INTERVAL;VALUE=DURATION:PT1H
X-Robots-Tag:noindex
X-PUBLISHED-TTL:PT1H
BEGIN:VTIMEZONE
TZID:America/Los_Angeles
BEGIN:DAYLIGHT
TZOFFSETFROM:-0800
TZOFFSETTO:-0700
TZNAME:PDT
DTSTART:20240310T100000
END:DAYLIGHT
BEGIN:STANDARD
TZOFFSETFROM:-0700
TZOFFSETTO:-0800
TZNAME:PST
DTSTART:20241103T090000
END:STANDARD
BEGIN:DAYLIGHT
TZOFFSETFROM:-0800
TZOFFSETTO:-0700
TZNAME:PDT
DTSTART:20250309T100000
END:DAYLIGHT
BEGIN:STANDARD
TZOFFSETFROM:-0700
TZOFFSETTO:-0800
TZNAME:PST
DTSTART:20251102T090000
END:STANDARD
BEGIN:DAYLIGHT
TZOFFSETFROM:-0800
TZOFFSETTO:-0700
TZNAME:PDT
DTSTART:20260308T100000
END:DAYLIGHT
BEGIN:STANDARD
TZOFFSETFROM:-0700
TZOFFSETTO:-0800
TZNAME:PST
DTSTART:20261101T090000
END:STANDARD
END:VTIMEZONE
BEGIN:VEVENT
DTSTART;TZID=America/Los_Angeles:20251017T170000
DTEND;TZID=America/Los_Angeles:20251017T200000
DTSTAMP:20260425T034830
CREATED:20230123T215034Z
LAST-MODIFIED:20230123T215034Z
UID:12810-1760720400-1760731200@alki152.org
SUMMARY:West Seattle Yacht Club
DESCRIPTION:Contact: Dori Schnelz 206-851-8067\, dmschnelz@gmail.com
URL:https://alki152.org/event/west-seattle-yacht-club-19/2025-10-17/
END:VEVENT
BEGIN:VEVENT
DTSTART;TZID=America/Los_Angeles:20251018T140000
DTEND;TZID=America/Los_Angeles:20251018T180000
DTSTAMP:20260425T034830
CREATED:20250816T143725Z
LAST-MODIFIED:20250911T215306Z
UID:13059-1760796000-1760810400@alki152.org
SUMMARY:Alki Lodge Oktoberfest
DESCRIPTION:
URL:https://alki152.org/event/alki-lodge-oktoberfest-2/
CATEGORIES:Public Event
END:VEVENT
BEGIN:VEVENT
DTSTART;TZID=America/Los_Angeles:20251019T140000
DTEND;TZID=America/Los_Angeles:20251019T220000
DTSTAMP:20260425T034830
CREATED:20190319T034811Z
LAST-MODIFIED:20190319T034811Z
UID:11749-1760882400-1760911200@alki152.org
SUMMARY:Seattle Swing Dance
DESCRIPTION:
URL:https://alki152.org/event/seattle-swing-dance/2025-10-19/
LOCATION:Alki Masonic Center\, 4736 40th Ave. SW\, Seattle\, WA\, 98116\, United States
CATEGORIES:Private Event
GEO:47.5600056;-122.3825589
X-APPLE-STRUCTURED-LOCATION;VALUE=URI;X-ADDRESS=Alki Masonic Center 4736 40th Ave. SW Seattle WA 98116 United States;X-APPLE-RADIUS=500;X-TITLE=4736 40th Ave. SW:geo:-122.3825589,47.5600056
END:VEVENT
BEGIN:VEVENT
DTSTART;TZID=America/Los_Angeles:20251022T073000
DTEND;TZID=America/Los_Angeles:20251022T083000
DTSTAMP:20260425T034830
CREATED:20250801T191519Z
LAST-MODIFIED:20250801T191519Z
UID:13528-1761118200-1761121800@alki152.org
SUMMARY:BNI Professionals
DESCRIPTION:
URL:https://alki152.org/event/bni-professionals-2/2025-10-22/
CATEGORIES:Private Event
END:VEVENT
BEGIN:VEVENT
DTSTART;TZID=America/Los_Angeles:20251022T160000
DTEND;TZID=America/Los_Angeles:20251022T200000
DTSTAMP:20260425T034830
CREATED:20241128T160017Z
LAST-MODIFIED:20241128T160017Z
UID:12471-1761148800-1761163200@alki152.org
SUMMARY:West Seattle Performing Arts
DESCRIPTION:
URL:https://alki152.org/event/west-seattle-performing-arts/2025-10-22/
CATEGORIES:Private Event
END:VEVENT
BEGIN:VEVENT
DTSTART;TZID=America/Los_Angeles:20251023T073000
DTEND;TZID=America/Los_Angeles:20251023T093000
DTSTAMP:20260425T034830
CREATED:20250713T031856Z
LAST-MODIFIED:20260329T213312Z
UID:12963-1761204600-1761211800@alki152.org
SUMMARY:BNI Champions
DESCRIPTION:
URL:https://alki152.org/event/bni-champions-2/2025-10-23/
CATEGORIES:Private Event
END:VEVENT
BEGIN:VEVENT
DTSTART;TZID=America/Los_Angeles:20251023T100000
DTEND;TZID=America/Los_Angeles:20251023T120000
DTSTAMP:20260425T034830
CREATED:20251002T213843Z
LAST-MODIFIED:20251002T213843Z
UID:13144-1761213600-1761220800@alki152.org
SUMMARY:Alki Lodge Social Gathering
DESCRIPTION:Time set aside for members (all Lodges) and friends to gather for social interaction. No set agenda\, no pressure. Chess available. Bring a guitar if you want. Provide a fishing story or two if you must.
URL:https://alki152.org/event/alki-lodge-social-gathering/2025-10-23/
END:VEVENT
BEGIN:VEVENT
DTSTART;TZID=America/Los_Angeles:20251023T160000
DTEND;TZID=America/Los_Angeles:20251023T200000
DTSTAMP:20260425T034830
CREATED:20241128T160151Z
LAST-MODIFIED:20241128T160151Z
UID:12529-1761235200-1761249600@alki152.org
SUMMARY:West Seattle Performing Arts
DESCRIPTION:
URL:https://alki152.org/event/west-seattle-performing-arts-2/2025-10-23/
CATEGORIES:Private Event
END:VEVENT
BEGIN:VEVENT
DTSTART;TZID=America/Los_Angeles:20251024T170000
DTEND;TZID=America/Los_Angeles:20251024T220000
DTSTAMP:20260425T034830
CREATED:20230123T211944Z
LAST-MODIFIED:20230123T211944Z
UID:11746-1761325200-1761343200@alki152.org
SUMMARY:Rainbow Girls
DESCRIPTION:
URL:https://alki152.org/event/rainbow-girls-33/2025-10-24/
CATEGORIES:Masonic Family
END:VEVENT
BEGIN:VEVENT
DTSTART;TZID=America/Los_Angeles:20251026T120000
DTEND;TZID=America/Los_Angeles:20251026T180000
DTSTAMP:20260425T034830
CREATED:20250816T143601Z
LAST-MODIFIED:20250816T143601Z
UID:13057-1761480000-1761501600@alki152.org
SUMMARY:Amethyst Fall Tea
DESCRIPTION:
URL:https://alki152.org/event/amethyst-fall-tea/
CATEGORIES:Amethyst,Masonic Family
END:VEVENT
BEGIN:VEVENT
DTSTART;TZID=America/Los_Angeles:20251028T160000
DTEND;TZID=America/Los_Angeles:20251028T200000
DTSTAMP:20260425T034830
CREATED:20240417T153708Z
LAST-MODIFIED:20240417T153708Z
UID:12651-1761667200-1761681600@alki152.org
SUMMARY:Amethyst Chapter Eastern Star Meeting
DESCRIPTION:
URL:https://alki152.org/event/amethyst-chapter-eastern-star-meeting/2025-10-28/
CATEGORIES:Masonic Family
END:VEVENT
BEGIN:VEVENT
DTSTART;TZID=America/Los_Angeles:20251029T073000
DTEND;TZID=America/Los_Angeles:20251029T083000
DTSTAMP:20260425T034830
CREATED:20250801T191519Z
LAST-MODIFIED:20250801T191519Z
UID:13529-1761723000-1761726600@alki152.org
SUMMARY:BNI Professionals
DESCRIPTION:
URL:https://alki152.org/event/bni-professionals-2/2025-10-29/
CATEGORIES:Private Event
END:VEVENT
BEGIN:VEVENT
DTSTART;TZID=America/Los_Angeles:20251029T160000
DTEND;TZID=America/Los_Angeles:20251029T200000
DTSTAMP:20260425T034830
CREATED:20241128T160017Z
LAST-MODIFIED:20241128T160017Z
UID:12472-1761753600-1761768000@alki152.org
SUMMARY:West Seattle Performing Arts
DESCRIPTION:
URL:https://alki152.org/event/west-seattle-performing-arts/2025-10-29/
CATEGORIES:Private Event
END:VEVENT
BEGIN:VEVENT
DTSTART;TZID=America/Los_Angeles:20251030T073000
DTEND;TZID=America/Los_Angeles:20251030T093000
DTSTAMP:20260425T034830
CREATED:20250713T031856Z
LAST-MODIFIED:20260329T213312Z
UID:12964-1761809400-1761816600@alki152.org
SUMMARY:BNI Champions
DESCRIPTION:
URL:https://alki152.org/event/bni-champions-2/2025-10-30/
CATEGORIES:Private Event
END:VEVENT
BEGIN:VEVENT
DTSTART;TZID=America/Los_Angeles:20251030T100000
DTEND;TZID=America/Los_Angeles:20251030T120000
DTSTAMP:20260425T034830
CREATED:20251002T213843Z
LAST-MODIFIED:20251002T213843Z
UID:13145-1761818400-1761825600@alki152.org
SUMMARY:Alki Lodge Social Gathering
DESCRIPTION:Time set aside for members (all Lodges) and friends to gather for social interaction. No set agenda\, no pressure. Chess available. Bring a guitar if you want. Provide a fishing story or two if you must.
URL:https://alki152.org/event/alki-lodge-social-gathering/2025-10-30/
END:VEVENT
BEGIN:VEVENT
DTSTART;TZID=America/Los_Angeles:20251030T160000
DTEND;TZID=America/Los_Angeles:20251030T200000
DTSTAMP:20260425T034830
CREATED:20241128T160151Z
LAST-MODIFIED:20241128T160151Z
UID:12530-1761840000-1761854400@alki152.org
SUMMARY:West Seattle Performing Arts
DESCRIPTION:
URL:https://alki152.org/event/west-seattle-performing-arts-2/2025-10-30/
CATEGORIES:Private Event
END:VEVENT
BEGIN:VEVENT
DTSTART;TZID=America/Los_Angeles:20251031T080000
DTEND;TZID=America/Los_Angeles:20251031T170000
DTSTAMP:20260425T034830
CREATED:20250816T143835Z
LAST-MODIFIED:20250816T143835Z
UID:13061-1761897600-1761930000@alki152.org
SUMMARY:Blood Works Northwest
DESCRIPTION:
URL:https://alki152.org/event/blood-works-northwest-2/
CATEGORIES:Private Event
END:VEVENT
BEGIN:VEVENT
DTSTART;TZID=America/Los_Angeles:20251101T140000
DTEND;TZID=America/Los_Angeles:20251101T220000
DTSTAMP:20260425T034830
CREATED:20230123T214146Z
LAST-MODIFIED:20230123T214146Z
UID:11747-1762005600-1762034400@alki152.org
SUMMARY:Lodge Alba Stated Meeting
DESCRIPTION:
URL:https://alki152.org/event/lodge-alba-stated-meeting-10/2025-11-01/
CATEGORIES:Lodge Alba
END:VEVENT
BEGIN:VEVENT
DTSTART;TZID=America/Los_Angeles:20251102T140000
DTEND;TZID=America/Los_Angeles:20251102T220000
DTSTAMP:20260425T034830
CREATED:20190319T034811Z
LAST-MODIFIED:20190319T034811Z
UID:11748-1762092000-1762120800@alki152.org
SUMMARY:Seattle Swing Dance
DESCRIPTION:
URL:https://alki152.org/event/seattle-swing-dance/2025-11-02/
LOCATION:Alki Masonic Center\, 4736 40th Ave. SW\, Seattle\, WA\, 98116\, United States
CATEGORIES:Private Event
GEO:47.5600056;-122.3825589
X-APPLE-STRUCTURED-LOCATION;VALUE=URI;X-ADDRESS=Alki Masonic Center 4736 40th Ave. SW Seattle WA 98116 United States;X-APPLE-RADIUS=500;X-TITLE=4736 40th Ave. SW:geo:-122.3825589,47.5600056
END:VEVENT
BEGIN:VEVENT
DTSTART;TZID=America/Los_Angeles:20251103T183000
DTEND;TZID=America/Los_Angeles:20251103T213000
DTSTAMP:20260425T034830
CREATED:20241118T202924Z
LAST-MODIFIED:20241118T202924Z
UID:12065-1762194600-1762205400@alki152.org
SUMMARY:Alki Lodge #152
DESCRIPTION:
URL:https://alki152.org/event/alki-lodge-152/2025-11-03/
CATEGORIES:Alki Lodge
END:VEVENT
BEGIN:VEVENT
DTSTART;TZID=America/Los_Angeles:20251105T073000
DTEND;TZID=America/Los_Angeles:20251105T083000
DTSTAMP:20260425T034830
CREATED:20250801T191519Z
LAST-MODIFIED:20260329T212958Z
UID:13016-1762327800-1762331400@alki152.org
SUMMARY:BNI Professionals
DESCRIPTION:
URL:https://alki152.org/event/bni-professionals-2/2025-11-05/
CATEGORIES:Private Event
END:VEVENT
BEGIN:VEVENT
DTSTART;TZID=America/Los_Angeles:20251105T160000
DTEND;TZID=America/Los_Angeles:20251105T200000
DTSTAMP:20260425T034830
CREATED:20241128T160017Z
LAST-MODIFIED:20241128T160017Z
UID:12473-1762358400-1762372800@alki152.org
SUMMARY:West Seattle Performing Arts
DESCRIPTION:
URL:https://alki152.org/event/west-seattle-performing-arts/2025-11-05/
CATEGORIES:Private Event
END:VEVENT
BEGIN:VEVENT
DTSTART;TZID=America/Los_Angeles:20251106T073000
DTEND;TZID=America/Los_Angeles:20251106T093000
DTSTAMP:20260425T034830
CREATED:20250713T031856Z
LAST-MODIFIED:20260329T213312Z
UID:12965-1762414200-1762421400@alki152.org
SUMMARY:BNI Champions
DESCRIPTION:
URL:https://alki152.org/event/bni-champions-2/2025-11-06/
CATEGORIES:Private Event
END:VEVENT
BEGIN:VEVENT
DTSTART;TZID=America/Los_Angeles:20251106T100000
DTEND;TZID=America/Los_Angeles:20251106T120000
DTSTAMP:20260425T034830
CREATED:20251002T213843Z
LAST-MODIFIED:20251002T213843Z
UID:13146-1762423200-1762430400@alki152.org
SUMMARY:Alki Lodge Social Gathering
DESCRIPTION:Time set aside for members (all Lodges) and friends to gather for social interaction. No set agenda\, no pressure. Chess available. Bring a guitar if you want. Provide a fishing story or two if you must.
URL:https://alki152.org/event/alki-lodge-social-gathering/2025-11-06/
END:VEVENT
BEGIN:VEVENT
DTSTART;TZID=America/Los_Angeles:20251106T160000
DTEND;TZID=America/Los_Angeles:20251106T200000
DTSTAMP:20260425T034830
CREATED:20241128T160151Z
LAST-MODIFIED:20241128T160151Z
UID:12531-1762444800-1762459200@alki152.org
SUMMARY:West Seattle Performing Arts
DESCRIPTION:
URL:https://alki152.org/event/west-seattle-performing-arts-2/2025-11-06/
CATEGORIES:Private Event
END:VEVENT
BEGIN:VEVENT
DTSTART;TZID=America/Los_Angeles:20251107T160000
DTEND;TZID=America/Los_Angeles:20251107T230000
DTSTAMP:20260425T034830
CREATED:20130628T211109Z
LAST-MODIFIED:20130628T211109Z
UID:11754-1762531200-1762556400@alki152.org
SUMMARY:Amaranth - Alki Court
DESCRIPTION:
URL:https://alki152.org/event/amaranth-westgate-court-2015-12-04-2016-12-02-2017-12-01/2025-11-07/
LOCATION:Alki Masonic Center\, 4736 40th Ave. SW\, Seattle\, WA\, 98116\, United States
CATEGORIES:Masonic Family,Westgate
ORGANIZER;CN="Sue Gibbs":MAILTO:westgateevents21@gmail.com
GEO:47.5600056;-122.3825589
X-APPLE-STRUCTURED-LOCATION;VALUE=URI;X-ADDRESS=Alki Masonic Center 4736 40th Ave. SW Seattle WA 98116 United States;X-APPLE-RADIUS=500;X-TITLE=4736 40th Ave. SW:geo:-122.3825589,47.5600056
END:VEVENT
BEGIN:VEVENT
DTSTART;VALUE=DATE:20251108
DTEND;VALUE=DATE:20251109
DTSTAMP:20260425T034830
CREATED:20241128T154745Z
LAST-MODIFIED:20241128T154745Z
UID:12194-1762560000-1762646399@alki152.org
SUMMARY:Northwest Tool Collectors
DESCRIPTION:
URL:https://alki152.org/event/northwest-tool-collectors/2025-11-08/
CATEGORIES:Public Event
END:VEVENT
BEGIN:VEVENT
DTSTART;TZID=America/Los_Angeles:20251112T073000
DTEND;TZID=America/Los_Angeles:20251112T083000
DTSTAMP:20260425T034830
CREATED:20250801T191519Z
LAST-MODIFIED:20250801T191519Z
UID:13530-1762932600-1762936200@alki152.org
SUMMARY:BNI Professionals
DESCRIPTION:
URL:https://alki152.org/event/bni-professionals-2/2025-11-12/
CATEGORIES:Private Event
END:VEVENT
BEGIN:VEVENT
DTSTART;TZID=America/Los_Angeles:20251112T160000
DTEND;TZID=America/Los_Angeles:20251112T200000
DTSTAMP:20260425T034830
CREATED:20241128T160017Z
LAST-MODIFIED:20241128T160017Z
UID:12474-1762963200-1762977600@alki152.org
SUMMARY:West Seattle Performing Arts
DESCRIPTION:
URL:https://alki152.org/event/west-seattle-performing-arts/2025-11-12/
CATEGORIES:Private Event
END:VEVENT
BEGIN:VEVENT
DTSTART;TZID=America/Los_Angeles:20251113T073000
DTEND;TZID=America/Los_Angeles:20251113T093000
DTSTAMP:20260425T034830
CREATED:20250713T031856Z
LAST-MODIFIED:20260329T213313Z
UID:12966-1763019000-1763026200@alki152.org
SUMMARY:BNI Champions
DESCRIPTION:
URL:https://alki152.org/event/bni-champions-2/2025-11-13/
CATEGORIES:Private Event
END:VEVENT
END:VCALENDAR