BEGIN:VCALENDAR
VERSION:2.0
PRODID:-//Alki Masonic Lodge #152 - ECPv6.15.20//NONSGML v1.0//EN
CALSCALE:GREGORIAN
METHOD:PUBLISH
X-WR-CALNAME:Alki Masonic Lodge #152
X-ORIGINAL-URL:https://alki152.org
X-WR-CALDESC:Events for Alki Masonic Lodge #152
REFRESH-INTERVAL;VALUE=DURATION:PT1H
X-Robots-Tag:noindex
X-PUBLISHED-TTL:PT1H
BEGIN:VTIMEZONE
TZID:America/Los_Angeles
BEGIN:DAYLIGHT
TZOFFSETFROM:-0800
TZOFFSETTO:-0700
TZNAME:PDT
DTSTART:20260308T100000
END:DAYLIGHT
BEGIN:STANDARD
TZOFFSETFROM:-0700
TZOFFSETTO:-0800
TZNAME:PST
DTSTART:20261101T090000
END:STANDARD
BEGIN:DAYLIGHT
TZOFFSETFROM:-0800
TZOFFSETTO:-0700
TZNAME:PDT
DTSTART:20270314T100000
END:DAYLIGHT
BEGIN:STANDARD
TZOFFSETFROM:-0700
TZOFFSETTO:-0800
TZNAME:PST
DTSTART:20271107T090000
END:STANDARD
BEGIN:DAYLIGHT
TZOFFSETFROM:-0800
TZOFFSETTO:-0700
TZNAME:PDT
DTSTART:20280312T100000
END:DAYLIGHT
BEGIN:STANDARD
TZOFFSETFROM:-0700
TZOFFSETTO:-0800
TZNAME:PST
DTSTART:20281105T090000
END:STANDARD
BEGIN:DAYLIGHT
TZOFFSETFROM:-0800
TZOFFSETTO:-0700
TZNAME:PDT
DTSTART:20290311T100000
END:DAYLIGHT
BEGIN:STANDARD
TZOFFSETFROM:-0700
TZOFFSETTO:-0800
TZNAME:PST
DTSTART:20291104T090000
END:STANDARD
END:VTIMEZONE
BEGIN:VEVENT
DTSTART;TZID=America/Los_Angeles:20270423T170000
DTEND;TZID=America/Los_Angeles:20270423T220000
DTSTAMP:20260423T165239
CREATED:20230123T211944Z
LAST-MODIFIED:20230123T211944Z
UID:12832-1808499600-1808517600@alki152.org
SUMMARY:Rainbow Girls
DESCRIPTION:
URL:https://alki152.org/event/rainbow-girls-33/2027-04-23/
CATEGORIES:Masonic Family
END:VEVENT
BEGIN:VEVENT
DTSTART;TZID=America/Los_Angeles:20270514T170000
DTEND;TZID=America/Los_Angeles:20270514T220000
DTSTAMP:20260423T165239
CREATED:20230328T145554Z
LAST-MODIFIED:20230328T145554Z
UID:12892-1810314000-1810332000@alki152.org
SUMMARY:Rainbow Girls
DESCRIPTION:
URL:https://alki152.org/event/rainbow-girls-34/2027-05-14/
CATEGORIES:Masonic Family
END:VEVENT
BEGIN:VEVENT
DTSTART;TZID=America/Los_Angeles:20270528T170000
DTEND;TZID=America/Los_Angeles:20270528T220000
DTSTAMP:20260423T165239
CREATED:20230123T211944Z
LAST-MODIFIED:20230123T211944Z
UID:12913-1811523600-1811541600@alki152.org
SUMMARY:Rainbow Girls
DESCRIPTION:
URL:https://alki152.org/event/rainbow-girls-33/2027-05-28/
CATEGORIES:Masonic Family
END:VEVENT
BEGIN:VEVENT
DTSTART;TZID=America/Los_Angeles:20270611T170000
DTEND;TZID=America/Los_Angeles:20270611T220000
DTSTAMP:20260423T165239
CREATED:20230328T145554Z
LAST-MODIFIED:20230328T145554Z
UID:12932-1812733200-1812751200@alki152.org
SUMMARY:Rainbow Girls
DESCRIPTION:
URL:https://alki152.org/event/rainbow-girls-34/2027-06-11/
CATEGORIES:Masonic Family
END:VEVENT
BEGIN:VEVENT
DTSTART;TZID=America/Los_Angeles:20270625T170000
DTEND;TZID=America/Los_Angeles:20270625T220000
DTSTAMP:20260423T165239
CREATED:20230123T211944Z
LAST-MODIFIED:20230123T211944Z
UID:12936-1813942800-1813960800@alki152.org
SUMMARY:Rainbow Girls
DESCRIPTION:
URL:https://alki152.org/event/rainbow-girls-33/2027-06-25/
CATEGORIES:Masonic Family
END:VEVENT
BEGIN:VEVENT
DTSTART;TZID=America/Los_Angeles:20270709T170000
DTEND;TZID=America/Los_Angeles:20270709T220000
DTSTAMP:20260423T165239
CREATED:20230328T145554Z
LAST-MODIFIED:20230328T145554Z
UID:12944-1815152400-1815170400@alki152.org
SUMMARY:Rainbow Girls
DESCRIPTION:
URL:https://alki152.org/event/rainbow-girls-34/2027-07-09/
CATEGORIES:Masonic Family
END:VEVENT
BEGIN:VEVENT
DTSTART;TZID=America/Los_Angeles:20270723T170000
DTEND;TZID=America/Los_Angeles:20270723T220000
DTSTAMP:20260423T165239
CREATED:20230123T211944Z
LAST-MODIFIED:20230123T211944Z
UID:13008-1816362000-1816380000@alki152.org
SUMMARY:Rainbow Girls
DESCRIPTION:
URL:https://alki152.org/event/rainbow-girls-33/2027-07-23/
CATEGORIES:Masonic Family
END:VEVENT
BEGIN:VEVENT
DTSTART;TZID=America/Los_Angeles:20270813T170000
DTEND;TZID=America/Los_Angeles:20270813T220000
DTSTAMP:20260423T165239
CREATED:20230328T145554Z
LAST-MODIFIED:20230328T145554Z
UID:13055-1818176400-1818194400@alki152.org
SUMMARY:Rainbow Girls
DESCRIPTION:
URL:https://alki152.org/event/rainbow-girls-34/2027-08-13/
CATEGORIES:Masonic Family
END:VEVENT
BEGIN:VEVENT
DTSTART;TZID=America/Los_Angeles:20270827T170000
DTEND;TZID=America/Los_Angeles:20270827T220000
DTSTAMP:20260423T165239
CREATED:20230123T211944Z
LAST-MODIFIED:20230123T211944Z
UID:13068-1819386000-1819404000@alki152.org
SUMMARY:Rainbow Girls
DESCRIPTION:
URL:https://alki152.org/event/rainbow-girls-33/2027-08-27/
CATEGORIES:Masonic Family
END:VEVENT
BEGIN:VEVENT
DTSTART;TZID=America/Los_Angeles:20270910T170000
DTEND;TZID=America/Los_Angeles:20270910T220000
DTSTAMP:20260423T165239
CREATED:20230328T145554Z
LAST-MODIFIED:20230328T145554Z
UID:13075-1820595600-1820613600@alki152.org
SUMMARY:Rainbow Girls
DESCRIPTION:
URL:https://alki152.org/event/rainbow-girls-34/2027-09-10/
CATEGORIES:Masonic Family
END:VEVENT
BEGIN:VEVENT
DTSTART;TZID=America/Los_Angeles:20270924T170000
DTEND;TZID=America/Los_Angeles:20270924T220000
DTSTAMP:20260423T165239
CREATED:20230123T211944Z
LAST-MODIFIED:20230123T211944Z
UID:13135-1821805200-1821823200@alki152.org
SUMMARY:Rainbow Girls
DESCRIPTION:
URL:https://alki152.org/event/rainbow-girls-33/2027-09-24/
CATEGORIES:Masonic Family
END:VEVENT
BEGIN:VEVENT
DTSTART;TZID=America/Los_Angeles:20271008T170000
DTEND;TZID=America/Los_Angeles:20271008T220000
DTSTAMP:20260423T165239
CREATED:20230328T145554Z
LAST-MODIFIED:20230328T145554Z
UID:13215-1823014800-1823032800@alki152.org
SUMMARY:Rainbow Girls
DESCRIPTION:
URL:https://alki152.org/event/rainbow-girls-34/2027-10-08/
CATEGORIES:Masonic Family
END:VEVENT
BEGIN:VEVENT
DTSTART;TZID=America/Los_Angeles:20271022T170000
DTEND;TZID=America/Los_Angeles:20271022T220000
DTSTAMP:20260423T165239
CREATED:20230123T211944Z
LAST-MODIFIED:20230123T211944Z
UID:13229-1824224400-1824242400@alki152.org
SUMMARY:Rainbow Girls
DESCRIPTION:
URL:https://alki152.org/event/rainbow-girls-33/2027-10-22/
CATEGORIES:Masonic Family
END:VEVENT
BEGIN:VEVENT
DTSTART;TZID=America/Los_Angeles:20271112T170000
DTEND;TZID=America/Los_Angeles:20271112T220000
DTSTAMP:20260423T165239
CREATED:20230328T145554Z
LAST-MODIFIED:20230328T145554Z
UID:13369-1826038800-1826056800@alki152.org
SUMMARY:Rainbow Girls
DESCRIPTION:
URL:https://alki152.org/event/rainbow-girls-34/2027-11-12/
CATEGORIES:Masonic Family
END:VEVENT
BEGIN:VEVENT
DTSTART;TZID=America/Los_Angeles:20271126T170000
DTEND;TZID=America/Los_Angeles:20271126T220000
DTSTAMP:20260423T165239
CREATED:20230123T211944Z
LAST-MODIFIED:20230123T211944Z
UID:13390-1827248400-1827266400@alki152.org
SUMMARY:Rainbow Girls
DESCRIPTION:
URL:https://alki152.org/event/rainbow-girls-33/2027-11-26/
CATEGORIES:Masonic Family
END:VEVENT
BEGIN:VEVENT
DTSTART;TZID=America/Los_Angeles:20271210T170000
DTEND;TZID=America/Los_Angeles:20271210T220000
DTSTAMP:20260423T165239
CREATED:20230328T145554Z
LAST-MODIFIED:20230328T145554Z
UID:13413-1828458000-1828476000@alki152.org
SUMMARY:Rainbow Girls
DESCRIPTION:
URL:https://alki152.org/event/rainbow-girls-34/2027-12-10/
CATEGORIES:Masonic Family
END:VEVENT
BEGIN:VEVENT
DTSTART;TZID=America/Los_Angeles:20271224T170000
DTEND;TZID=America/Los_Angeles:20271224T220000
DTSTAMP:20260423T165239
CREATED:20230123T211944Z
LAST-MODIFIED:20230123T211944Z
UID:13420-1829667600-1829685600@alki152.org
SUMMARY:Rainbow Girls
DESCRIPTION:
URL:https://alki152.org/event/rainbow-girls-33/2027-12-24/
CATEGORIES:Masonic Family
END:VEVENT
BEGIN:VEVENT
DTSTART;TZID=America/Los_Angeles:20280114T170000
DTEND;TZID=America/Los_Angeles:20280114T220000
DTSTAMP:20260423T165239
CREATED:20230328T145554Z
LAST-MODIFIED:20230328T145554Z
UID:13452-1831482000-1831500000@alki152.org
SUMMARY:Rainbow Girls
DESCRIPTION:
URL:https://alki152.org/event/rainbow-girls-34/2028-01-14/
CATEGORIES:Masonic Family
END:VEVENT
BEGIN:VEVENT
DTSTART;TZID=America/Los_Angeles:20280128T170000
DTEND;TZID=America/Los_Angeles:20280128T220000
DTSTAMP:20260423T165239
CREATED:20230123T211944Z
LAST-MODIFIED:20230123T211944Z
UID:13461-1832691600-1832709600@alki152.org
SUMMARY:Rainbow Girls
DESCRIPTION:
URL:https://alki152.org/event/rainbow-girls-33/2028-01-28/
CATEGORIES:Masonic Family
END:VEVENT
BEGIN:VEVENT
DTSTART;TZID=America/Los_Angeles:20280211T170000
DTEND;TZID=America/Los_Angeles:20280211T220000
DTSTAMP:20260423T165239
CREATED:20230328T145554Z
LAST-MODIFIED:20230328T145554Z
UID:13476-1833901200-1833919200@alki152.org
SUMMARY:Rainbow Girls
DESCRIPTION:
URL:https://alki152.org/event/rainbow-girls-34/2028-02-11/
CATEGORIES:Masonic Family
END:VEVENT
BEGIN:VEVENT
DTSTART;TZID=America/Los_Angeles:20280225T170000
DTEND;TZID=America/Los_Angeles:20280225T220000
DTSTAMP:20260423T165239
CREATED:20230123T211944Z
LAST-MODIFIED:20230123T211944Z
UID:13487-1835110800-1835128800@alki152.org
SUMMARY:Rainbow Girls
DESCRIPTION:
URL:https://alki152.org/event/rainbow-girls-33/2028-02-25/
CATEGORIES:Masonic Family
END:VEVENT
BEGIN:VEVENT
DTSTART;TZID=America/Los_Angeles:20280310T170000
DTEND;TZID=America/Los_Angeles:20280310T220000
DTSTAMP:20260423T165239
CREATED:20230328T145554Z
LAST-MODIFIED:20230328T145554Z
UID:13501-1836320400-1836338400@alki152.org
SUMMARY:Rainbow Girls
DESCRIPTION:
URL:https://alki152.org/event/rainbow-girls-34/2028-03-10/
CATEGORIES:Masonic Family
END:VEVENT
BEGIN:VEVENT
DTSTART;TZID=America/Los_Angeles:20280324T170000
DTEND;TZID=America/Los_Angeles:20280324T220000
DTSTAMP:20260423T165239
CREATED:20230123T211944Z
LAST-MODIFIED:20230123T211944Z
UID:13506-1837530000-1837548000@alki152.org
SUMMARY:Rainbow Girls
DESCRIPTION:
URL:https://alki152.org/event/rainbow-girls-33/2028-03-24/
CATEGORIES:Masonic Family
END:VEVENT
BEGIN:VEVENT
DTSTART;TZID=America/Los_Angeles:20280414T170000
DTEND;TZID=America/Los_Angeles:20280414T220000
DTSTAMP:20260423T165239
CREATED:20230328T145554Z
LAST-MODIFIED:20230328T145554Z
UID:13687-1839344400-1839362400@alki152.org
SUMMARY:Rainbow Girls
DESCRIPTION:
URL:https://alki152.org/event/rainbow-girls-34/2028-04-14/
CATEGORIES:Masonic Family
END:VEVENT
END:VCALENDAR