BEGIN:VCALENDAR
VERSION:2.0
PRODID:-//Alki Masonic Lodge #152 - ECPv6.15.20//NONSGML v1.0//EN
CALSCALE:GREGORIAN
METHOD:PUBLISH
X-ORIGINAL-URL:https://alki152.org
X-WR-CALDESC:Events for Alki Masonic Lodge #152
REFRESH-INTERVAL;VALUE=DURATION:PT1H
X-Robots-Tag:noindex
X-PUBLISHED-TTL:PT1H
BEGIN:VTIMEZONE
TZID:America/Los_Angeles
BEGIN:DAYLIGHT
TZOFFSETFROM:-0800
TZOFFSETTO:-0700
TZNAME:PDT
DTSTART:20260308T100000
END:DAYLIGHT
BEGIN:STANDARD
TZOFFSETFROM:-0700
TZOFFSETTO:-0800
TZNAME:PST
DTSTART:20261101T090000
END:STANDARD
BEGIN:DAYLIGHT
TZOFFSETFROM:-0800
TZOFFSETTO:-0700
TZNAME:PDT
DTSTART:20270314T100000
END:DAYLIGHT
BEGIN:STANDARD
TZOFFSETFROM:-0700
TZOFFSETTO:-0800
TZNAME:PST
DTSTART:20271107T090000
END:STANDARD
BEGIN:DAYLIGHT
TZOFFSETFROM:-0800
TZOFFSETTO:-0700
TZNAME:PDT
DTSTART:20280312T100000
END:DAYLIGHT
BEGIN:STANDARD
TZOFFSETFROM:-0700
TZOFFSETTO:-0800
TZNAME:PST
DTSTART:20281105T090000
END:STANDARD
END:VTIMEZONE
BEGIN:VEVENT
DTSTART;TZID=America/Los_Angeles:20270409T170000
DTEND;TZID=America/Los_Angeles:20270409T220000
DTSTAMP:20260425T081228
CREATED:20230328T145554Z
LAST-MODIFIED:20230328T145554Z
UID:12773-1807290000-1807308000@alki152.org
SUMMARY:Rainbow Girls
DESCRIPTION:
URL:https://alki152.org/event/rainbow-girls-34/2027-04-09/
CATEGORIES:Masonic Family
END:VEVENT
BEGIN:VEVENT
DTSTART;TZID=America/Los_Angeles:20270416T170000
DTEND;TZID=America/Los_Angeles:20270416T200000
DTSTAMP:20260425T081228
CREATED:20230123T215034Z
LAST-MODIFIED:20230123T215034Z
UID:12829-1807894800-1807905600@alki152.org
SUMMARY:West Seattle Yacht Club
DESCRIPTION:Contact: Dori Schnelz 206-851-8067\, dmschnelz@gmail.com
URL:https://alki152.org/event/west-seattle-yacht-club-19/2027-04-16/
END:VEVENT
BEGIN:VEVENT
DTSTART;TZID=America/Los_Angeles:20270418T140000
DTEND;TZID=America/Los_Angeles:20270418T220000
DTSTAMP:20260425T081228
CREATED:20190319T034811Z
LAST-MODIFIED:20190319T034811Z
UID:12854-1808056800-1808085600@alki152.org
SUMMARY:Seattle Swing Dance
DESCRIPTION:
URL:https://alki152.org/event/seattle-swing-dance/2027-04-18/
LOCATION:Alki Masonic Center\, 4736 40th Ave. SW\, Seattle\, WA\, 98116\, United States
CATEGORIES:Private Event
GEO:47.5600056;-122.3825589
X-APPLE-STRUCTURED-LOCATION;VALUE=URI;X-ADDRESS=Alki Masonic Center 4736 40th Ave. SW Seattle WA 98116 United States;X-APPLE-RADIUS=500;X-TITLE=4736 40th Ave. SW:geo:-122.3825589,47.5600056
END:VEVENT
BEGIN:VEVENT
DTSTART;TZID=America/Los_Angeles:20270423T170000
DTEND;TZID=America/Los_Angeles:20270423T220000
DTSTAMP:20260425T081228
CREATED:20230123T211944Z
LAST-MODIFIED:20230123T211944Z
UID:12832-1808499600-1808517600@alki152.org
SUMMARY:Rainbow Girls
DESCRIPTION:
URL:https://alki152.org/event/rainbow-girls-33/2027-04-23/
CATEGORIES:Masonic Family
END:VEVENT
BEGIN:VEVENT
DTSTART;TZID=America/Los_Angeles:20270427T160000
DTEND;TZID=America/Los_Angeles:20270427T200000
DTSTAMP:20260425T081228
CREATED:20240417T153708Z
LAST-MODIFIED:20240417T153708Z
UID:12850-1808841600-1808856000@alki152.org
SUMMARY:Amethyst Chapter Eastern Star Meeting
DESCRIPTION:
URL:https://alki152.org/event/amethyst-chapter-eastern-star-meeting/2027-04-27/
CATEGORIES:Masonic Family
END:VEVENT
BEGIN:VEVENT
DTSTART;TZID=America/Los_Angeles:20270501T140000
DTEND;TZID=America/Los_Angeles:20270501T220000
DTSTAMP:20260425T081228
CREATED:20230123T214146Z
LAST-MODIFIED:20230123T214146Z
UID:12852-1809180000-1809208800@alki152.org
SUMMARY:Lodge Alba Stated Meeting
DESCRIPTION:
URL:https://alki152.org/event/lodge-alba-stated-meeting-10/2027-05-01/
CATEGORIES:Lodge Alba
END:VEVENT
BEGIN:VEVENT
DTSTART;TZID=America/Los_Angeles:20270502T140000
DTEND;TZID=America/Los_Angeles:20270502T220000
DTSTAMP:20260425T081228
CREATED:20190319T034811Z
LAST-MODIFIED:20190319T034811Z
UID:12853-1809266400-1809295200@alki152.org
SUMMARY:Seattle Swing Dance
DESCRIPTION:
URL:https://alki152.org/event/seattle-swing-dance/2027-05-02/
LOCATION:Alki Masonic Center\, 4736 40th Ave. SW\, Seattle\, WA\, 98116\, United States
CATEGORIES:Private Event
GEO:47.5600056;-122.3825589
X-APPLE-STRUCTURED-LOCATION;VALUE=URI;X-ADDRESS=Alki Masonic Center 4736 40th Ave. SW Seattle WA 98116 United States;X-APPLE-RADIUS=500;X-TITLE=4736 40th Ave. SW:geo:-122.3825589,47.5600056
END:VEVENT
BEGIN:VEVENT
DTSTART;TZID=America/Los_Angeles:20270503T183000
DTEND;TZID=America/Los_Angeles:20270503T213000
DTSTAMP:20260425T081228
CREATED:20241118T202924Z
LAST-MODIFIED:20241118T202924Z
UID:12855-1809369000-1809379800@alki152.org
SUMMARY:Alki Lodge #152
DESCRIPTION:
URL:https://alki152.org/event/alki-lodge-152/2027-05-03/
CATEGORIES:Alki Lodge
END:VEVENT
BEGIN:VEVENT
DTSTART;TZID=America/Los_Angeles:20270507T160000
DTEND;TZID=America/Los_Angeles:20270507T230000
DTSTAMP:20260425T081228
CREATED:20130628T211109Z
LAST-MODIFIED:20130628T211109Z
UID:12868-1809705600-1809730800@alki152.org
SUMMARY:Amaranth - Alki Court
DESCRIPTION:
URL:https://alki152.org/event/amaranth-westgate-court-2015-12-04-2016-12-02-2017-12-01/2027-05-07/
LOCATION:Alki Masonic Center\, 4736 40th Ave. SW\, Seattle\, WA\, 98116\, United States
CATEGORIES:Masonic Family,Westgate
ORGANIZER;CN="Sue Gibbs":MAILTO:westgateevents21@gmail.com
GEO:47.5600056;-122.3825589
X-APPLE-STRUCTURED-LOCATION;VALUE=URI;X-ADDRESS=Alki Masonic Center 4736 40th Ave. SW Seattle WA 98116 United States;X-APPLE-RADIUS=500;X-TITLE=4736 40th Ave. SW:geo:-122.3825589,47.5600056
END:VEVENT
BEGIN:VEVENT
DTSTART;TZID=America/Los_Angeles:20270514T170000
DTEND;TZID=America/Los_Angeles:20270514T220000
DTSTAMP:20260425T081228
CREATED:20230328T145554Z
LAST-MODIFIED:20230328T145554Z
UID:12892-1810314000-1810332000@alki152.org
SUMMARY:Rainbow Girls
DESCRIPTION:
URL:https://alki152.org/event/rainbow-girls-34/2027-05-14/
CATEGORIES:Masonic Family
END:VEVENT
BEGIN:VEVENT
DTSTART;TZID=America/Los_Angeles:20270516T140000
DTEND;TZID=America/Los_Angeles:20270516T220000
DTSTAMP:20260425T081228
CREATED:20190319T034811Z
LAST-MODIFIED:20190319T034811Z
UID:12929-1810476000-1810504800@alki152.org
SUMMARY:Seattle Swing Dance
DESCRIPTION:
URL:https://alki152.org/event/seattle-swing-dance/2027-05-16/
LOCATION:Alki Masonic Center\, 4736 40th Ave. SW\, Seattle\, WA\, 98116\, United States
CATEGORIES:Private Event
GEO:47.5600056;-122.3825589
X-APPLE-STRUCTURED-LOCATION;VALUE=URI;X-ADDRESS=Alki Masonic Center 4736 40th Ave. SW Seattle WA 98116 United States;X-APPLE-RADIUS=500;X-TITLE=4736 40th Ave. SW:geo:-122.3825589,47.5600056
END:VEVENT
BEGIN:VEVENT
DTSTART;TZID=America/Los_Angeles:20270521T170000
DTEND;TZID=America/Los_Angeles:20270521T200000
DTSTAMP:20260425T081228
CREATED:20230123T215034Z
LAST-MODIFIED:20230123T215034Z
UID:12901-1810918800-1810929600@alki152.org
SUMMARY:West Seattle Yacht Club
DESCRIPTION:Contact: Dori Schnelz 206-851-8067\, dmschnelz@gmail.com
URL:https://alki152.org/event/west-seattle-yacht-club-19/2027-05-21/
END:VEVENT
BEGIN:VEVENT
DTSTART;TZID=America/Los_Angeles:20270525T160000
DTEND;TZID=America/Los_Angeles:20270525T200000
DTSTAMP:20260425T081228
CREATED:20240417T153708Z
LAST-MODIFIED:20240417T153708Z
UID:12902-1811260800-1811275200@alki152.org
SUMMARY:Amethyst Chapter Eastern Star Meeting
DESCRIPTION:
URL:https://alki152.org/event/amethyst-chapter-eastern-star-meeting/2027-05-25/
CATEGORIES:Masonic Family
END:VEVENT
BEGIN:VEVENT
DTSTART;TZID=America/Los_Angeles:20270528T170000
DTEND;TZID=America/Los_Angeles:20270528T220000
DTSTAMP:20260425T081228
CREATED:20230123T211944Z
LAST-MODIFIED:20230123T211944Z
UID:12913-1811523600-1811541600@alki152.org
SUMMARY:Rainbow Girls
DESCRIPTION:
URL:https://alki152.org/event/rainbow-girls-33/2027-05-28/
CATEGORIES:Masonic Family
END:VEVENT
BEGIN:VEVENT
DTSTART;TZID=America/Los_Angeles:20270604T160000
DTEND;TZID=America/Los_Angeles:20270604T230000
DTSTAMP:20260425T081228
CREATED:20130628T211109Z
LAST-MODIFIED:20130628T211109Z
UID:12923-1812124800-1812150000@alki152.org
SUMMARY:Amaranth - Alki Court
DESCRIPTION:
URL:https://alki152.org/event/amaranth-westgate-court-2015-12-04-2016-12-02-2017-12-01/2027-06-04/
LOCATION:Alki Masonic Center\, 4736 40th Ave. SW\, Seattle\, WA\, 98116\, United States
CATEGORIES:Masonic Family,Westgate
ORGANIZER;CN="Sue Gibbs":MAILTO:westgateevents21@gmail.com
GEO:47.5600056;-122.3825589
X-APPLE-STRUCTURED-LOCATION;VALUE=URI;X-ADDRESS=Alki Masonic Center 4736 40th Ave. SW Seattle WA 98116 United States;X-APPLE-RADIUS=500;X-TITLE=4736 40th Ave. SW:geo:-122.3825589,47.5600056
END:VEVENT
BEGIN:VEVENT
DTSTART;TZID=America/Los_Angeles:20270606T140000
DTEND;TZID=America/Los_Angeles:20270606T220000
DTSTAMP:20260425T081228
CREATED:20190319T034811Z
LAST-MODIFIED:20190319T034811Z
UID:12928-1812290400-1812319200@alki152.org
SUMMARY:Seattle Swing Dance
DESCRIPTION:
URL:https://alki152.org/event/seattle-swing-dance/2027-06-06/
LOCATION:Alki Masonic Center\, 4736 40th Ave. SW\, Seattle\, WA\, 98116\, United States
CATEGORIES:Private Event
GEO:47.5600056;-122.3825589
X-APPLE-STRUCTURED-LOCATION;VALUE=URI;X-ADDRESS=Alki Masonic Center 4736 40th Ave. SW Seattle WA 98116 United States;X-APPLE-RADIUS=500;X-TITLE=4736 40th Ave. SW:geo:-122.3825589,47.5600056
END:VEVENT
BEGIN:VEVENT
DTSTART;TZID=America/Los_Angeles:20270607T183000
DTEND;TZID=America/Los_Angeles:20270607T213000
DTSTAMP:20260425T081228
CREATED:20241118T202924Z
LAST-MODIFIED:20241118T202924Z
UID:12930-1812393000-1812403800@alki152.org
SUMMARY:Alki Lodge #152
DESCRIPTION:
URL:https://alki152.org/event/alki-lodge-152/2027-06-07/
CATEGORIES:Alki Lodge
END:VEVENT
BEGIN:VEVENT
DTSTART;TZID=America/Los_Angeles:20270611T170000
DTEND;TZID=America/Los_Angeles:20270611T220000
DTSTAMP:20260425T081228
CREATED:20230328T145554Z
LAST-MODIFIED:20230328T145554Z
UID:12932-1812733200-1812751200@alki152.org
SUMMARY:Rainbow Girls
DESCRIPTION:
URL:https://alki152.org/event/rainbow-girls-34/2027-06-11/
CATEGORIES:Masonic Family
END:VEVENT
BEGIN:VEVENT
DTSTART;TZID=America/Los_Angeles:20270618T170000
DTEND;TZID=America/Los_Angeles:20270618T200000
DTSTAMP:20260425T081228
CREATED:20230123T215034Z
LAST-MODIFIED:20230123T215034Z
UID:12934-1813338000-1813348800@alki152.org
SUMMARY:West Seattle Yacht Club
DESCRIPTION:Contact: Dori Schnelz 206-851-8067\, dmschnelz@gmail.com
URL:https://alki152.org/event/west-seattle-yacht-club-19/2027-06-18/
END:VEVENT
BEGIN:VEVENT
DTSTART;TZID=America/Los_Angeles:20270620T140000
DTEND;TZID=America/Los_Angeles:20270620T220000
DTSTAMP:20260425T081228
CREATED:20190319T034811Z
LAST-MODIFIED:20190319T034811Z
UID:12941-1813500000-1813528800@alki152.org
SUMMARY:Seattle Swing Dance
DESCRIPTION:
URL:https://alki152.org/event/seattle-swing-dance/2027-06-20/
LOCATION:Alki Masonic Center\, 4736 40th Ave. SW\, Seattle\, WA\, 98116\, United States
CATEGORIES:Private Event
GEO:47.5600056;-122.3825589
X-APPLE-STRUCTURED-LOCATION;VALUE=URI;X-ADDRESS=Alki Masonic Center 4736 40th Ave. SW Seattle WA 98116 United States;X-APPLE-RADIUS=500;X-TITLE=4736 40th Ave. SW:geo:-122.3825589,47.5600056
END:VEVENT
BEGIN:VEVENT
DTSTART;TZID=America/Los_Angeles:20270625T170000
DTEND;TZID=America/Los_Angeles:20270625T220000
DTSTAMP:20260425T081228
CREATED:20230123T211944Z
LAST-MODIFIED:20230123T211944Z
UID:12936-1813942800-1813960800@alki152.org
SUMMARY:Rainbow Girls
DESCRIPTION:
URL:https://alki152.org/event/rainbow-girls-33/2027-06-25/
CATEGORIES:Masonic Family
END:VEVENT
BEGIN:VEVENT
DTSTART;TZID=America/Los_Angeles:20270702T160000
DTEND;TZID=America/Los_Angeles:20270702T230000
DTSTAMP:20260425T081228
CREATED:20130628T211109Z
LAST-MODIFIED:20130628T211109Z
UID:12939-1814544000-1814569200@alki152.org
SUMMARY:Amaranth - Alki Court
DESCRIPTION:
URL:https://alki152.org/event/amaranth-westgate-court-2015-12-04-2016-12-02-2017-12-01/2027-07-02/
LOCATION:Alki Masonic Center\, 4736 40th Ave. SW\, Seattle\, WA\, 98116\, United States
CATEGORIES:Masonic Family,Westgate
ORGANIZER;CN="Sue Gibbs":MAILTO:westgateevents21@gmail.com
GEO:47.5600056;-122.3825589
X-APPLE-STRUCTURED-LOCATION;VALUE=URI;X-ADDRESS=Alki Masonic Center 4736 40th Ave. SW Seattle WA 98116 United States;X-APPLE-RADIUS=500;X-TITLE=4736 40th Ave. SW:geo:-122.3825589,47.5600056
END:VEVENT
BEGIN:VEVENT
DTSTART;TZID=America/Los_Angeles:20270704T140000
DTEND;TZID=America/Los_Angeles:20270704T220000
DTSTAMP:20260425T081228
CREATED:20190319T034811Z
LAST-MODIFIED:20190319T034811Z
UID:12940-1814709600-1814738400@alki152.org
SUMMARY:Seattle Swing Dance
DESCRIPTION:
URL:https://alki152.org/event/seattle-swing-dance/2027-07-04/
LOCATION:Alki Masonic Center\, 4736 40th Ave. SW\, Seattle\, WA\, 98116\, United States
CATEGORIES:Private Event
GEO:47.5600056;-122.3825589
X-APPLE-STRUCTURED-LOCATION;VALUE=URI;X-ADDRESS=Alki Masonic Center 4736 40th Ave. SW Seattle WA 98116 United States;X-APPLE-RADIUS=500;X-TITLE=4736 40th Ave. SW:geo:-122.3825589,47.5600056
END:VEVENT
BEGIN:VEVENT
DTSTART;TZID=America/Los_Angeles:20270705T183000
DTEND;TZID=America/Los_Angeles:20270705T213000
DTSTAMP:20260425T081228
CREATED:20241118T202924Z
LAST-MODIFIED:20241118T202924Z
UID:12942-1814812200-1814823000@alki152.org
SUMMARY:Alki Lodge #152
DESCRIPTION:
URL:https://alki152.org/event/alki-lodge-152/2027-07-05/
CATEGORIES:Alki Lodge
END:VEVENT
BEGIN:VEVENT
DTSTART;TZID=America/Los_Angeles:20270709T170000
DTEND;TZID=America/Los_Angeles:20270709T220000
DTSTAMP:20260425T081228
CREATED:20230328T145554Z
LAST-MODIFIED:20230328T145554Z
UID:12944-1815152400-1815170400@alki152.org
SUMMARY:Rainbow Girls
DESCRIPTION:
URL:https://alki152.org/event/rainbow-girls-34/2027-07-09/
CATEGORIES:Masonic Family
END:VEVENT
BEGIN:VEVENT
DTSTART;TZID=America/Los_Angeles:20270716T170000
DTEND;TZID=America/Los_Angeles:20270716T200000
DTSTAMP:20260425T081228
CREATED:20230123T215034Z
LAST-MODIFIED:20230123T215034Z
UID:13006-1815757200-1815768000@alki152.org
SUMMARY:West Seattle Yacht Club
DESCRIPTION:Contact: Dori Schnelz 206-851-8067\, dmschnelz@gmail.com
URL:https://alki152.org/event/west-seattle-yacht-club-19/2027-07-16/
END:VEVENT
BEGIN:VEVENT
DTSTART;TZID=America/Los_Angeles:20270718T140000
DTEND;TZID=America/Los_Angeles:20270718T220000
DTSTAMP:20260425T081228
CREATED:20190319T034811Z
LAST-MODIFIED:20190319T034811Z
UID:13028-1815919200-1815948000@alki152.org
SUMMARY:Seattle Swing Dance
DESCRIPTION:
URL:https://alki152.org/event/seattle-swing-dance/2027-07-18/
LOCATION:Alki Masonic Center\, 4736 40th Ave. SW\, Seattle\, WA\, 98116\, United States
CATEGORIES:Private Event
GEO:47.5600056;-122.3825589
X-APPLE-STRUCTURED-LOCATION;VALUE=URI;X-ADDRESS=Alki Masonic Center 4736 40th Ave. SW Seattle WA 98116 United States;X-APPLE-RADIUS=500;X-TITLE=4736 40th Ave. SW:geo:-122.3825589,47.5600056
END:VEVENT
BEGIN:VEVENT
DTSTART;TZID=America/Los_Angeles:20270723T170000
DTEND;TZID=America/Los_Angeles:20270723T220000
DTSTAMP:20260425T081228
CREATED:20230123T211944Z
LAST-MODIFIED:20230123T211944Z
UID:13008-1816362000-1816380000@alki152.org
SUMMARY:Rainbow Girls
DESCRIPTION:
URL:https://alki152.org/event/rainbow-girls-33/2027-07-23/
CATEGORIES:Masonic Family
END:VEVENT
BEGIN:VEVENT
DTSTART;TZID=America/Los_Angeles:20270801T140000
DTEND;TZID=America/Los_Angeles:20270801T220000
DTSTAMP:20260425T081228
CREATED:20190319T034811Z
LAST-MODIFIED:20190319T034811Z
UID:13027-1817128800-1817157600@alki152.org
SUMMARY:Seattle Swing Dance
DESCRIPTION:
URL:https://alki152.org/event/seattle-swing-dance/2027-08-01/
LOCATION:Alki Masonic Center\, 4736 40th Ave. SW\, Seattle\, WA\, 98116\, United States
CATEGORIES:Private Event
GEO:47.5600056;-122.3825589
X-APPLE-STRUCTURED-LOCATION;VALUE=URI;X-ADDRESS=Alki Masonic Center 4736 40th Ave. SW Seattle WA 98116 United States;X-APPLE-RADIUS=500;X-TITLE=4736 40th Ave. SW:geo:-122.3825589,47.5600056
END:VEVENT
BEGIN:VEVENT
DTSTART;TZID=America/Los_Angeles:20270802T183000
DTEND;TZID=America/Los_Angeles:20270802T213000
DTSTAMP:20260425T081228
CREATED:20241118T202924Z
LAST-MODIFIED:20241118T202924Z
UID:13029-1817231400-1817242200@alki152.org
SUMMARY:Alki Lodge #152
DESCRIPTION:
URL:https://alki152.org/event/alki-lodge-152/2027-08-02/
CATEGORIES:Alki Lodge
END:VEVENT
END:VCALENDAR