BEGIN:VCALENDAR
VERSION:2.0
PRODID:-//Alki Masonic Lodge #152 - ECPv6.15.20//NONSGML v1.0//EN
CALSCALE:GREGORIAN
METHOD:PUBLISH
X-ORIGINAL-URL:https://alki152.org
X-WR-CALDESC:Events for Alki Masonic Lodge #152
REFRESH-INTERVAL;VALUE=DURATION:PT1H
X-Robots-Tag:noindex
X-PUBLISHED-TTL:PT1H
BEGIN:VTIMEZONE
TZID:America/Los_Angeles
BEGIN:DAYLIGHT
TZOFFSETFROM:-0800
TZOFFSETTO:-0700
TZNAME:PDT
DTSTART:20250309T100000
END:DAYLIGHT
BEGIN:STANDARD
TZOFFSETFROM:-0700
TZOFFSETTO:-0800
TZNAME:PST
DTSTART:20251102T090000
END:STANDARD
BEGIN:DAYLIGHT
TZOFFSETFROM:-0800
TZOFFSETTO:-0700
TZNAME:PDT
DTSTART:20260308T100000
END:DAYLIGHT
BEGIN:STANDARD
TZOFFSETFROM:-0700
TZOFFSETTO:-0800
TZNAME:PST
DTSTART:20261101T090000
END:STANDARD
BEGIN:DAYLIGHT
TZOFFSETFROM:-0800
TZOFFSETTO:-0700
TZNAME:PDT
DTSTART:20270314T100000
END:DAYLIGHT
BEGIN:STANDARD
TZOFFSETFROM:-0700
TZOFFSETTO:-0800
TZNAME:PST
DTSTART:20271107T090000
END:STANDARD
END:VTIMEZONE
BEGIN:VEVENT
DTSTART;TZID=America/Los_Angeles:20260706T183000
DTEND;TZID=America/Los_Angeles:20260706T213000
DTSTAMP:20260423T161946
CREATED:20241118T202924Z
LAST-MODIFIED:20241118T202924Z
UID:12073-1783362600-1783373400@alki152.org
SUMMARY:Alki Lodge #152
DESCRIPTION:
URL:https://alki152.org/event/alki-lodge-152/2026-07-06/
CATEGORIES:Alki Lodge
END:VEVENT
BEGIN:VEVENT
DTSTART;TZID=America/Los_Angeles:20260708T073000
DTEND;TZID=America/Los_Angeles:20260708T083000
DTSTAMP:20260423T161946
CREATED:20250801T191519Z
LAST-MODIFIED:20250801T191519Z
UID:13556-1783495800-1783499400@alki152.org
SUMMARY:BNI Professionals
DESCRIPTION:
URL:https://alki152.org/event/bni-professionals-2/2026-07-08/
CATEGORIES:Private Event
END:VEVENT
BEGIN:VEVENT
DTSTART;TZID=America/Los_Angeles:20260709T073000
DTEND;TZID=America/Los_Angeles:20260709T093000
DTSTAMP:20260423T161946
CREATED:20250713T031856Z
LAST-MODIFIED:20260329T213321Z
UID:13000-1783582200-1783589400@alki152.org
SUMMARY:BNI Champions
DESCRIPTION:
URL:https://alki152.org/event/bni-champions-2/2026-07-09/
CATEGORIES:Private Event
END:VEVENT
BEGIN:VEVENT
DTSTART;TZID=America/Los_Angeles:20260709T100000
DTEND;TZID=America/Los_Angeles:20260709T120000
DTSTAMP:20260423T161946
CREATED:20251002T213843Z
LAST-MODIFIED:20251002T213843Z
UID:13182-1783591200-1783598400@alki152.org
SUMMARY:Alki Lodge Social Gathering
DESCRIPTION:Time set aside for members (all Lodges) and friends to gather for social interaction. No set agenda\, no pressure. Chess available. Bring a guitar if you want. Provide a fishing story or two if you must.
URL:https://alki152.org/event/alki-lodge-social-gathering/2026-07-09/
END:VEVENT
BEGIN:VEVENT
DTSTART;TZID=America/Los_Angeles:20260710T170000
DTEND;TZID=America/Los_Angeles:20260710T220000
DTSTAMP:20260423T161946
CREATED:20230328T145554Z
LAST-MODIFIED:20230328T145554Z
UID:12174-1783702800-1783720800@alki152.org
SUMMARY:Rainbow Girls
DESCRIPTION:
URL:https://alki152.org/event/rainbow-girls-34/2026-07-10/
CATEGORIES:Masonic Family
END:VEVENT
BEGIN:VEVENT
DTSTART;TZID=America/Los_Angeles:20260711T140000
DTEND;TZID=America/Los_Angeles:20260711T220000
DTSTAMP:20260423T161946
CREATED:20260326T223257Z
LAST-MODIFIED:20260326T223257Z
UID:13514-1783778400-1783807200@alki152.org
SUMMARY:Family Reunion
DESCRIPTION:Johnston
URL:https://alki152.org/event/family-reunion/
CATEGORIES:Private Event
END:VEVENT
BEGIN:VEVENT
DTSTART;TZID=America/Los_Angeles:20260715T073000
DTEND;TZID=America/Los_Angeles:20260715T083000
DTSTAMP:20260423T161946
CREATED:20250801T191519Z
LAST-MODIFIED:20250801T191519Z
UID:13557-1784100600-1784104200@alki152.org
SUMMARY:BNI Professionals
DESCRIPTION:
URL:https://alki152.org/event/bni-professionals-2/2026-07-15/
CATEGORIES:Private Event
END:VEVENT
BEGIN:VEVENT
DTSTART;TZID=America/Los_Angeles:20260716T073000
DTEND;TZID=America/Los_Angeles:20260716T093000
DTSTAMP:20260423T161946
CREATED:20250713T031856Z
LAST-MODIFIED:20260329T213321Z
UID:13001-1784187000-1784194200@alki152.org
SUMMARY:BNI Champions
DESCRIPTION:
URL:https://alki152.org/event/bni-champions-2/2026-07-16/
CATEGORIES:Private Event
END:VEVENT
BEGIN:VEVENT
DTSTART;TZID=America/Los_Angeles:20260716T100000
DTEND;TZID=America/Los_Angeles:20260716T120000
DTSTAMP:20260423T161946
CREATED:20251002T213843Z
LAST-MODIFIED:20251002T213843Z
UID:13183-1784196000-1784203200@alki152.org
SUMMARY:Alki Lodge Social Gathering
DESCRIPTION:Time set aside for members (all Lodges) and friends to gather for social interaction. No set agenda\, no pressure. Chess available. Bring a guitar if you want. Provide a fishing story or two if you must.
URL:https://alki152.org/event/alki-lodge-social-gathering/2026-07-16/
END:VEVENT
BEGIN:VEVENT
DTSTART;TZID=America/Los_Angeles:20260719T140000
DTEND;TZID=America/Los_Angeles:20260719T220000
DTSTAMP:20260423T161946
CREATED:20190319T034811Z
LAST-MODIFIED:20190319T034811Z
UID:12135-1784469600-1784498400@alki152.org
SUMMARY:Seattle Swing Dance
DESCRIPTION:
URL:https://alki152.org/event/seattle-swing-dance/2026-07-19/
LOCATION:Alki Masonic Center\, 4736 40th Ave. SW\, Seattle\, WA\, 98116\, United States
CATEGORIES:Private Event
GEO:47.5600056;-122.3825589
X-APPLE-STRUCTURED-LOCATION;VALUE=URI;X-ADDRESS=Alki Masonic Center 4736 40th Ave. SW Seattle WA 98116 United States;X-APPLE-RADIUS=500;X-TITLE=4736 40th Ave. SW:geo:-122.3825589,47.5600056
END:VEVENT
BEGIN:VEVENT
DTSTART;TZID=America/Los_Angeles:20260722T073000
DTEND;TZID=America/Los_Angeles:20260722T083000
DTSTAMP:20260423T161946
CREATED:20250801T191519Z
LAST-MODIFIED:20250801T191519Z
UID:13558-1784705400-1784709000@alki152.org
SUMMARY:BNI Professionals
DESCRIPTION:
URL:https://alki152.org/event/bni-professionals-2/2026-07-22/
CATEGORIES:Private Event
END:VEVENT
BEGIN:VEVENT
DTSTART;TZID=America/Los_Angeles:20260723T073000
DTEND;TZID=America/Los_Angeles:20260723T093000
DTSTAMP:20260423T161946
CREATED:20250713T031856Z
LAST-MODIFIED:20260329T213321Z
UID:13002-1784791800-1784799000@alki152.org
SUMMARY:BNI Champions
DESCRIPTION:
URL:https://alki152.org/event/bni-champions-2/2026-07-23/
CATEGORIES:Private Event
END:VEVENT
BEGIN:VEVENT
DTSTART;TZID=America/Los_Angeles:20260723T100000
DTEND;TZID=America/Los_Angeles:20260723T120000
DTSTAMP:20260423T161946
CREATED:20251002T213843Z
LAST-MODIFIED:20251002T213843Z
UID:13184-1784800800-1784808000@alki152.org
SUMMARY:Alki Lodge Social Gathering
DESCRIPTION:Time set aside for members (all Lodges) and friends to gather for social interaction. No set agenda\, no pressure. Chess available. Bring a guitar if you want. Provide a fishing story or two if you must.
URL:https://alki152.org/event/alki-lodge-social-gathering/2026-07-23/
END:VEVENT
BEGIN:VEVENT
DTSTART;TZID=America/Los_Angeles:20260724T170000
DTEND;TZID=America/Los_Angeles:20260724T220000
DTSTAMP:20260423T161946
CREATED:20230123T211944Z
LAST-MODIFIED:20230123T211944Z
UID:12166-1784912400-1784930400@alki152.org
SUMMARY:Rainbow Girls
DESCRIPTION:
URL:https://alki152.org/event/rainbow-girls-33/2026-07-24/
CATEGORIES:Masonic Family
END:VEVENT
BEGIN:VEVENT
DTSTART;TZID=America/Los_Angeles:20260729T073000
DTEND;TZID=America/Los_Angeles:20260729T083000
DTSTAMP:20260423T161946
CREATED:20250801T191519Z
LAST-MODIFIED:20250801T191519Z
UID:13559-1785310200-1785313800@alki152.org
SUMMARY:BNI Professionals
DESCRIPTION:
URL:https://alki152.org/event/bni-professionals-2/2026-07-29/
CATEGORIES:Private Event
END:VEVENT
BEGIN:VEVENT
DTSTART;TZID=America/Los_Angeles:20260730T073000
DTEND;TZID=America/Los_Angeles:20260730T093000
DTSTAMP:20260423T161946
CREATED:20250713T031856Z
LAST-MODIFIED:20260329T213321Z
UID:13003-1785396600-1785403800@alki152.org
SUMMARY:BNI Champions
DESCRIPTION:
URL:https://alki152.org/event/bni-champions-2/2026-07-30/
CATEGORIES:Private Event
END:VEVENT
BEGIN:VEVENT
DTSTART;TZID=America/Los_Angeles:20260730T100000
DTEND;TZID=America/Los_Angeles:20260730T120000
DTSTAMP:20260423T161946
CREATED:20251002T213843Z
LAST-MODIFIED:20251002T213843Z
UID:13185-1785405600-1785412800@alki152.org
SUMMARY:Alki Lodge Social Gathering
DESCRIPTION:Time set aside for members (all Lodges) and friends to gather for social interaction. No set agenda\, no pressure. Chess available. Bring a guitar if you want. Provide a fishing story or two if you must.
URL:https://alki152.org/event/alki-lodge-social-gathering/2026-07-30/
END:VEVENT
BEGIN:VEVENT
DTSTART;TZID=America/Los_Angeles:20260801T140000
DTEND;TZID=America/Los_Angeles:20260801T220000
DTSTAMP:20260423T161946
CREATED:20230123T214146Z
LAST-MODIFIED:20230123T214146Z
UID:12150-1785592800-1785621600@alki152.org
SUMMARY:Lodge Alba Stated Meeting
DESCRIPTION:
URL:https://alki152.org/event/lodge-alba-stated-meeting-10/2026-08-01/
CATEGORIES:Lodge Alba
END:VEVENT
BEGIN:VEVENT
DTSTART;TZID=America/Los_Angeles:20260802T140000
DTEND;TZID=America/Los_Angeles:20260802T220000
DTSTAMP:20260423T161946
CREATED:20190319T034811Z
LAST-MODIFIED:20190319T034811Z
UID:12126-1785679200-1785708000@alki152.org
SUMMARY:Seattle Swing Dance
DESCRIPTION:
URL:https://alki152.org/event/seattle-swing-dance/2026-08-02/
LOCATION:Alki Masonic Center\, 4736 40th Ave. SW\, Seattle\, WA\, 98116\, United States
CATEGORIES:Private Event
GEO:47.5600056;-122.3825589
X-APPLE-STRUCTURED-LOCATION;VALUE=URI;X-ADDRESS=Alki Masonic Center 4736 40th Ave. SW Seattle WA 98116 United States;X-APPLE-RADIUS=500;X-TITLE=4736 40th Ave. SW:geo:-122.3825589,47.5600056
END:VEVENT
BEGIN:VEVENT
DTSTART;TZID=America/Los_Angeles:20260803T183000
DTEND;TZID=America/Los_Angeles:20260803T213000
DTSTAMP:20260423T161946
CREATED:20241118T202924Z
LAST-MODIFIED:20241118T202924Z
UID:12074-1785781800-1785792600@alki152.org
SUMMARY:Alki Lodge #152
DESCRIPTION:
URL:https://alki152.org/event/alki-lodge-152/2026-08-03/
CATEGORIES:Alki Lodge
END:VEVENT
BEGIN:VEVENT
DTSTART;TZID=America/Los_Angeles:20260805T073000
DTEND;TZID=America/Los_Angeles:20260805T083000
DTSTAMP:20260423T161946
CREATED:20250801T191519Z
LAST-MODIFIED:20260329T213000Z
UID:13026-1785915000-1785918600@alki152.org
SUMMARY:BNI Professionals
DESCRIPTION:
URL:https://alki152.org/event/bni-professionals-2/2026-08-05/
CATEGORIES:Private Event
END:VEVENT
BEGIN:VEVENT
DTSTART;TZID=America/Los_Angeles:20260806T073000
DTEND;TZID=America/Los_Angeles:20260806T093000
DTSTAMP:20260423T161946
CREATED:20250713T031856Z
LAST-MODIFIED:20250713T031856Z
UID:13597-1786001400-1786008600@alki152.org
SUMMARY:BNI Champions
DESCRIPTION:
URL:https://alki152.org/event/bni-champions-2/2026-08-06/
CATEGORIES:Private Event
END:VEVENT
BEGIN:VEVENT
DTSTART;TZID=America/Los_Angeles:20260806T100000
DTEND;TZID=America/Los_Angeles:20260806T120000
DTSTAMP:20260423T161946
CREATED:20251002T213843Z
LAST-MODIFIED:20251002T213843Z
UID:13186-1786010400-1786017600@alki152.org
SUMMARY:Alki Lodge Social Gathering
DESCRIPTION:Time set aside for members (all Lodges) and friends to gather for social interaction. No set agenda\, no pressure. Chess available. Bring a guitar if you want. Provide a fishing story or two if you must.
URL:https://alki152.org/event/alki-lodge-social-gathering/2026-08-06/
END:VEVENT
BEGIN:VEVENT
DTSTART;TZID=America/Los_Angeles:20260807T160000
DTEND;TZID=America/Los_Angeles:20260807T230000
DTSTAMP:20260423T161946
CREATED:20130628T211109Z
LAST-MODIFIED:20130628T211109Z
UID:12157-1786118400-1786143600@alki152.org
SUMMARY:Amaranth - Alki Court
DESCRIPTION:
URL:https://alki152.org/event/amaranth-westgate-court-2015-12-04-2016-12-02-2017-12-01/2026-08-07/
LOCATION:Alki Masonic Center\, 4736 40th Ave. SW\, Seattle\, WA\, 98116\, United States
CATEGORIES:Masonic Family,Westgate
ORGANIZER;CN="Sue Gibbs":MAILTO:westgateevents21@gmail.com
GEO:47.5600056;-122.3825589
X-APPLE-STRUCTURED-LOCATION;VALUE=URI;X-ADDRESS=Alki Masonic Center 4736 40th Ave. SW Seattle WA 98116 United States;X-APPLE-RADIUS=500;X-TITLE=4736 40th Ave. SW:geo:-122.3825589,47.5600056
END:VEVENT
BEGIN:VEVENT
DTSTART;TZID=America/Los_Angeles:20260808T100000
DTEND;TZID=America/Los_Angeles:20260808T233000
DTSTAMP:20260423T161946
CREATED:20260327T004658Z
LAST-MODIFIED:20260327T004658Z
UID:13518-1786183200-1786231800@alki152.org
SUMMARY:Prince Hall Consistory Celebration
DESCRIPTION:
URL:https://alki152.org/event/prince-hall-consistory-celebration-2/
END:VEVENT
BEGIN:VEVENT
DTSTART;TZID=America/Los_Angeles:20260812T073000
DTEND;TZID=America/Los_Angeles:20260812T083000
DTSTAMP:20260423T161946
CREATED:20250801T191519Z
LAST-MODIFIED:20250801T191519Z
UID:13560-1786519800-1786523400@alki152.org
SUMMARY:BNI Professionals
DESCRIPTION:
URL:https://alki152.org/event/bni-professionals-2/2026-08-12/
CATEGORIES:Private Event
END:VEVENT
BEGIN:VEVENT
DTSTART;TZID=America/Los_Angeles:20260813T073000
DTEND;TZID=America/Los_Angeles:20260813T093000
DTSTAMP:20260423T161946
CREATED:20250713T031856Z
LAST-MODIFIED:20250713T031856Z
UID:13598-1786606200-1786613400@alki152.org
SUMMARY:BNI Champions
DESCRIPTION:
URL:https://alki152.org/event/bni-champions-2/2026-08-13/
CATEGORIES:Private Event
END:VEVENT
BEGIN:VEVENT
DTSTART;TZID=America/Los_Angeles:20260813T100000
DTEND;TZID=America/Los_Angeles:20260813T120000
DTSTAMP:20260423T161946
CREATED:20251002T213843Z
LAST-MODIFIED:20251002T213843Z
UID:13187-1786615200-1786622400@alki152.org
SUMMARY:Alki Lodge Social Gathering
DESCRIPTION:Time set aside for members (all Lodges) and friends to gather for social interaction. No set agenda\, no pressure. Chess available. Bring a guitar if you want. Provide a fishing story or two if you must.
URL:https://alki152.org/event/alki-lodge-social-gathering/2026-08-13/
END:VEVENT
BEGIN:VEVENT
DTSTART;TZID=America/Los_Angeles:20260814T170000
DTEND;TZID=America/Los_Angeles:20260814T220000
DTSTAMP:20260423T161946
CREATED:20230328T145554Z
LAST-MODIFIED:20230328T145554Z
UID:12175-1786726800-1786744800@alki152.org
SUMMARY:Rainbow Girls
DESCRIPTION:
URL:https://alki152.org/event/rainbow-girls-34/2026-08-14/
CATEGORIES:Masonic Family
END:VEVENT
BEGIN:VEVENT
DTSTART;TZID=America/Los_Angeles:20260816T140000
DTEND;TZID=America/Los_Angeles:20260816T220000
DTSTAMP:20260423T161946
CREATED:20190319T034811Z
LAST-MODIFIED:20190319T034811Z
UID:12136-1786888800-1786917600@alki152.org
SUMMARY:Seattle Swing Dance
DESCRIPTION:
URL:https://alki152.org/event/seattle-swing-dance/2026-08-16/
LOCATION:Alki Masonic Center\, 4736 40th Ave. SW\, Seattle\, WA\, 98116\, United States
CATEGORIES:Private Event
GEO:47.5600056;-122.3825589
X-APPLE-STRUCTURED-LOCATION;VALUE=URI;X-ADDRESS=Alki Masonic Center 4736 40th Ave. SW Seattle WA 98116 United States;X-APPLE-RADIUS=500;X-TITLE=4736 40th Ave. SW:geo:-122.3825589,47.5600056
END:VEVENT
END:VCALENDAR