BEGIN:VCALENDAR
VERSION:2.0
PRODID:-//Alki Masonic Lodge #152 - ECPv6.15.20//NONSGML v1.0//EN
CALSCALE:GREGORIAN
METHOD:PUBLISH
X-WR-CALNAME:Alki Masonic Lodge #152
X-ORIGINAL-URL:https://alki152.org
X-WR-CALDESC:Events for Alki Masonic Lodge #152
REFRESH-INTERVAL;VALUE=DURATION:PT1H
X-Robots-Tag:noindex
X-PUBLISHED-TTL:PT1H
BEGIN:VTIMEZONE
TZID:America/Los_Angeles
BEGIN:DAYLIGHT
TZOFFSETFROM:-0800
TZOFFSETTO:-0700
TZNAME:PDT
DTSTART:20240310T100000
END:DAYLIGHT
BEGIN:STANDARD
TZOFFSETFROM:-0700
TZOFFSETTO:-0800
TZNAME:PST
DTSTART:20241103T090000
END:STANDARD
BEGIN:DAYLIGHT
TZOFFSETFROM:-0800
TZOFFSETTO:-0700
TZNAME:PDT
DTSTART:20250309T100000
END:DAYLIGHT
BEGIN:STANDARD
TZOFFSETFROM:-0700
TZOFFSETTO:-0800
TZNAME:PST
DTSTART:20251102T090000
END:STANDARD
BEGIN:DAYLIGHT
TZOFFSETFROM:-0800
TZOFFSETTO:-0700
TZNAME:PDT
DTSTART:20260308T100000
END:DAYLIGHT
BEGIN:STANDARD
TZOFFSETFROM:-0700
TZOFFSETTO:-0800
TZNAME:PST
DTSTART:20261101T090000
END:STANDARD
END:VTIMEZONE
BEGIN:VEVENT
DTSTART;TZID=America/Los_Angeles:20250923T160000
DTEND;TZID=America/Los_Angeles:20250923T200000
DTSTAMP:20260425T034830
CREATED:20240417T153708Z
LAST-MODIFIED:20240417T153708Z
UID:12650-1758643200-1758657600@alki152.org
SUMMARY:Amethyst Chapter Eastern Star Meeting
DESCRIPTION:
URL:https://alki152.org/event/amethyst-chapter-eastern-star-meeting/2025-09-23/
CATEGORIES:Masonic Family
END:VEVENT
BEGIN:VEVENT
DTSTART;TZID=America/Los_Angeles:20250924T073000
DTEND;TZID=America/Los_Angeles:20250924T083000
DTSTAMP:20260425T034830
CREATED:20250801T191519Z
LAST-MODIFIED:20250801T191519Z
UID:13525-1758699000-1758702600@alki152.org
SUMMARY:BNI Professionals
DESCRIPTION:
URL:https://alki152.org/event/bni-professionals-2/2025-09-24/
CATEGORIES:Private Event
END:VEVENT
BEGIN:VEVENT
DTSTART;TZID=America/Los_Angeles:20250924T160000
DTEND;TZID=America/Los_Angeles:20250924T200000
DTSTAMP:20260425T034830
CREATED:20241128T160017Z
LAST-MODIFIED:20241128T160017Z
UID:12467-1758729600-1758744000@alki152.org
SUMMARY:West Seattle Performing Arts
DESCRIPTION:
URL:https://alki152.org/event/west-seattle-performing-arts/2025-09-24/
CATEGORIES:Private Event
END:VEVENT
BEGIN:VEVENT
DTSTART;TZID=America/Los_Angeles:20250925T073000
DTEND;TZID=America/Los_Angeles:20250925T093000
DTSTAMP:20260425T034830
CREATED:20250713T031856Z
LAST-MODIFIED:20260329T213308Z
UID:12958-1758785400-1758792600@alki152.org
SUMMARY:BNI Champions
DESCRIPTION:
URL:https://alki152.org/event/bni-champions-2/2025-09-25/
CATEGORIES:Private Event
END:VEVENT
BEGIN:VEVENT
DTSTART;TZID=America/Los_Angeles:20250925T160000
DTEND;TZID=America/Los_Angeles:20250925T200000
DTSTAMP:20260425T034830
CREATED:20241128T160151Z
LAST-MODIFIED:20241128T160151Z
UID:12525-1758816000-1758830400@alki152.org
SUMMARY:West Seattle Performing Arts
DESCRIPTION:
URL:https://alki152.org/event/west-seattle-performing-arts-2/2025-09-25/
CATEGORIES:Private Event
END:VEVENT
BEGIN:VEVENT
DTSTART;TZID=America/Los_Angeles:20250926T170000
DTEND;TZID=America/Los_Angeles:20250926T220000
DTSTAMP:20260425T034830
CREATED:20230123T211944Z
LAST-MODIFIED:20230123T211944Z
UID:11720-1758906000-1758924000@alki152.org
SUMMARY:Rainbow Girls
DESCRIPTION:
URL:https://alki152.org/event/rainbow-girls-33/2025-09-26/
CATEGORIES:Masonic Family
END:VEVENT
BEGIN:VEVENT
DTSTART;TZID=America/Los_Angeles:20250927T120000
DTEND;TZID=America/Los_Angeles:20250927T120000
DTSTAMP:20260425T034830
CREATED:20250407T004434Z
LAST-MODIFIED:20250816T144141Z
UID:12768-1758974400-1758974400@alki152.org
SUMMARY:Union Lodge #43 65th Anniversary Party
DESCRIPTION:
URL:https://alki152.org/event/union-lodge-43-anniversary-party/
CATEGORIES:Masonic Family
END:VEVENT
BEGIN:VEVENT
DTSTART;TZID=America/Los_Angeles:20251001T073000
DTEND;TZID=America/Los_Angeles:20251001T083000
DTSTAMP:20260425T034830
CREATED:20250801T191519Z
LAST-MODIFIED:20260329T212958Z
UID:13015-1759303800-1759307400@alki152.org
SUMMARY:BNI Professionals
DESCRIPTION:
URL:https://alki152.org/event/bni-professionals-2/2025-10-01/
CATEGORIES:Private Event
END:VEVENT
BEGIN:VEVENT
DTSTART;TZID=America/Los_Angeles:20251001T160000
DTEND;TZID=America/Los_Angeles:20251001T200000
DTSTAMP:20260425T034830
CREATED:20241128T160017Z
LAST-MODIFIED:20241128T160017Z
UID:12468-1759334400-1759348800@alki152.org
SUMMARY:West Seattle Performing Arts
DESCRIPTION:
URL:https://alki152.org/event/west-seattle-performing-arts/2025-10-01/
CATEGORIES:Private Event
END:VEVENT
BEGIN:VEVENT
DTSTART;TZID=America/Los_Angeles:20251002T073000
DTEND;TZID=America/Los_Angeles:20251002T093000
DTSTAMP:20260425T034830
CREATED:20250713T031856Z
LAST-MODIFIED:20260329T213309Z
UID:12959-1759390200-1759397400@alki152.org
SUMMARY:BNI Champions
DESCRIPTION:
URL:https://alki152.org/event/bni-champions-2/2025-10-02/
CATEGORIES:Private Event
END:VEVENT
BEGIN:VEVENT
DTSTART;TZID=America/Los_Angeles:20251002T100000
DTEND;TZID=America/Los_Angeles:20251002T120000
DTSTAMP:20260425T034830
CREATED:20251002T213843Z
LAST-MODIFIED:20251002T213843Z
UID:13141-1759399200-1759406400@alki152.org
SUMMARY:Alki Lodge Social Gathering
DESCRIPTION:Time set aside for members (all Lodges) and friends to gather for social interaction. No set agenda\, no pressure. Chess available. Bring a guitar if you want. Provide a fishing story or two if you must.
URL:https://alki152.org/event/alki-lodge-social-gathering/2025-10-02/
END:VEVENT
BEGIN:VEVENT
DTSTART;TZID=America/Los_Angeles:20251002T160000
DTEND;TZID=America/Los_Angeles:20251002T200000
DTSTAMP:20260425T034830
CREATED:20241128T160151Z
LAST-MODIFIED:20241128T160151Z
UID:12526-1759420800-1759435200@alki152.org
SUMMARY:West Seattle Performing Arts
DESCRIPTION:
URL:https://alki152.org/event/west-seattle-performing-arts-2/2025-10-02/
CATEGORIES:Private Event
END:VEVENT
BEGIN:VEVENT
DTSTART;TZID=America/Los_Angeles:20251003T160000
DTEND;TZID=America/Los_Angeles:20251003T230000
DTSTAMP:20260425T034830
CREATED:20130628T211109Z
LAST-MODIFIED:20130628T211109Z
UID:11723-1759507200-1759532400@alki152.org
SUMMARY:Amaranth - Alki Court
DESCRIPTION:
URL:https://alki152.org/event/amaranth-westgate-court-2015-12-04-2016-12-02-2017-12-01/2025-10-03/
LOCATION:Alki Masonic Center\, 4736 40th Ave. SW\, Seattle\, WA\, 98116\, United States
CATEGORIES:Masonic Family,Westgate
ORGANIZER;CN="Sue Gibbs":MAILTO:westgateevents21@gmail.com
GEO:47.5600056;-122.3825589
X-APPLE-STRUCTURED-LOCATION;VALUE=URI;X-ADDRESS=Alki Masonic Center 4736 40th Ave. SW Seattle WA 98116 United States;X-APPLE-RADIUS=500;X-TITLE=4736 40th Ave. SW:geo:-122.3825589,47.5600056
END:VEVENT
BEGIN:VEVENT
DTSTART;TZID=America/Los_Angeles:20251005T140000
DTEND;TZID=America/Los_Angeles:20251005T220000
DTSTAMP:20260425T034830
CREATED:20190319T034811Z
LAST-MODIFIED:20190319T034811Z
UID:11727-1759672800-1759701600@alki152.org
SUMMARY:Seattle Swing Dance
DESCRIPTION:
URL:https://alki152.org/event/seattle-swing-dance/2025-10-05/
LOCATION:Alki Masonic Center\, 4736 40th Ave. SW\, Seattle\, WA\, 98116\, United States
CATEGORIES:Private Event
GEO:47.5600056;-122.3825589
X-APPLE-STRUCTURED-LOCATION;VALUE=URI;X-ADDRESS=Alki Masonic Center 4736 40th Ave. SW Seattle WA 98116 United States;X-APPLE-RADIUS=500;X-TITLE=4736 40th Ave. SW:geo:-122.3825589,47.5600056
END:VEVENT
BEGIN:VEVENT
DTSTART;TZID=America/Los_Angeles:20251006T183000
DTEND;TZID=America/Los_Angeles:20251006T213000
DTSTAMP:20260425T034830
CREATED:20241118T202924Z
LAST-MODIFIED:20241118T202924Z
UID:12064-1759775400-1759786200@alki152.org
SUMMARY:Alki Lodge #152
DESCRIPTION:
URL:https://alki152.org/event/alki-lodge-152/2025-10-06/
CATEGORIES:Alki Lodge
END:VEVENT
BEGIN:VEVENT
DTSTART;TZID=America/Los_Angeles:20251007T180000
DTEND;TZID=America/Los_Angeles:20251007T200000
DTSTAMP:20260425T034830
CREATED:20250713T031404Z
LAST-MODIFIED:20250713T031404Z
UID:12946-1759860000-1759867200@alki152.org
SUMMARY:West Seattle Junction Association
DESCRIPTION:
URL:https://alki152.org/event/west-seattle-junction-association/
CATEGORIES:Private Event
END:VEVENT
BEGIN:VEVENT
DTSTART;TZID=America/Los_Angeles:20251008T073000
DTEND;TZID=America/Los_Angeles:20251008T083000
DTSTAMP:20260425T034830
CREATED:20250801T191519Z
LAST-MODIFIED:20250801T191519Z
UID:13526-1759908600-1759912200@alki152.org
SUMMARY:BNI Professionals
DESCRIPTION:
URL:https://alki152.org/event/bni-professionals-2/2025-10-08/
CATEGORIES:Private Event
END:VEVENT
BEGIN:VEVENT
DTSTART;TZID=America/Los_Angeles:20251008T160000
DTEND;TZID=America/Los_Angeles:20251008T200000
DTSTAMP:20260425T034830
CREATED:20241128T160017Z
LAST-MODIFIED:20241128T160017Z
UID:12469-1759939200-1759953600@alki152.org
SUMMARY:West Seattle Performing Arts
DESCRIPTION:
URL:https://alki152.org/event/west-seattle-performing-arts/2025-10-08/
CATEGORIES:Private Event
END:VEVENT
BEGIN:VEVENT
DTSTART;TZID=America/Los_Angeles:20251009T073000
DTEND;TZID=America/Los_Angeles:20251009T093000
DTSTAMP:20260425T034830
CREATED:20250713T031856Z
LAST-MODIFIED:20260329T213311Z
UID:12960-1759995000-1760002200@alki152.org
SUMMARY:BNI Champions
DESCRIPTION:
URL:https://alki152.org/event/bni-champions-2/2025-10-09/
CATEGORIES:Private Event
END:VEVENT
BEGIN:VEVENT
DTSTART;TZID=America/Los_Angeles:20251009T100000
DTEND;TZID=America/Los_Angeles:20251009T120000
DTSTAMP:20260425T034830
CREATED:20251002T213843Z
LAST-MODIFIED:20251002T213843Z
UID:13142-1760004000-1760011200@alki152.org
SUMMARY:Alki Lodge Social Gathering
DESCRIPTION:Time set aside for members (all Lodges) and friends to gather for social interaction. No set agenda\, no pressure. Chess available. Bring a guitar if you want. Provide a fishing story or two if you must.
URL:https://alki152.org/event/alki-lodge-social-gathering/2025-10-09/
END:VEVENT
BEGIN:VEVENT
DTSTART;TZID=America/Los_Angeles:20251009T160000
DTEND;TZID=America/Los_Angeles:20251009T200000
DTSTAMP:20260425T034830
CREATED:20241128T160151Z
LAST-MODIFIED:20241128T160151Z
UID:12527-1760025600-1760040000@alki152.org
SUMMARY:West Seattle Performing Arts
DESCRIPTION:
URL:https://alki152.org/event/west-seattle-performing-arts-2/2025-10-09/
CATEGORIES:Private Event
END:VEVENT
BEGIN:VEVENT
DTSTART;TZID=America/Los_Angeles:20251010T170000
DTEND;TZID=America/Los_Angeles:20251010T220000
DTSTAMP:20260425T034830
CREATED:20230328T145554Z
LAST-MODIFIED:20230328T145554Z
UID:11729-1760115600-1760133600@alki152.org
SUMMARY:Rainbow Girls
DESCRIPTION:
URL:https://alki152.org/event/rainbow-girls-34/2025-10-10/
CATEGORIES:Masonic Family
END:VEVENT
BEGIN:VEVENT
DTSTART;TZID=America/Los_Angeles:20251011T120000
DTEND;TZID=America/Los_Angeles:20251011T220000
DTSTAMP:20260425T034830
CREATED:20250224T034508Z
LAST-MODIFIED:20250224T034508Z
UID:12638-1760184000-1760220000@alki152.org
SUMMARY:Job's Daughters Fundraiser Dinner
DESCRIPTION:
URL:https://alki152.org/event/jobs-daughters-fundraiser-dinner/
CATEGORIES:Masonic Family
END:VEVENT
BEGIN:VEVENT
DTSTART;TZID=America/Los_Angeles:20251012T140000
DTEND;TZID=America/Los_Angeles:20251012T180000
DTSTAMP:20260425T034830
CREATED:20250512T233140Z
LAST-MODIFIED:20250911T215352Z
UID:12879-1760277600-1760292000@alki152.org
SUMMARY:District 6 Chili Cook off
DESCRIPTION:
URL:https://alki152.org/event/district-6-chili-cook-off/
CATEGORIES:Masonic Family
END:VEVENT
BEGIN:VEVENT
DTSTART;TZID=America/Los_Angeles:20251014T180000
DTEND;TZID=America/Los_Angeles:20251014T210000
DTSTAMP:20260425T034830
CREATED:20251008T032330Z
LAST-MODIFIED:20251008T032330Z
UID:13211-1760464800-1760475600@alki152.org
SUMMARY:Rainbow Line Officer Meeting
DESCRIPTION:
URL:https://alki152.org/event/rainbow-line-officer-meeting/
CATEGORIES:Masonic Family,Rainbow
END:VEVENT
BEGIN:VEVENT
DTSTART;TZID=America/Los_Angeles:20251015T073000
DTEND;TZID=America/Los_Angeles:20251015T083000
DTSTAMP:20260425T034830
CREATED:20250801T191519Z
LAST-MODIFIED:20250801T191519Z
UID:13527-1760513400-1760517000@alki152.org
SUMMARY:BNI Professionals
DESCRIPTION:
URL:https://alki152.org/event/bni-professionals-2/2025-10-15/
CATEGORIES:Private Event
END:VEVENT
BEGIN:VEVENT
DTSTART;TZID=America/Los_Angeles:20251015T160000
DTEND;TZID=America/Los_Angeles:20251015T200000
DTSTAMP:20260425T034830
CREATED:20241128T160017Z
LAST-MODIFIED:20241128T160017Z
UID:12470-1760544000-1760558400@alki152.org
SUMMARY:West Seattle Performing Arts
DESCRIPTION:
URL:https://alki152.org/event/west-seattle-performing-arts/2025-10-15/
CATEGORIES:Private Event
END:VEVENT
BEGIN:VEVENT
DTSTART;TZID=America/Los_Angeles:20251016T073000
DTEND;TZID=America/Los_Angeles:20251016T093000
DTSTAMP:20260425T034830
CREATED:20250713T031856Z
LAST-MODIFIED:20260329T213312Z
UID:12962-1760599800-1760607000@alki152.org
SUMMARY:BNI Champions
DESCRIPTION:
URL:https://alki152.org/event/bni-champions-2/2025-10-16/
CATEGORIES:Private Event
END:VEVENT
BEGIN:VEVENT
DTSTART;TZID=America/Los_Angeles:20251016T100000
DTEND;TZID=America/Los_Angeles:20251016T120000
DTSTAMP:20260425T034830
CREATED:20251002T213843Z
LAST-MODIFIED:20251002T213843Z
UID:13143-1760608800-1760616000@alki152.org
SUMMARY:Alki Lodge Social Gathering
DESCRIPTION:Time set aside for members (all Lodges) and friends to gather for social interaction. No set agenda\, no pressure. Chess available. Bring a guitar if you want. Provide a fishing story or two if you must.
URL:https://alki152.org/event/alki-lodge-social-gathering/2025-10-16/
END:VEVENT
BEGIN:VEVENT
DTSTART;TZID=America/Los_Angeles:20251016T160000
DTEND;TZID=America/Los_Angeles:20251016T200000
DTSTAMP:20260425T034830
CREATED:20241128T160151Z
LAST-MODIFIED:20241128T160151Z
UID:12528-1760630400-1760644800@alki152.org
SUMMARY:West Seattle Performing Arts
DESCRIPTION:
URL:https://alki152.org/event/west-seattle-performing-arts-2/2025-10-16/
CATEGORIES:Private Event
END:VEVENT
END:VCALENDAR