BEGIN:VCALENDAR
VERSION:2.0
PRODID:-//Alki Masonic Lodge #152 - ECPv6.15.20//NONSGML v1.0//EN
CALSCALE:GREGORIAN
METHOD:PUBLISH
X-WR-CALNAME:Alki Masonic Lodge #152
X-ORIGINAL-URL:https://alki152.org
X-WR-CALDESC:Events for Alki Masonic Lodge #152
REFRESH-INTERVAL;VALUE=DURATION:PT1H
X-Robots-Tag:noindex
X-PUBLISHED-TTL:PT1H
BEGIN:VTIMEZONE
TZID:America/Los_Angeles
BEGIN:DAYLIGHT
TZOFFSETFROM:-0800
TZOFFSETTO:-0700
TZNAME:PDT
DTSTART:20240310T100000
END:DAYLIGHT
BEGIN:STANDARD
TZOFFSETFROM:-0700
TZOFFSETTO:-0800
TZNAME:PST
DTSTART:20241103T090000
END:STANDARD
BEGIN:DAYLIGHT
TZOFFSETFROM:-0800
TZOFFSETTO:-0700
TZNAME:PDT
DTSTART:20250309T100000
END:DAYLIGHT
BEGIN:STANDARD
TZOFFSETFROM:-0700
TZOFFSETTO:-0800
TZNAME:PST
DTSTART:20251102T090000
END:STANDARD
BEGIN:DAYLIGHT
TZOFFSETFROM:-0800
TZOFFSETTO:-0700
TZNAME:PDT
DTSTART:20260308T100000
END:DAYLIGHT
BEGIN:STANDARD
TZOFFSETFROM:-0700
TZOFFSETTO:-0800
TZNAME:PST
DTSTART:20261101T090000
END:STANDARD
END:VTIMEZONE
BEGIN:VEVENT
DTSTART;TZID=America/Los_Angeles:20250821T073000
DTEND;TZID=America/Los_Angeles:20250821T093000
DTSTAMP:20260425T034655
CREATED:20250713T031856Z
LAST-MODIFIED:20260329T213306Z
UID:12953-1755761400-1755768600@alki152.org
SUMMARY:BNI Champions
DESCRIPTION:
URL:https://alki152.org/event/bni-champions-2/2025-08-21/
CATEGORIES:Private Event
END:VEVENT
BEGIN:VEVENT
DTSTART;TZID=America/Los_Angeles:20250821T160000
DTEND;TZID=America/Los_Angeles:20250821T200000
DTSTAMP:20260425T034655
CREATED:20241128T160151Z
LAST-MODIFIED:20241128T160151Z
UID:12520-1755792000-1755806400@alki152.org
SUMMARY:West Seattle Performing Arts
DESCRIPTION:
URL:https://alki152.org/event/west-seattle-performing-arts-2/2025-08-21/
CATEGORIES:Private Event
END:VEVENT
BEGIN:VEVENT
DTSTART;TZID=America/Los_Angeles:20250822T170000
DTEND;TZID=America/Los_Angeles:20250822T220000
DTSTAMP:20260425T034655
CREATED:20230123T211944Z
LAST-MODIFIED:20230123T211944Z
UID:11680-1755882000-1755900000@alki152.org
SUMMARY:Rainbow Girls
DESCRIPTION:
URL:https://alki152.org/event/rainbow-girls-33/2025-08-22/
CATEGORIES:Masonic Family
END:VEVENT
BEGIN:VEVENT
DTSTART;TZID=America/Los_Angeles:20250826T160000
DTEND;TZID=America/Los_Angeles:20250826T200000
DTSTAMP:20260425T034655
CREATED:20240417T153708Z
LAST-MODIFIED:20240417T153708Z
UID:12649-1756224000-1756238400@alki152.org
SUMMARY:Amethyst Chapter Eastern Star Meeting
DESCRIPTION:
URL:https://alki152.org/event/amethyst-chapter-eastern-star-meeting/2025-08-26/
CATEGORIES:Masonic Family
END:VEVENT
BEGIN:VEVENT
DTSTART;TZID=America/Los_Angeles:20250827T073000
DTEND;TZID=America/Los_Angeles:20250827T083000
DTSTAMP:20260425T034655
CREATED:20250801T191519Z
LAST-MODIFIED:20250801T191519Z
UID:13522-1756279800-1756283400@alki152.org
SUMMARY:BNI Professionals
DESCRIPTION:
URL:https://alki152.org/event/bni-professionals-2/2025-08-27/
CATEGORIES:Private Event
END:VEVENT
BEGIN:VEVENT
DTSTART;TZID=America/Los_Angeles:20250827T160000
DTEND;TZID=America/Los_Angeles:20250827T200000
DTSTAMP:20260425T034655
CREATED:20241128T160017Z
LAST-MODIFIED:20241128T160017Z
UID:12463-1756310400-1756324800@alki152.org
SUMMARY:West Seattle Performing Arts
DESCRIPTION:
URL:https://alki152.org/event/west-seattle-performing-arts/2025-08-27/
CATEGORIES:Private Event
END:VEVENT
BEGIN:VEVENT
DTSTART;TZID=America/Los_Angeles:20250828T073000
DTEND;TZID=America/Los_Angeles:20250828T093000
DTSTAMP:20260425T034655
CREATED:20250713T031856Z
LAST-MODIFIED:20260329T213306Z
UID:12954-1756366200-1756373400@alki152.org
SUMMARY:BNI Champions
DESCRIPTION:
URL:https://alki152.org/event/bni-champions-2/2025-08-28/
CATEGORIES:Private Event
END:VEVENT
BEGIN:VEVENT
DTSTART;TZID=America/Los_Angeles:20250828T160000
DTEND;TZID=America/Los_Angeles:20250828T200000
DTSTAMP:20260425T034655
CREATED:20241128T160151Z
LAST-MODIFIED:20241128T160151Z
UID:12521-1756396800-1756411200@alki152.org
SUMMARY:West Seattle Performing Arts
DESCRIPTION:
URL:https://alki152.org/event/west-seattle-performing-arts-2/2025-08-28/
CATEGORIES:Private Event
END:VEVENT
BEGIN:VEVENT
DTSTART;TZID=America/Los_Angeles:20250831T080000
DTEND;TZID=America/Los_Angeles:20250831T233000
DTSTAMP:20260425T034655
CREATED:20250528T220202Z
LAST-MODIFIED:20250528T220202Z
UID:12906-1756627200-1756683000@alki152.org
SUMMARY:Private Party
DESCRIPTION:
URL:https://alki152.org/event/private-party-8/
CATEGORIES:Private Event
END:VEVENT
BEGIN:VEVENT
DTSTART;TZID=America/Los_Angeles:20250901T120000
DTEND;TZID=America/Los_Angeles:20250901T140000
DTSTAMP:20260425T034655
CREATED:20250814T013147Z
LAST-MODIFIED:20250814T013147Z
UID:13052-1756728000-1756735200@alki152.org
SUMMARY:Labor Day Celebration and Flag Tribute
DESCRIPTION:
URL:https://alki152.org/event/labor-day-celebration-and-flag-tribute/
CATEGORIES:Public Event
END:VEVENT
BEGIN:VEVENT
DTSTART;TZID=America/Los_Angeles:20250903T073000
DTEND;TZID=America/Los_Angeles:20250903T083000
DTSTAMP:20260425T034655
CREATED:20250801T191519Z
LAST-MODIFIED:20260329T212958Z
UID:13014-1756884600-1756888200@alki152.org
SUMMARY:BNI Professionals
DESCRIPTION:
URL:https://alki152.org/event/bni-professionals-2/2025-09-03/
CATEGORIES:Private Event
END:VEVENT
BEGIN:VEVENT
DTSTART;TZID=America/Los_Angeles:20250903T160000
DTEND;TZID=America/Los_Angeles:20250903T200000
DTSTAMP:20260425T034655
CREATED:20241128T160017Z
LAST-MODIFIED:20241128T160017Z
UID:12464-1756915200-1756929600@alki152.org
SUMMARY:West Seattle Performing Arts
DESCRIPTION:
URL:https://alki152.org/event/west-seattle-performing-arts/2025-09-03/
CATEGORIES:Private Event
END:VEVENT
BEGIN:VEVENT
DTSTART;TZID=America/Los_Angeles:20250904T073000
DTEND;TZID=America/Los_Angeles:20250904T093000
DTSTAMP:20260425T034655
CREATED:20250713T031856Z
LAST-MODIFIED:20260329T213307Z
UID:12955-1756971000-1756978200@alki152.org
SUMMARY:BNI Champions
DESCRIPTION:
URL:https://alki152.org/event/bni-champions-2/2025-09-04/
CATEGORIES:Private Event
END:VEVENT
BEGIN:VEVENT
DTSTART;TZID=America/Los_Angeles:20250904T160000
DTEND;TZID=America/Los_Angeles:20250904T200000
DTSTAMP:20260425T034655
CREATED:20241128T160151Z
LAST-MODIFIED:20241128T160151Z
UID:12522-1757001600-1757016000@alki152.org
SUMMARY:West Seattle Performing Arts
DESCRIPTION:
URL:https://alki152.org/event/west-seattle-performing-arts-2/2025-09-04/
CATEGORIES:Private Event
END:VEVENT
BEGIN:VEVENT
DTSTART;TZID=America/Los_Angeles:20250905T160000
DTEND;TZID=America/Los_Angeles:20250905T230000
DTSTAMP:20260425T034655
CREATED:20130628T211109Z
LAST-MODIFIED:20130628T211109Z
UID:11696-1757088000-1757113200@alki152.org
SUMMARY:Amaranth - Alki Court
DESCRIPTION:
URL:https://alki152.org/event/amaranth-westgate-court-2015-12-04-2016-12-02-2017-12-01/2025-09-05/
LOCATION:Alki Masonic Center\, 4736 40th Ave. SW\, Seattle\, WA\, 98116\, United States
CATEGORIES:Masonic Family,Westgate
ORGANIZER;CN="Sue Gibbs":MAILTO:westgateevents21@gmail.com
GEO:47.5600056;-122.3825589
X-APPLE-STRUCTURED-LOCATION;VALUE=URI;X-ADDRESS=Alki Masonic Center 4736 40th Ave. SW Seattle WA 98116 United States;X-APPLE-RADIUS=500;X-TITLE=4736 40th Ave. SW:geo:-122.3825589,47.5600056
END:VEVENT
BEGIN:VEVENT
DTSTART;TZID=America/Los_Angeles:20250907T140000
DTEND;TZID=America/Los_Angeles:20250907T220000
DTSTAMP:20260425T034655
CREATED:20190319T034811Z
LAST-MODIFIED:20190319T034811Z
UID:11697-1757253600-1757282400@alki152.org
SUMMARY:Seattle Swing Dance
DESCRIPTION:
URL:https://alki152.org/event/seattle-swing-dance/2025-09-07/
LOCATION:Alki Masonic Center\, 4736 40th Ave. SW\, Seattle\, WA\, 98116\, United States
CATEGORIES:Private Event
GEO:47.5600056;-122.3825589
X-APPLE-STRUCTURED-LOCATION;VALUE=URI;X-ADDRESS=Alki Masonic Center 4736 40th Ave. SW Seattle WA 98116 United States;X-APPLE-RADIUS=500;X-TITLE=4736 40th Ave. SW:geo:-122.3825589,47.5600056
END:VEVENT
BEGIN:VEVENT
DTSTART;TZID=America/Los_Angeles:20250908T180000
DTEND;TZID=America/Los_Angeles:20250908T213000
DTSTAMP:20260425T034655
CREATED:20250512T233305Z
LAST-MODIFIED:20250512T233305Z
UID:12881-1757354400-1757367000@alki152.org
SUMMARY:Alki Past Masters Night
DESCRIPTION:
URL:https://alki152.org/event/alki-past-masters-night/
CATEGORIES:Alki Lodge
END:VEVENT
BEGIN:VEVENT
DTSTART;TZID=America/Los_Angeles:20250910T073000
DTEND;TZID=America/Los_Angeles:20250910T083000
DTSTAMP:20260425T034655
CREATED:20250801T191519Z
LAST-MODIFIED:20250801T191519Z
UID:13523-1757489400-1757493000@alki152.org
SUMMARY:BNI Professionals
DESCRIPTION:
URL:https://alki152.org/event/bni-professionals-2/2025-09-10/
CATEGORIES:Private Event
END:VEVENT
BEGIN:VEVENT
DTSTART;TZID=America/Los_Angeles:20250910T160000
DTEND;TZID=America/Los_Angeles:20250910T200000
DTSTAMP:20260425T034655
CREATED:20241128T160017Z
LAST-MODIFIED:20241128T160017Z
UID:12465-1757520000-1757534400@alki152.org
SUMMARY:West Seattle Performing Arts
DESCRIPTION:
URL:https://alki152.org/event/west-seattle-performing-arts/2025-09-10/
CATEGORIES:Private Event
END:VEVENT
BEGIN:VEVENT
DTSTART;TZID=America/Los_Angeles:20250911T073000
DTEND;TZID=America/Los_Angeles:20250911T093000
DTSTAMP:20260425T034655
CREATED:20250713T031856Z
LAST-MODIFIED:20260329T213308Z
UID:12956-1757575800-1757583000@alki152.org
SUMMARY:BNI Champions
DESCRIPTION:
URL:https://alki152.org/event/bni-champions-2/2025-09-11/
CATEGORIES:Private Event
END:VEVENT
BEGIN:VEVENT
DTSTART;TZID=America/Los_Angeles:20250911T160000
DTEND;TZID=America/Los_Angeles:20250911T200000
DTSTAMP:20260425T034655
CREATED:20241128T160151Z
LAST-MODIFIED:20241128T160151Z
UID:12523-1757606400-1757620800@alki152.org
SUMMARY:West Seattle Performing Arts
DESCRIPTION:
URL:https://alki152.org/event/west-seattle-performing-arts-2/2025-09-11/
CATEGORIES:Private Event
END:VEVENT
BEGIN:VEVENT
DTSTART;TZID=America/Los_Angeles:20250912T170000
DTEND;TZID=America/Los_Angeles:20250912T220000
DTSTAMP:20260425T034655
CREATED:20230328T145554Z
LAST-MODIFIED:20230328T145554Z
UID:11705-1757696400-1757714400@alki152.org
SUMMARY:Rainbow Girls
DESCRIPTION:
URL:https://alki152.org/event/rainbow-girls-34/2025-09-12/
CATEGORIES:Masonic Family
END:VEVENT
BEGIN:VEVENT
DTSTART;VALUE=DATE:20250913
DTEND;VALUE=DATE:20250914
DTSTAMP:20260425T034655
CREATED:20241128T154745Z
LAST-MODIFIED:20241128T154745Z
UID:12193-1757721600-1757807999@alki152.org
SUMMARY:Northwest Tool Collectors
DESCRIPTION:
URL:https://alki152.org/event/northwest-tool-collectors/2025-09-13/
CATEGORIES:Public Event
END:VEVENT
BEGIN:VEVENT
DTSTART;TZID=America/Los_Angeles:20250917T073000
DTEND;TZID=America/Los_Angeles:20250917T083000
DTSTAMP:20260425T034655
CREATED:20250801T191519Z
LAST-MODIFIED:20250801T191519Z
UID:13524-1758094200-1758097800@alki152.org
SUMMARY:BNI Professionals
DESCRIPTION:
URL:https://alki152.org/event/bni-professionals-2/2025-09-17/
CATEGORIES:Private Event
END:VEVENT
BEGIN:VEVENT
DTSTART;TZID=America/Los_Angeles:20250917T160000
DTEND;TZID=America/Los_Angeles:20250917T200000
DTSTAMP:20260425T034655
CREATED:20241128T160017Z
LAST-MODIFIED:20241128T160017Z
UID:12466-1758124800-1758139200@alki152.org
SUMMARY:West Seattle Performing Arts
DESCRIPTION:
URL:https://alki152.org/event/west-seattle-performing-arts/2025-09-17/
CATEGORIES:Private Event
END:VEVENT
BEGIN:VEVENT
DTSTART;TZID=America/Los_Angeles:20250918T073000
DTEND;TZID=America/Los_Angeles:20250918T093000
DTSTAMP:20260425T034655
CREATED:20250713T031856Z
LAST-MODIFIED:20260329T213308Z
UID:12957-1758180600-1758187800@alki152.org
SUMMARY:BNI Champions
DESCRIPTION:
URL:https://alki152.org/event/bni-champions-2/2025-09-18/
CATEGORIES:Private Event
END:VEVENT
BEGIN:VEVENT
DTSTART;TZID=America/Los_Angeles:20250918T160000
DTEND;TZID=America/Los_Angeles:20250918T200000
DTSTAMP:20260425T034655
CREATED:20241128T160151Z
LAST-MODIFIED:20241128T160151Z
UID:12524-1758211200-1758225600@alki152.org
SUMMARY:West Seattle Performing Arts
DESCRIPTION:
URL:https://alki152.org/event/west-seattle-performing-arts-2/2025-09-18/
CATEGORIES:Private Event
END:VEVENT
BEGIN:VEVENT
DTSTART;TZID=America/Los_Angeles:20250919T170000
DTEND;TZID=America/Los_Angeles:20250919T200000
DTSTAMP:20260425T034655
CREATED:20230123T215034Z
LAST-MODIFIED:20230123T215034Z
UID:12809-1758301200-1758312000@alki152.org
SUMMARY:West Seattle Yacht Club
DESCRIPTION:Contact: Dori Schnelz 206-851-8067\, dmschnelz@gmail.com
URL:https://alki152.org/event/west-seattle-yacht-club-19/2025-09-19/
END:VEVENT
BEGIN:VEVENT
DTSTART;TZID=America/Los_Angeles:20250921T140000
DTEND;TZID=America/Los_Angeles:20250921T220000
DTSTAMP:20260425T034655
CREATED:20190319T034811Z
LAST-MODIFIED:20190319T034811Z
UID:11728-1758463200-1758492000@alki152.org
SUMMARY:Seattle Swing Dance
DESCRIPTION:
URL:https://alki152.org/event/seattle-swing-dance/2025-09-21/
LOCATION:Alki Masonic Center\, 4736 40th Ave. SW\, Seattle\, WA\, 98116\, United States
CATEGORIES:Private Event
GEO:47.5600056;-122.3825589
X-APPLE-STRUCTURED-LOCATION;VALUE=URI;X-ADDRESS=Alki Masonic Center 4736 40th Ave. SW Seattle WA 98116 United States;X-APPLE-RADIUS=500;X-TITLE=4736 40th Ave. SW:geo:-122.3825589,47.5600056
END:VEVENT
BEGIN:VEVENT
DTSTART;TZID=America/Los_Angeles:20250923T160000
DTEND;TZID=America/Los_Angeles:20250923T200000
DTSTAMP:20260425T034655
CREATED:20240417T153708Z
LAST-MODIFIED:20240417T153708Z
UID:12650-1758643200-1758657600@alki152.org
SUMMARY:Amethyst Chapter Eastern Star Meeting
DESCRIPTION:
URL:https://alki152.org/event/amethyst-chapter-eastern-star-meeting/2025-09-23/
CATEGORIES:Masonic Family
END:VEVENT
END:VCALENDAR