BEGIN:VCALENDAR
VERSION:2.0
PRODID:-//Alki Masonic Lodge #152 - ECPv6.15.20//NONSGML v1.0//EN
CALSCALE:GREGORIAN
METHOD:PUBLISH
X-ORIGINAL-URL:https://alki152.org
X-WR-CALDESC:Events for Alki Masonic Lodge #152
REFRESH-INTERVAL;VALUE=DURATION:PT1H
X-Robots-Tag:noindex
X-PUBLISHED-TTL:PT1H
BEGIN:VTIMEZONE
TZID:America/Los_Angeles
BEGIN:DAYLIGHT
TZOFFSETFROM:-0800
TZOFFSETTO:-0700
TZNAME:PDT
DTSTART:20250309T100000
END:DAYLIGHT
BEGIN:STANDARD
TZOFFSETFROM:-0700
TZOFFSETTO:-0800
TZNAME:PST
DTSTART:20251102T090000
END:STANDARD
BEGIN:DAYLIGHT
TZOFFSETFROM:-0800
TZOFFSETTO:-0700
TZNAME:PDT
DTSTART:20260308T100000
END:DAYLIGHT
BEGIN:STANDARD
TZOFFSETFROM:-0700
TZOFFSETTO:-0800
TZNAME:PST
DTSTART:20261101T090000
END:STANDARD
BEGIN:DAYLIGHT
TZOFFSETFROM:-0800
TZOFFSETTO:-0700
TZNAME:PDT
DTSTART:20270314T100000
END:DAYLIGHT
BEGIN:STANDARD
TZOFFSETFROM:-0700
TZOFFSETTO:-0800
TZNAME:PST
DTSTART:20271107T090000
END:STANDARD
END:VTIMEZONE
BEGIN:VEVENT
DTSTART;VALUE=DATE:20260516
DTEND;VALUE=DATE:20260517
DTSTAMP:20260423T122201
CREATED:20251019T231157Z
LAST-MODIFIED:20251019T231157Z
UID:13226-1778889600-1778975999@alki152.org
SUMMARY:International Order of the Rainbow Girls Ritual Competition
DESCRIPTION:
URL:https://alki152.org/event/international-order-of-the-rainbow-girls-ritual-competition/
CATEGORIES:Rainbow
END:VEVENT
BEGIN:VEVENT
DTSTART;TZID=America/Los_Angeles:20260517T140000
DTEND;TZID=America/Los_Angeles:20260517T220000
DTSTAMP:20260423T122201
CREATED:20190319T034811Z
LAST-MODIFIED:20190319T034811Z
UID:12133-1779026400-1779055200@alki152.org
SUMMARY:Seattle Swing Dance
DESCRIPTION:
URL:https://alki152.org/event/seattle-swing-dance/2026-05-17/
LOCATION:Alki Masonic Center\, 4736 40th Ave. SW\, Seattle\, WA\, 98116\, United States
CATEGORIES:Private Event
GEO:47.5600056;-122.3825589
X-APPLE-STRUCTURED-LOCATION;VALUE=URI;X-ADDRESS=Alki Masonic Center 4736 40th Ave. SW Seattle WA 98116 United States;X-APPLE-RADIUS=500;X-TITLE=4736 40th Ave. SW:geo:-122.3825589,47.5600056
END:VEVENT
BEGIN:VEVENT
DTSTART;TZID=America/Los_Angeles:20260518T190000
DTEND;TZID=America/Los_Angeles:20260518T220000
DTSTAMP:20260423T122201
CREATED:20250920T141109Z
LAST-MODIFIED:20250920T141109Z
UID:13103-1779130800-1779141600@alki152.org
SUMMARY:Public Schools Awards Night
DESCRIPTION:
URL:https://alki152.org/event/public-schools-awards-night-2/
CATEGORIES:Masonic Family,Public Event
END:VEVENT
BEGIN:VEVENT
DTSTART;TZID=America/Los_Angeles:20260520T073000
DTEND;TZID=America/Los_Angeles:20260520T083000
DTSTAMP:20260423T122201
CREATED:20250801T191519Z
LAST-MODIFIED:20250801T191519Z
UID:13551-1779262200-1779265800@alki152.org
SUMMARY:BNI Professionals
DESCRIPTION:
URL:https://alki152.org/event/bni-professionals-2/2026-05-20/
CATEGORIES:Private Event
END:VEVENT
BEGIN:VEVENT
DTSTART;TZID=America/Los_Angeles:20260521T073000
DTEND;TZID=America/Los_Angeles:20260521T093000
DTSTAMP:20260423T122201
CREATED:20250713T031856Z
LAST-MODIFIED:20260329T213320Z
UID:12993-1779348600-1779355800@alki152.org
SUMMARY:BNI Champions
DESCRIPTION:
URL:https://alki152.org/event/bni-champions-2/2026-05-21/
CATEGORIES:Private Event
END:VEVENT
BEGIN:VEVENT
DTSTART;TZID=America/Los_Angeles:20260521T100000
DTEND;TZID=America/Los_Angeles:20260521T120000
DTSTAMP:20260423T122201
CREATED:20251002T213843Z
LAST-MODIFIED:20251002T213843Z
UID:13175-1779357600-1779364800@alki152.org
SUMMARY:Alki Lodge Social Gathering
DESCRIPTION:Time set aside for members (all Lodges) and friends to gather for social interaction. No set agenda\, no pressure. Chess available. Bring a guitar if you want. Provide a fishing story or two if you must.
URL:https://alki152.org/event/alki-lodge-social-gathering/2026-05-21/
END:VEVENT
BEGIN:VEVENT
DTSTART;TZID=America/Los_Angeles:20260522T170000
DTEND;TZID=America/Los_Angeles:20260522T220000
DTSTAMP:20260423T122201
CREATED:20230123T211944Z
LAST-MODIFIED:20230123T211944Z
UID:12164-1779469200-1779487200@alki152.org
SUMMARY:Rainbow Girls
DESCRIPTION:
URL:https://alki152.org/event/rainbow-girls-33/2026-05-22/
CATEGORIES:Masonic Family
END:VEVENT
BEGIN:VEVENT
DTSTART;TZID=America/Los_Angeles:20260523T080000
DTEND;TZID=America/Los_Angeles:20260523T233000
DTSTAMP:20260423T122201
CREATED:20260105T142400Z
LAST-MODIFIED:20260105T142400Z
UID:13440-1779523200-1779579000@alki152.org
SUMMARY:Private Birthday Party
DESCRIPTION:
URL:https://alki152.org/event/private-birthday-party-3/
CATEGORIES:Private Event
END:VEVENT
BEGIN:VEVENT
DTSTART;TZID=America/Los_Angeles:20260526T160000
DTEND;TZID=America/Los_Angeles:20260526T200000
DTSTAMP:20260423T122201
CREATED:20240417T153708Z
LAST-MODIFIED:20240417T153708Z
UID:12658-1779811200-1779825600@alki152.org
SUMMARY:Amethyst Chapter Eastern Star Meeting
DESCRIPTION:
URL:https://alki152.org/event/amethyst-chapter-eastern-star-meeting/2026-05-26/
CATEGORIES:Masonic Family
END:VEVENT
BEGIN:VEVENT
DTSTART;TZID=America/Los_Angeles:20260527T073000
DTEND;TZID=America/Los_Angeles:20260527T083000
DTSTAMP:20260423T122201
CREATED:20250801T191519Z
LAST-MODIFIED:20250801T191519Z
UID:13552-1779867000-1779870600@alki152.org
SUMMARY:BNI Professionals
DESCRIPTION:
URL:https://alki152.org/event/bni-professionals-2/2026-05-27/
CATEGORIES:Private Event
END:VEVENT
BEGIN:VEVENT
DTSTART;TZID=America/Los_Angeles:20260528T073000
DTEND;TZID=America/Los_Angeles:20260528T093000
DTSTAMP:20260423T122201
CREATED:20250713T031856Z
LAST-MODIFIED:20260329T213320Z
UID:12994-1779953400-1779960600@alki152.org
SUMMARY:BNI Champions
DESCRIPTION:
URL:https://alki152.org/event/bni-champions-2/2026-05-28/
CATEGORIES:Private Event
END:VEVENT
BEGIN:VEVENT
DTSTART;TZID=America/Los_Angeles:20260528T100000
DTEND;TZID=America/Los_Angeles:20260528T120000
DTSTAMP:20260423T122201
CREATED:20251002T213843Z
LAST-MODIFIED:20251002T213843Z
UID:13176-1779962400-1779969600@alki152.org
SUMMARY:Alki Lodge Social Gathering
DESCRIPTION:Time set aside for members (all Lodges) and friends to gather for social interaction. No set agenda\, no pressure. Chess available. Bring a guitar if you want. Provide a fishing story or two if you must.
URL:https://alki152.org/event/alki-lodge-social-gathering/2026-05-28/
END:VEVENT
BEGIN:VEVENT
DTSTART;TZID=America/Los_Angeles:20260601T183000
DTEND;TZID=America/Los_Angeles:20260601T213000
DTSTAMP:20260423T122201
CREATED:20241118T202924Z
LAST-MODIFIED:20241118T202924Z
UID:12072-1780338600-1780349400@alki152.org
SUMMARY:Alki Lodge #152
DESCRIPTION:
URL:https://alki152.org/event/alki-lodge-152/2026-06-01/
CATEGORIES:Alki Lodge
END:VEVENT
BEGIN:VEVENT
DTSTART;TZID=America/Los_Angeles:20260603T073000
DTEND;TZID=America/Los_Angeles:20260603T083000
DTSTAMP:20260423T122201
CREATED:20250801T191519Z
LAST-MODIFIED:20260329T212959Z
UID:13023-1780471800-1780475400@alki152.org
SUMMARY:BNI Professionals
DESCRIPTION:
URL:https://alki152.org/event/bni-professionals-2/2026-06-03/
CATEGORIES:Private Event
END:VEVENT
BEGIN:VEVENT
DTSTART;TZID=America/Los_Angeles:20260604T073000
DTEND;TZID=America/Los_Angeles:20260604T093000
DTSTAMP:20260423T122201
CREATED:20250713T031856Z
LAST-MODIFIED:20260329T213320Z
UID:12995-1780558200-1780565400@alki152.org
SUMMARY:BNI Champions
DESCRIPTION:
URL:https://alki152.org/event/bni-champions-2/2026-06-04/
CATEGORIES:Private Event
END:VEVENT
BEGIN:VEVENT
DTSTART;TZID=America/Los_Angeles:20260604T100000
DTEND;TZID=America/Los_Angeles:20260604T120000
DTSTAMP:20260423T122201
CREATED:20251002T213843Z
LAST-MODIFIED:20251002T213843Z
UID:13177-1780567200-1780574400@alki152.org
SUMMARY:Alki Lodge Social Gathering
DESCRIPTION:Time set aside for members (all Lodges) and friends to gather for social interaction. No set agenda\, no pressure. Chess available. Bring a guitar if you want. Provide a fishing story or two if you must.
URL:https://alki152.org/event/alki-lodge-social-gathering/2026-06-04/
END:VEVENT
BEGIN:VEVENT
DTSTART;TZID=America/Los_Angeles:20260604T150000
DTEND;TZID=America/Los_Angeles:20260604T220000
DTSTAMP:20260423T122201
CREATED:20260326T223025Z
LAST-MODIFIED:20260326T223025Z
UID:13510-1780585200-1780610400@alki152.org
SUMMARY:West Seattle Baseball
DESCRIPTION:
URL:https://alki152.org/event/west-seattle-baseball-4/
CATEGORIES:Private Event
END:VEVENT
BEGIN:VEVENT
DTSTART;TZID=America/Los_Angeles:20260605T160000
DTEND;TZID=America/Los_Angeles:20260605T230000
DTSTAMP:20260423T122201
CREATED:20130628T211109Z
LAST-MODIFIED:20130628T211109Z
UID:12155-1780675200-1780700400@alki152.org
SUMMARY:Amaranth - Alki Court
DESCRIPTION:
URL:https://alki152.org/event/amaranth-westgate-court-2015-12-04-2016-12-02-2017-12-01/2026-06-05/
LOCATION:Alki Masonic Center\, 4736 40th Ave. SW\, Seattle\, WA\, 98116\, United States
CATEGORIES:Masonic Family,Westgate
ORGANIZER;CN="Sue Gibbs":MAILTO:westgateevents21@gmail.com
GEO:47.5600056;-122.3825589
X-APPLE-STRUCTURED-LOCATION;VALUE=URI;X-ADDRESS=Alki Masonic Center 4736 40th Ave. SW Seattle WA 98116 United States;X-APPLE-RADIUS=500;X-TITLE=4736 40th Ave. SW:geo:-122.3825589,47.5600056
END:VEVENT
BEGIN:VEVENT
DTSTART;TZID=America/Los_Angeles:20260606T080000
DTEND;TZID=America/Los_Angeles:20260606T233000
DTSTAMP:20260423T122201
CREATED:20260417T125837Z
LAST-MODIFIED:20260417T125837Z
UID:13688-1780732800-1780788600@alki152.org
SUMMARY:Graduation Party
DESCRIPTION:
URL:https://alki152.org/event/graduation-party-9/
CATEGORIES:Private Event
END:VEVENT
BEGIN:VEVENT
DTSTART;TZID=America/Los_Angeles:20260607T140000
DTEND;TZID=America/Los_Angeles:20260607T220000
DTSTAMP:20260423T122201
CREATED:20190319T034811Z
LAST-MODIFIED:20190319T034811Z
UID:12124-1780840800-1780869600@alki152.org
SUMMARY:Seattle Swing Dance
DESCRIPTION:
URL:https://alki152.org/event/seattle-swing-dance/2026-06-07/
LOCATION:Alki Masonic Center\, 4736 40th Ave. SW\, Seattle\, WA\, 98116\, United States
CATEGORIES:Private Event
GEO:47.5600056;-122.3825589
X-APPLE-STRUCTURED-LOCATION;VALUE=URI;X-ADDRESS=Alki Masonic Center 4736 40th Ave. SW Seattle WA 98116 United States;X-APPLE-RADIUS=500;X-TITLE=4736 40th Ave. SW:geo:-122.3825589,47.5600056
END:VEVENT
BEGIN:VEVENT
DTSTART;TZID=America/Los_Angeles:20260609T100000
DTEND;TZID=America/Los_Angeles:20260609T163000
DTSTAMP:20260423T122201
CREATED:20260307T224143Z
LAST-MODIFIED:20260307T224143Z
UID:13495-1780999200-1781022600@alki152.org
SUMMARY:Longshoreman Union Luncheon
DESCRIPTION:
URL:https://alki152.org/event/longshoreman-union-luncheon/
CATEGORIES:Private Event
END:VEVENT
BEGIN:VEVENT
DTSTART;TZID=America/Los_Angeles:20260610T073000
DTEND;TZID=America/Los_Angeles:20260610T083000
DTSTAMP:20260423T122201
CREATED:20250801T191519Z
LAST-MODIFIED:20250801T191519Z
UID:13553-1781076600-1781080200@alki152.org
SUMMARY:BNI Professionals
DESCRIPTION:
URL:https://alki152.org/event/bni-professionals-2/2026-06-10/
CATEGORIES:Private Event
END:VEVENT
BEGIN:VEVENT
DTSTART;TZID=America/Los_Angeles:20260611T073000
DTEND;TZID=America/Los_Angeles:20260611T093000
DTSTAMP:20260423T122201
CREATED:20250713T031856Z
LAST-MODIFIED:20260329T213320Z
UID:12996-1781163000-1781170200@alki152.org
SUMMARY:BNI Champions
DESCRIPTION:
URL:https://alki152.org/event/bni-champions-2/2026-06-11/
CATEGORIES:Private Event
END:VEVENT
BEGIN:VEVENT
DTSTART;TZID=America/Los_Angeles:20260611T100000
DTEND;TZID=America/Los_Angeles:20260611T120000
DTSTAMP:20260423T122201
CREATED:20251002T213843Z
LAST-MODIFIED:20251002T213843Z
UID:13178-1781172000-1781179200@alki152.org
SUMMARY:Alki Lodge Social Gathering
DESCRIPTION:Time set aside for members (all Lodges) and friends to gather for social interaction. No set agenda\, no pressure. Chess available. Bring a guitar if you want. Provide a fishing story or two if you must.
URL:https://alki152.org/event/alki-lodge-social-gathering/2026-06-11/
END:VEVENT
BEGIN:VEVENT
DTSTART;TZID=America/Los_Angeles:20260612T170000
DTEND;TZID=America/Los_Angeles:20260612T220000
DTSTAMP:20260423T122201
CREATED:20230328T145554Z
LAST-MODIFIED:20230328T145554Z
UID:12173-1781283600-1781301600@alki152.org
SUMMARY:Rainbow Girls
DESCRIPTION:
URL:https://alki152.org/event/rainbow-girls-34/2026-06-12/
CATEGORIES:Masonic Family
END:VEVENT
BEGIN:VEVENT
DTSTART;TZID=America/Los_Angeles:20260613T100000
DTEND;TZID=America/Los_Angeles:20260613T233000
DTSTAMP:20260423T122201
CREATED:20260307T224239Z
LAST-MODIFIED:20260307T224239Z
UID:13497-1781344800-1781393400@alki152.org
SUMMARY:Private Party
DESCRIPTION:
URL:https://alki152.org/event/private-party-11/
CATEGORIES:Private Event
END:VEVENT
BEGIN:VEVENT
DTSTART;TZID=America/Los_Angeles:20260617T073000
DTEND;TZID=America/Los_Angeles:20260617T083000
DTSTAMP:20260423T122201
CREATED:20250801T191519Z
LAST-MODIFIED:20250801T191519Z
UID:13554-1781681400-1781685000@alki152.org
SUMMARY:BNI Professionals
DESCRIPTION:
URL:https://alki152.org/event/bni-professionals-2/2026-06-17/
CATEGORIES:Private Event
END:VEVENT
BEGIN:VEVENT
DTSTART;TZID=America/Los_Angeles:20260618T073000
DTEND;TZID=America/Los_Angeles:20260618T093000
DTSTAMP:20260423T122201
CREATED:20250713T031856Z
LAST-MODIFIED:20260329T213320Z
UID:12997-1781767800-1781775000@alki152.org
SUMMARY:BNI Champions
DESCRIPTION:
URL:https://alki152.org/event/bni-champions-2/2026-06-18/
CATEGORIES:Private Event
END:VEVENT
BEGIN:VEVENT
DTSTART;TZID=America/Los_Angeles:20260618T100000
DTEND;TZID=America/Los_Angeles:20260618T120000
DTSTAMP:20260423T122201
CREATED:20251002T213843Z
LAST-MODIFIED:20251002T213843Z
UID:13179-1781776800-1781784000@alki152.org
SUMMARY:Alki Lodge Social Gathering
DESCRIPTION:Time set aside for members (all Lodges) and friends to gather for social interaction. No set agenda\, no pressure. Chess available. Bring a guitar if you want. Provide a fishing story or two if you must.
URL:https://alki152.org/event/alki-lodge-social-gathering/2026-06-18/
END:VEVENT
BEGIN:VEVENT
DTSTART;TZID=America/Los_Angeles:20260621T140000
DTEND;TZID=America/Los_Angeles:20260621T220000
DTSTAMP:20260423T122201
CREATED:20190319T034811Z
LAST-MODIFIED:20190319T034811Z
UID:12134-1782050400-1782079200@alki152.org
SUMMARY:Seattle Swing Dance
DESCRIPTION:
URL:https://alki152.org/event/seattle-swing-dance/2026-06-21/
LOCATION:Alki Masonic Center\, 4736 40th Ave. SW\, Seattle\, WA\, 98116\, United States
CATEGORIES:Private Event
GEO:47.5600056;-122.3825589
X-APPLE-STRUCTURED-LOCATION;VALUE=URI;X-ADDRESS=Alki Masonic Center 4736 40th Ave. SW Seattle WA 98116 United States;X-APPLE-RADIUS=500;X-TITLE=4736 40th Ave. SW:geo:-122.3825589,47.5600056
END:VEVENT
END:VCALENDAR