BEGIN:VCALENDAR
VERSION:2.0
PRODID:-//Alki Masonic Lodge #152 - ECPv6.15.20//NONSGML v1.0//EN
CALSCALE:GREGORIAN
METHOD:PUBLISH
X-WR-CALNAME:Alki Masonic Lodge #152
X-ORIGINAL-URL:https://alki152.org
X-WR-CALDESC:Events for Alki Masonic Lodge #152
REFRESH-INTERVAL;VALUE=DURATION:PT1H
X-Robots-Tag:noindex
X-PUBLISHED-TTL:PT1H
BEGIN:VTIMEZONE
TZID:America/Los_Angeles
BEGIN:DAYLIGHT
TZOFFSETFROM:-0800
TZOFFSETTO:-0700
TZNAME:PDT
DTSTART:20250309T100000
END:DAYLIGHT
BEGIN:STANDARD
TZOFFSETFROM:-0700
TZOFFSETTO:-0800
TZNAME:PST
DTSTART:20251102T090000
END:STANDARD
BEGIN:DAYLIGHT
TZOFFSETFROM:-0800
TZOFFSETTO:-0700
TZNAME:PDT
DTSTART:20260308T100000
END:DAYLIGHT
BEGIN:STANDARD
TZOFFSETFROM:-0700
TZOFFSETTO:-0800
TZNAME:PST
DTSTART:20261101T090000
END:STANDARD
BEGIN:DAYLIGHT
TZOFFSETFROM:-0800
TZOFFSETTO:-0700
TZNAME:PDT
DTSTART:20270314T100000
END:DAYLIGHT
BEGIN:STANDARD
TZOFFSETFROM:-0700
TZOFFSETTO:-0800
TZNAME:PST
DTSTART:20271107T090000
END:STANDARD
END:VTIMEZONE
BEGIN:VEVENT
DTSTART;TZID=America/Los_Angeles:20260423T073000
DTEND;TZID=America/Los_Angeles:20260423T093000
DTSTAMP:20260423T051833
CREATED:20250713T031856Z
LAST-MODIFIED:20260329T213319Z
UID:12989-1776929400-1776936600@alki152.org
SUMMARY:BNI Champions
DESCRIPTION:
URL:https://alki152.org/event/bni-champions-2/2026-04-23/
CATEGORIES:Private Event
END:VEVENT
BEGIN:VEVENT
DTSTART;TZID=America/Los_Angeles:20260423T100000
DTEND;TZID=America/Los_Angeles:20260423T120000
DTSTAMP:20260423T051833
CREATED:20251002T213843Z
LAST-MODIFIED:20251002T213843Z
UID:13171-1776938400-1776945600@alki152.org
SUMMARY:Alki Lodge Social Gathering
DESCRIPTION:Time set aside for members (all Lodges) and friends to gather for social interaction. No set agenda\, no pressure. Chess available. Bring a guitar if you want. Provide a fishing story or two if you must.
URL:https://alki152.org/event/alki-lodge-social-gathering/2026-04-23/
END:VEVENT
BEGIN:VEVENT
DTSTART;VALUE=DATE:20260424
DTEND;VALUE=DATE:20260425
DTSTAMP:20260423T051833
CREATED:20250425T010837Z
LAST-MODIFIED:20250425T010837Z
UID:12843-1776988800-1777075199@alki152.org
SUMMARY:West Seattle Rock Club
DESCRIPTION:
URL:https://alki152.org/event/west-seattle-rock-club-13/2026-04-24/
CATEGORIES:Private Event
END:VEVENT
BEGIN:VEVENT
DTSTART;TZID=America/Los_Angeles:20260424T170000
DTEND;TZID=America/Los_Angeles:20260424T200000
DTSTAMP:20260423T051833
CREATED:20230123T215034Z
LAST-MODIFIED:20260307T224527Z
UID:12816-1777050000-1777060800@alki152.org
SUMMARY:West Seattle Yacht Club
DESCRIPTION:Contact: Dori Schnelz 206-851-8067\, dmschnelz@gmail.com
URL:https://alki152.org/event/west-seattle-yacht-club-19-2026-04-17/
END:VEVENT
BEGIN:VEVENT
DTSTART;TZID=America/Los_Angeles:20260424T170000
DTEND;TZID=America/Los_Angeles:20260424T220000
DTSTAMP:20260423T051833
CREATED:20230123T211944Z
LAST-MODIFIED:20230123T211944Z
UID:12163-1777050000-1777068000@alki152.org
SUMMARY:Rainbow Girls
DESCRIPTION:
URL:https://alki152.org/event/rainbow-girls-33/2026-04-24/
CATEGORIES:Masonic Family
END:VEVENT
BEGIN:VEVENT
DTSTART;VALUE=DATE:20260425
DTEND;VALUE=DATE:20260426
DTSTAMP:20260423T051833
CREATED:20250425T010837Z
LAST-MODIFIED:20250425T010837Z
UID:12844-1777075200-1777161599@alki152.org
SUMMARY:West Seattle Rock Club
DESCRIPTION:
URL:https://alki152.org/event/west-seattle-rock-club-13/2026-04-25/
CATEGORIES:Private Event
END:VEVENT
BEGIN:VEVENT
DTSTART;VALUE=DATE:20260426
DTEND;VALUE=DATE:20260427
DTSTAMP:20260423T051833
CREATED:20250425T010837Z
LAST-MODIFIED:20250425T010837Z
UID:12845-1777161600-1777247999@alki152.org
SUMMARY:West Seattle Rock Club
DESCRIPTION:
URL:https://alki152.org/event/west-seattle-rock-club-13/2026-04-26/
CATEGORIES:Private Event
END:VEVENT
BEGIN:VEVENT
DTSTART;TZID=America/Los_Angeles:20260428T160000
DTEND;TZID=America/Los_Angeles:20260428T200000
DTSTAMP:20260423T051833
CREATED:20240417T153708Z
LAST-MODIFIED:20240417T153708Z
UID:12657-1777392000-1777406400@alki152.org
SUMMARY:Amethyst Chapter Eastern Star Meeting
DESCRIPTION:
URL:https://alki152.org/event/amethyst-chapter-eastern-star-meeting/2026-04-28/
CATEGORIES:Masonic Family
END:VEVENT
BEGIN:VEVENT
DTSTART;TZID=America/Los_Angeles:20260429T073000
DTEND;TZID=America/Los_Angeles:20260429T083000
DTSTAMP:20260423T051833
CREATED:20250801T191519Z
LAST-MODIFIED:20250801T191519Z
UID:13549-1777447800-1777451400@alki152.org
SUMMARY:BNI Professionals
DESCRIPTION:
URL:https://alki152.org/event/bni-professionals-2/2026-04-29/
CATEGORIES:Private Event
END:VEVENT
BEGIN:VEVENT
DTSTART;TZID=America/Los_Angeles:20260430T073000
DTEND;TZID=America/Los_Angeles:20260430T093000
DTSTAMP:20260423T051833
CREATED:20250713T031856Z
LAST-MODIFIED:20260329T213319Z
UID:12990-1777534200-1777541400@alki152.org
SUMMARY:BNI Champions
DESCRIPTION:
URL:https://alki152.org/event/bni-champions-2/2026-04-30/
CATEGORIES:Private Event
END:VEVENT
BEGIN:VEVENT
DTSTART;TZID=America/Los_Angeles:20260430T100000
DTEND;TZID=America/Los_Angeles:20260430T120000
DTSTAMP:20260423T051833
CREATED:20251002T213843Z
LAST-MODIFIED:20251002T213843Z
UID:13172-1777543200-1777550400@alki152.org
SUMMARY:Alki Lodge Social Gathering
DESCRIPTION:Time set aside for members (all Lodges) and friends to gather for social interaction. No set agenda\, no pressure. Chess available. Bring a guitar if you want. Provide a fishing story or two if you must.
URL:https://alki152.org/event/alki-lodge-social-gathering/2026-04-30/
END:VEVENT
BEGIN:VEVENT
DTSTART;TZID=America/Los_Angeles:20260501T160000
DTEND;TZID=America/Los_Angeles:20260501T230000
DTSTAMP:20260423T051833
CREATED:20130628T211109Z
LAST-MODIFIED:20130628T211109Z
UID:12154-1777651200-1777676400@alki152.org
SUMMARY:Amaranth - Alki Court
DESCRIPTION:
URL:https://alki152.org/event/amaranth-westgate-court-2015-12-04-2016-12-02-2017-12-01/2026-05-01/
LOCATION:Alki Masonic Center\, 4736 40th Ave. SW\, Seattle\, WA\, 98116\, United States
CATEGORIES:Masonic Family,Westgate
ORGANIZER;CN="Sue Gibbs":MAILTO:westgateevents21@gmail.com
GEO:47.5600056;-122.3825589
X-APPLE-STRUCTURED-LOCATION;VALUE=URI;X-ADDRESS=Alki Masonic Center 4736 40th Ave. SW Seattle WA 98116 United States;X-APPLE-RADIUS=500;X-TITLE=4736 40th Ave. SW:geo:-122.3825589,47.5600056
END:VEVENT
BEGIN:VEVENT
DTSTART;TZID=America/Los_Angeles:20260502T140000
DTEND;TZID=America/Los_Angeles:20260502T220000
DTSTAMP:20260423T051833
CREATED:20230123T214146Z
LAST-MODIFIED:20230123T214146Z
UID:12149-1777730400-1777759200@alki152.org
SUMMARY:Lodge Alba Stated Meeting
DESCRIPTION:
URL:https://alki152.org/event/lodge-alba-stated-meeting-10/2026-05-02/
CATEGORIES:Lodge Alba
END:VEVENT
BEGIN:VEVENT
DTSTART;TZID=America/Los_Angeles:20260503T080000
DTEND;TZID=America/Los_Angeles:20260503T100000
DTSTAMP:20260423T051833
CREATED:20250920T140955Z
LAST-MODIFIED:20250920T140955Z
UID:13101-1777795200-1777802400@alki152.org
SUMMARY:Alki Lodge #152 First Sunday Breakfast
DESCRIPTION:
URL:https://alki152.org/event/alki-lodge-152-first-sunday-breakfast-3/
CATEGORIES:Masonic Family,Public Event
END:VEVENT
BEGIN:VEVENT
DTSTART;TZID=America/Los_Angeles:20260503T140000
DTEND;TZID=America/Los_Angeles:20260503T220000
DTSTAMP:20260423T051833
CREATED:20190319T034811Z
LAST-MODIFIED:20190319T034811Z
UID:12123-1777816800-1777845600@alki152.org
SUMMARY:Seattle Swing Dance
DESCRIPTION:
URL:https://alki152.org/event/seattle-swing-dance/2026-05-03/
LOCATION:Alki Masonic Center\, 4736 40th Ave. SW\, Seattle\, WA\, 98116\, United States
CATEGORIES:Private Event
GEO:47.5600056;-122.3825589
X-APPLE-STRUCTURED-LOCATION;VALUE=URI;X-ADDRESS=Alki Masonic Center 4736 40th Ave. SW Seattle WA 98116 United States;X-APPLE-RADIUS=500;X-TITLE=4736 40th Ave. SW:geo:-122.3825589,47.5600056
END:VEVENT
BEGIN:VEVENT
DTSTART;TZID=America/Los_Angeles:20260504T183000
DTEND;TZID=America/Los_Angeles:20260504T213000
DTSTAMP:20260423T051833
CREATED:20241118T202924Z
LAST-MODIFIED:20241118T202924Z
UID:12071-1777919400-1777930200@alki152.org
SUMMARY:Alki Lodge #152
DESCRIPTION:
URL:https://alki152.org/event/alki-lodge-152/2026-05-04/
CATEGORIES:Alki Lodge
END:VEVENT
BEGIN:VEVENT
DTSTART;TZID=America/Los_Angeles:20260506T073000
DTEND;TZID=America/Los_Angeles:20260506T083000
DTSTAMP:20260423T051833
CREATED:20250801T191519Z
LAST-MODIFIED:20260329T212959Z
UID:13022-1778052600-1778056200@alki152.org
SUMMARY:BNI Professionals
DESCRIPTION:
URL:https://alki152.org/event/bni-professionals-2/2026-05-06/
CATEGORIES:Private Event
END:VEVENT
BEGIN:VEVENT
DTSTART;TZID=America/Los_Angeles:20260507T073000
DTEND;TZID=America/Los_Angeles:20260507T093000
DTSTAMP:20260423T051833
CREATED:20250713T031856Z
LAST-MODIFIED:20260329T213319Z
UID:12991-1778139000-1778146200@alki152.org
SUMMARY:BNI Champions
DESCRIPTION:
URL:https://alki152.org/event/bni-champions-2/2026-05-07/
CATEGORIES:Private Event
END:VEVENT
BEGIN:VEVENT
DTSTART;TZID=America/Los_Angeles:20260507T100000
DTEND;TZID=America/Los_Angeles:20260507T120000
DTSTAMP:20260423T051833
CREATED:20251002T213843Z
LAST-MODIFIED:20251002T213843Z
UID:13173-1778148000-1778155200@alki152.org
SUMMARY:Alki Lodge Social Gathering
DESCRIPTION:Time set aside for members (all Lodges) and friends to gather for social interaction. No set agenda\, no pressure. Chess available. Bring a guitar if you want. Provide a fishing story or two if you must.
URL:https://alki152.org/event/alki-lodge-social-gathering/2026-05-07/
END:VEVENT
BEGIN:VEVENT
DTSTART;TZID=America/Los_Angeles:20260508T170000
DTEND;TZID=America/Los_Angeles:20260508T220000
DTSTAMP:20260423T051833
CREATED:20230328T145554Z
LAST-MODIFIED:20230328T145554Z
UID:12172-1778259600-1778277600@alki152.org
SUMMARY:Rainbow Girls
DESCRIPTION:
URL:https://alki152.org/event/rainbow-girls-34/2026-05-08/
CATEGORIES:Masonic Family
END:VEVENT
BEGIN:VEVENT
DTSTART;TZID=America/Los_Angeles:20260509T060000
DTEND;TZID=America/Los_Angeles:20260509T140000
DTSTAMP:20260423T051833
CREATED:20250807T041136Z
LAST-MODIFIED:20250807T041136Z
UID:13036-1778306400-1778335200@alki152.org
SUMMARY:PNW Tool Collectors
DESCRIPTION:
URL:https://alki152.org/event/pnw-tool-collectors-3/
CATEGORIES:Public Event
END:VEVENT
BEGIN:VEVENT
DTSTART;TZID=America/Los_Angeles:20260509T150000
DTEND;TZID=America/Los_Angeles:20260509T233000
DTSTAMP:20260423T051833
CREATED:20260326T222845Z
LAST-MODIFIED:20260326T222845Z
UID:13508-1778338800-1778369400@alki152.org
SUMMARY:Private Party
DESCRIPTION:
URL:https://alki152.org/event/private-party-12/
CATEGORIES:Private Event
END:VEVENT
BEGIN:VEVENT
DTSTART;TZID=America/Los_Angeles:20260513T073000
DTEND;TZID=America/Los_Angeles:20260513T083000
DTSTAMP:20260423T051833
CREATED:20250801T191519Z
LAST-MODIFIED:20250801T191519Z
UID:13550-1778657400-1778661000@alki152.org
SUMMARY:BNI Professionals
DESCRIPTION:
URL:https://alki152.org/event/bni-professionals-2/2026-05-13/
CATEGORIES:Private Event
END:VEVENT
BEGIN:VEVENT
DTSTART;TZID=America/Los_Angeles:20260514T073000
DTEND;TZID=America/Los_Angeles:20260514T093000
DTSTAMP:20260423T051833
CREATED:20250713T031856Z
LAST-MODIFIED:20260329T213320Z
UID:12992-1778743800-1778751000@alki152.org
SUMMARY:BNI Champions
DESCRIPTION:
URL:https://alki152.org/event/bni-champions-2/2026-05-14/
CATEGORIES:Private Event
END:VEVENT
BEGIN:VEVENT
DTSTART;TZID=America/Los_Angeles:20260514T090000
DTEND;TZID=America/Los_Angeles:20260514T170000
DTSTAMP:20260423T051833
CREATED:20260410T205743Z
LAST-MODIFIED:20260410T205743Z
UID:13683-1778749200-1778778000@alki152.org
SUMMARY:Northwest Blood Works
DESCRIPTION:
URL:https://alki152.org/event/northwest-blood-works/
END:VEVENT
BEGIN:VEVENT
DTSTART;TZID=America/Los_Angeles:20260514T100000
DTEND;TZID=America/Los_Angeles:20260514T120000
DTSTAMP:20260423T051833
CREATED:20251002T213843Z
LAST-MODIFIED:20251002T213843Z
UID:13174-1778752800-1778760000@alki152.org
SUMMARY:Alki Lodge Social Gathering
DESCRIPTION:Time set aside for members (all Lodges) and friends to gather for social interaction. No set agenda\, no pressure. Chess available. Bring a guitar if you want. Provide a fishing story or two if you must.
URL:https://alki152.org/event/alki-lodge-social-gathering/2026-05-14/
END:VEVENT
BEGIN:VEVENT
DTSTART;TZID=America/Los_Angeles:20260515T170000
DTEND;TZID=America/Los_Angeles:20260515T200000
DTSTAMP:20260423T051833
CREATED:20230123T215034Z
LAST-MODIFIED:20230123T215034Z
UID:12817-1778864400-1778875200@alki152.org
SUMMARY:West Seattle Yacht Club
DESCRIPTION:Contact: Dori Schnelz 206-851-8067\, dmschnelz@gmail.com
URL:https://alki152.org/event/west-seattle-yacht-club-19/2026-05-15/
END:VEVENT
BEGIN:VEVENT
DTSTART;VALUE=DATE:20260516
DTEND;VALUE=DATE:20260517
DTSTAMP:20260423T051833
CREATED:20251019T231157Z
LAST-MODIFIED:20251019T231157Z
UID:13226-1778889600-1778975999@alki152.org
SUMMARY:International Order of the Rainbow Girls Ritual Competition
DESCRIPTION:
URL:https://alki152.org/event/international-order-of-the-rainbow-girls-ritual-competition/
CATEGORIES:Rainbow
END:VEVENT
BEGIN:VEVENT
DTSTART;TZID=America/Los_Angeles:20260517T140000
DTEND;TZID=America/Los_Angeles:20260517T220000
DTSTAMP:20260423T051833
CREATED:20190319T034811Z
LAST-MODIFIED:20190319T034811Z
UID:12133-1779026400-1779055200@alki152.org
SUMMARY:Seattle Swing Dance
DESCRIPTION:
URL:https://alki152.org/event/seattle-swing-dance/2026-05-17/
LOCATION:Alki Masonic Center\, 4736 40th Ave. SW\, Seattle\, WA\, 98116\, United States
CATEGORIES:Private Event
GEO:47.5600056;-122.3825589
X-APPLE-STRUCTURED-LOCATION;VALUE=URI;X-ADDRESS=Alki Masonic Center 4736 40th Ave. SW Seattle WA 98116 United States;X-APPLE-RADIUS=500;X-TITLE=4736 40th Ave. SW:geo:-122.3825589,47.5600056
END:VEVENT
BEGIN:VEVENT
DTSTART;TZID=America/Los_Angeles:20260518T190000
DTEND;TZID=America/Los_Angeles:20260518T220000
DTSTAMP:20260423T051833
CREATED:20250920T141109Z
LAST-MODIFIED:20250920T141109Z
UID:13103-1779130800-1779141600@alki152.org
SUMMARY:Public Schools Awards Night
DESCRIPTION:
URL:https://alki152.org/event/public-schools-awards-night-2/
CATEGORIES:Masonic Family,Public Event
END:VEVENT
END:VCALENDAR